BEGIN:VCALENDAR
VERSION:2.0
PRODID:-//9th Vancouver Pathfinders - ECPv6.11.0.1//NONSGML v1.0//EN
CALSCALE:GREGORIAN
METHOD:PUBLISH
X-WR-CALNAME:9th Vancouver Pathfinders
X-ORIGINAL-URL:https://9thvancouverpathfinders.ca
X-WR-CALDESC:Events for 9th Vancouver Pathfinders
REFRESH-INTERVAL;VALUE=DURATION:PT1H
X-Robots-Tag:noindex
X-PUBLISHED-TTL:PT1H
BEGIN:VTIMEZONE
TZID:America/Vancouver
BEGIN:DAYLIGHT
TZOFFSETFROM:-0800
TZOFFSETTO:-0700
TZNAME:PDT
DTSTART:20210314T100000
END:DAYLIGHT
BEGIN:STANDARD
TZOFFSETFROM:-0700
TZOFFSETTO:-0800
TZNAME:PST
DTSTART:20211107T090000
END:STANDARD
BEGIN:DAYLIGHT
TZOFFSETFROM:-0800
TZOFFSETTO:-0700
TZNAME:PDT
DTSTART:20220313T100000
END:DAYLIGHT
BEGIN:STANDARD
TZOFFSETFROM:-0700
TZOFFSETTO:-0800
TZNAME:PST
DTSTART:20221106T090000
END:STANDARD
END:VTIMEZONE
BEGIN:VEVENT
DTSTART;TZID=America/Vancouver:20220601T173000
DTEND;TZID=America/Vancouver:20220601T193000
DTSTAMP:20260419T111416
CREATED:20220313T161057Z
LAST-MODIFIED:20220519T012637Z
UID:3015-1654104600-1654111800@9thvancouverpathfinders.ca
SUMMARY:NOTE EARLY START: VanDusen Gardens EcoChallenge
DESCRIPTION:We’re heading to beloved Vancouver attraction VanDusen Gardens to try out their brand-new eco challenge and enjoy some time in nature! \nCome dressed for the weather\, as this activity will be fully outdoors. \nThis event costs $5 to attend. Forms and payment are due June 1 (on site). \n\nSG1-2021-EN VanDusen Gardens June 1 2022\nSG2-2018-EN VanDusen Gardens 
URL:https://9thvancouverpathfinders.ca/event/year-end-celebration-final-meeting-of-2022/
LOCATION:VanDusen Botanical Gardens\, 5151 Oak Street\, Vanncouver\, BC\, Canada
CATEGORIES:Regular Meeting,Special Event
END:VEVENT
BEGIN:VEVENT
DTSTART;TZID=America/Vancouver:20220525T184500
DTEND;TZID=America/Vancouver:20220525T203000
DTSTAMP:20260419T111416
CREATED:20220317T034957Z
LAST-MODIFIED:20220524T232559Z
UID:3030-1653504300-1653510600@9thvancouverpathfinders.ca
SUMMARY:Bridging Event with the 1st Rangers
DESCRIPTION:This week\, we are heading to Trout Lake for a fun outdoor bridging event featuring snacks\, games and surprises with the 1st Rangers! \nBring your headlamp\, and come dressed for the weather! \nMeet at the Trout Lake parking lot\, entrance off 19th Ave\, near the concessions stand\, on the south side of the park.  Pick up will be from the same place.
URL:https://9thvancouverpathfinders.ca/event/regular-meeting-more-info-to-come-2/
LOCATION:Trout Lake Park\, Meet at Trout Lake Concession Stand on south end of park (enter from 19th and Lakewood)\, Vancouver\, BC\, Canada
CATEGORIES:Regular Meeting
END:VEVENT
BEGIN:VEVENT
DTSTART;TZID=America/Vancouver:20220518T184500
DTEND;TZID=America/Vancouver:20220518T203000
DTSTAMP:20260419T111416
CREATED:20220317T035327Z
LAST-MODIFIED:20220317T035327Z
UID:3033-1652899500-1652905800@9thvancouverpathfinders.ca
SUMMARY:Different Together Activities
DESCRIPTION:More info to come!
URL:https://9thvancouverpathfinders.ca/event/different-together-activities/
LOCATION:St. Thomas Anglican\, 2444 East 41st Ave.\, Vancouver\, BC\, Canada
CATEGORIES:Regular Meeting
END:VEVENT
BEGIN:VEVENT
DTSTART;TZID=America/Vancouver:20220511T184500
DTEND;TZID=America/Vancouver:20220511T203000
DTSTAMP:20260419T111416
CREATED:20220317T034302Z
LAST-MODIFIED:20220511T235927Z
UID:3026-1652294700-1652301000@9thvancouverpathfinders.ca
SUMMARY:ONLINE: Going Global International Activity Extravaganza
DESCRIPTION:This will be a fun evening of songs and activities from the countries in which the WAGGGS World Centres are located! \nHere is the online meeting information: \nMicrosoft Teams meeting\n\nJoin on your computer or mobile app\nClick here to join the meeting \n\n\nOr call in (audio only)\n+1 647-738-5322\,\,866651472#   Canada\, Toronto\n\nPhone Conference ID: 866 651 472# \nFind a local number | Reset PIN\nLearn More | Meeting options
URL:https://9thvancouverpathfinders.ca/event/regular-meeting-more-info-to-come/
LOCATION:St. Thomas Anglican\, 2444 East 41st Ave.\, Vancouver\, BC\, Canada
CATEGORIES:Regular Meeting
END:VEVENT
BEGIN:VEVENT
DTSTART;TZID=America/Vancouver:20220504T184500
DTEND;TZID=America/Vancouver:20220504T203000
DTSTAMP:20260419T111416
CREATED:20220317T033846Z
LAST-MODIFIED:20220413T013144Z
UID:3021-1651689900-1651696200@9thvancouverpathfinders.ca
SUMMARY:Keep Vancouver Spectacular! Neighbourhood Clean-Up
DESCRIPTION:We’re doing a neighbourhood clean up as a service project! Part of the Keep Vancouver Spectacular! program\, we’ll be patrolling the streets near the church to pick up litter\, and contribute to a cleaner and more welcoming environment.  \nCome dressed for the weather\, as we’ll be outside the whole time!
URL:https://9thvancouverpathfinders.ca/event/regular-meeting-56/
LOCATION:BC
CATEGORIES:Regular Meeting
END:VEVENT
BEGIN:VEVENT
DTSTART;TZID=America/Vancouver:20220420T170000
DTEND;TZID=America/Vancouver:20220420T190000
DTSTAMP:20260419T111416
CREATED:20220313T160901Z
LAST-MODIFIED:20220420T184206Z
UID:3011-1650474000-1650481200@9thvancouverpathfinders.ca
SUMMARY:CANCELLED - Cookie Selling is postponed
DESCRIPTION:We’re selling cookies! \nWe have a number of cases of cookies to sell\, so please come to support this important initiative and fundraiser for the unit. \nIf you’d like another case to sell on your own\, please let Karla or Christa know and we’ll bring one for you. \nMeet at the east side of Joyce Street\, near the bike lockers\, at 5 pm. Pick up will be at the same place at 7 pm. Come dressed for the weather\, and wear your uniform. A scarf is a great addition\, if you have one.
URL:https://9thvancouverpathfinders.ca/event/regular-meeting-54/
LOCATION:Joyce Skytrain Station\, Joyce @ Vanness Ave\, Vancouver\, BC\, Canada
CATEGORIES:Cookie Selling,Regular Meeting
END:VEVENT
BEGIN:VEVENT
DTSTART;TZID=America/Vancouver:20220413T184500
DTEND;TZID=America/Vancouver:20220413T203000
DTSTAMP:20260419T111416
CREATED:20220313T160950Z
LAST-MODIFIED:20220412T144032Z
UID:3013-1649875500-1649881800@9thvancouverpathfinders.ca
SUMMARY:Canada Cord work and summer fun planning
DESCRIPTION:More info to come!
URL:https://9thvancouverpathfinders.ca/event/regular-meeting-55/
LOCATION:St. Thomas Anglican\, 2444 East 41st Ave.\, Vancouver\, BC\, Canada
CATEGORIES:Regular Meeting
END:VEVENT
BEGIN:VEVENT
DTSTART;TZID=America/Vancouver:20220406T184500
DTEND;TZID=America/Vancouver:20220406T203000
DTSTAMP:20260419T111416
CREATED:20220302T015802Z
LAST-MODIFIED:20220405T015624Z
UID:2988-1649270700-1649277000@9thvancouverpathfinders.ca
SUMMARY:Games Night & Pizza Party
DESCRIPTION:Unfortunately\, the GVFB had to reschedule our volunteering shift\, so we’re having a pizza party and games night at the church! \nCome hungry\, and bring a game you’d like to play! We will also have games that you can try\, learn\, and enjoy!
URL:https://9thvancouverpathfinders.ca/event/note-early-start-volunteering-at-greater-vancouver-food-bank/
LOCATION:St. Thomas Anglican\, 2444 East 41st Ave.\, Vancouver\, BC\, Canada
CATEGORIES:Regular Meeting
END:VEVENT
BEGIN:VEVENT
DTSTART;TZID=America/Vancouver:20220330T184500
DTEND;TZID=America/Vancouver:20220330T203000
DTSTAMP:20260419T111416
CREATED:20220313T155654Z
LAST-MODIFIED:20220313T160605Z
UID:3006-1648665900-1648672200@9thvancouverpathfinders.ca
SUMMARY:10 Essentials\, NiteHike Prep & Cookie Pick-up
DESCRIPTION:It’s our first meeting after Spring Break!   \nWe’ll be practicing some important outdoor skills in preparation for NiteHike\, which is on Saturday April 8. \nWe’ll be bringing cookies along for anyone that wasn’t able to pick up over Spring Break. If you’ve gotten cookies already and would like some more\, please email Karla or Christa in advance.
URL:https://9thvancouverpathfinders.ca/event/first-meeting-after-spring-break-cookie-pick-up/
LOCATION:St. Thomas Anglican\, 2444 East 41st Ave.\, Vancouver\, BC\, Canada
CATEGORIES:Regular Meeting
END:VEVENT
BEGIN:VEVENT
DTSTART;TZID=America/Vancouver:20220309T184500
DTEND;TZID=America/Vancouver:20220309T203000
DTSTAMP:20260419T111416
CREATED:20220223T155820Z
LAST-MODIFIED:20220310T151248Z
UID:2978-1646851500-1646857800@9thvancouverpathfinders.ca
SUMMARY:IN PERSON: International Women's Day Workshopping
DESCRIPTION:Stay tuned for more information!
URL:https://9thvancouverpathfinders.ca/event/in-person-activity-tbc/
LOCATION:BC
CATEGORIES:Regular Meeting
END:VEVENT
BEGIN:VEVENT
DTSTART;TZID=America/Vancouver:20220302T184500
DTEND;TZID=America/Vancouver:20220302T203000
DTSTAMP:20260419T111416
CREATED:20211127T013929Z
LAST-MODIFIED:20220113T044410Z
UID:2908-1646246700-1646253000@9thvancouverpathfinders.ca
SUMMARY:IN PERSON: Girl-led Meeting (AW)
DESCRIPTION:This meeting is being led by a 3rd-year Pathfinder as part of their Canada Cord requirements. Stay tuned for more information!
URL:https://9thvancouverpathfinders.ca/event/in-person-girl-led-meeting-ay/
LOCATION:St. Thomas Anglican\, 2444 East 41st Ave.\, Vancouver\, BC\, Canada
CATEGORIES:Regular Meeting
END:VEVENT
BEGIN:VEVENT
DTSTART;TZID=America/Vancouver:20220216T184500
DTEND;TZID=America/Vancouver:20220216T203000
DTSTAMP:20260419T111416
CREATED:20211127T013827Z
LAST-MODIFIED:20220217T021132Z
UID:2906-1645037100-1645043400@9thvancouverpathfinders.ca
SUMMARY:ONLINE: Girl-Led Meeting (CC & CE)
DESCRIPTION:This meeting is being led by two third-year Pathfinders as part of their Canada Cord requirements.  This meeting is taking place online.  Here is the Teams meeting information: \n \nMicrosoft Teams meeting\n\nJoin on your computer or mobile app\nClick here to join the meeting \n\n\nOr call in (audio only)\n+1 647-738-5322\,\,866651472#   Canada\, Toronto\n\nPhone Conference ID: 866 651 472# \nFind a local number | Reset PIN\nLearn More | Meeting options
URL:https://9thvancouverpathfinders.ca/event/in-person-girl-led-meeting-cc-ce/
LOCATION:MS Teams
CATEGORIES:Regular Meeting
END:VEVENT
BEGIN:VEVENT
DTSTART;TZID=America/Vancouver:20220209T184500
DTEND;TZID=America/Vancouver:20220209T203000
DTSTAMP:20260419T111416
CREATED:20211127T014643Z
LAST-MODIFIED:20220204T161123Z
UID:2915-1644432300-1644438600@9thvancouverpathfinders.ca
SUMMARY:ONLINE: Alive After Five Young Worker Awareness Program
DESCRIPTION:Young workers are at the front of the line when it comes to workplace vulnerability. One-third of reported workplace injuries are from young workers. \nThe Alive After Five Young Worker Awareness Program of the BC Federation of Labour is an innovative initiative that seeks to make the province a healthier and safer place to live and work for all of us. \nThe presentations are engaging and interactive for the participants. The program has more than 50 skilled and trained presenters who provide dynamic and insightful information on vital subjects such as: \n\nHazard recognition\nKnowing your Rights and Responsibilities in the workplace\nHow to properly report injuries\nWhat protections are provided by the WCB Regulations\n\n\n\n\n\n\nHere is the Zoom meeting information: \nTopic: Alive After 5  – Girl Guides of Canada – Dani-Rose\nTime: Feb 9\, 2022 07:00 PM Vancouver\nJoin Zoom Meeting\nhttps://us06web.zoom.us/j/84911357528?pwd=bDJIUEtMZXNJbHdSckJ2NHNBKy9Hdz09\n \nMeeting ID: 849 1135 7528\nPasscode: 622834\n \nResources:\nAlive After 5 Booklet \n 
URL:https://9thvancouverpathfinders.ca/event/online-alive-after-five-young-worker-awareness-program/
LOCATION:Zoom
CATEGORIES:Regular Meeting
END:VEVENT
BEGIN:VEVENT
DTSTART;TZID=America/Vancouver:20220202T080000
DTEND;TZID=America/Vancouver:20220202T170000
DTSTAMP:20260419T111416
CREATED:20211127T014336Z
LAST-MODIFIED:20220201T163248Z
UID:2913-1643788800-1643821200@9thvancouverpathfinders.ca
SUMMARY:ONLINE: Girl-led Meeting (ER & AY)
DESCRIPTION:This meeting is being led by two third-year Pathfinders as part of their Canada Cord requirements.  This meeting is taking place online.  Here is the Teams meeting information: \n \nMicrosoft Teams meeting\n\nJoin on your computer or mobile app\nClick here to join the meeting \n\n\nOr call in (audio only)\n+1 647-738-5322\,\,866651472#   Canada\, Toronto\n\nPhone Conference ID: 866 651 472# \nFind a local number | Reset PIN\nLearn More | Meeting options
URL:https://9thvancouverpathfinders.ca/event/online-girl-led-meeting-er-ay/
LOCATION:MS Teams
CATEGORIES:Regular Meeting
END:VEVENT
BEGIN:VEVENT
DTSTART;TZID=America/Vancouver:20220126T184500
DTEND;TZID=America/Vancouver:20220126T203000
DTSTAMP:20260419T111416
CREATED:20211127T014101Z
LAST-MODIFIED:20220125T052556Z
UID:2911-1643222700-1643229000@9thvancouverpathfinders.ca
SUMMARY:ONLINE: Girl-led Meeting - Cupcake Baking! (LL & NR)
DESCRIPTION:This meeting is being led by two third-year Pathfinders are part of their Canada Cord requirements.  \nWe’re meeting online\, and switching to MS Teams moving forward!  Here is the meeting information: \n________________________________________________________________________________\n\n \nMicrosoft Teams meeting\n\nJoin on your computer or mobile app\nClick here to join the meeting\n\nOr call in (audio only)\n+1 647-738-5322\,\,866651472#   Canada\, Toronto\n\nPhone Conference ID: 866 651 472# \nFind a local number | Reset PIN\nLearn More | Meeting options
URL:https://9thvancouverpathfinders.ca/event/in-person-girl-led-meeting-ll-nr/
LOCATION:MS Teams
CATEGORIES:Regular Meeting
END:VEVENT
BEGIN:VEVENT
DTSTART;TZID=America/Vancouver:20220119T184500
DTEND;TZID=America/Vancouver:20220119T203000
DTSTAMP:20260419T111416
CREATED:20220113T044503Z
LAST-MODIFIED:20220119T064632Z
UID:2941-1642617900-1642624200@9thvancouverpathfinders.ca
SUMMARY:ONLINE: All about Arts!
DESCRIPTION:Sign in for some online arts relaxation! \nHere is the Zoom meeting info: \nJoin Zoom Meeting\nhttps://us02web.zoom.us/j/84175462950?pwd=OHpnTFlVMTIybHJic3gzQlU1NGZHQT09 \nMeeting ID: 841 7546 2950\nPasscode: (hint: we <3 selling these!) \nOne tap mobile\n+12532158782\,\,84175462950#\,\,\,\,*6747083# US (Tacoma)\n+13017158592\,\,84175462950#\,\,\,\,*6747083# US (Washington DC) \nDial by your location\n+1 253 215 8782 US (Tacoma)\n+1 301 715 8592 US (Washington DC)\n+1 312 626 6799 US (Chicago)\n+1 346 248 7799 US (Houston)\n+1 669 900 6833 US (San Jose)\n+1 929 205 6099 US (New York)\nMeeting ID: 841 7546 2950\nPasscode: 6747083\nFind your local number: https://us02web.zoom.us/u/kde78VlYfW
URL:https://9thvancouverpathfinders.ca/event/online-first-aid-101/
LOCATION:Zoom
CATEGORIES:Regular Meeting
END:VEVENT
BEGIN:VEVENT
DTSTART;TZID=America/Vancouver:20220112T184500
DTEND;TZID=America/Vancouver:20220112T203000
DTSTAMP:20260419T111416
CREATED:20220112T034950Z
LAST-MODIFIED:20220112T034950Z
UID:2933-1642013100-1642019400@9thvancouverpathfinders.ca
SUMMARY:ONLINE: Service Projects
DESCRIPTION:We’re planning our 2022 service projects\, and more! \nHere is the Zoom meeting info: \nJoin Zoom Meeting\nhttps://us02web.zoom.us/j/84175462950?pwd=OHpnTFlVMTIybHJic3gzQlU1NGZHQT09 \nMeeting ID: 841 7546 2950\nPasscode: (hint: we <3 selling these!) \nOne tap mobile\n+12532158782\,\,84175462950#\,\,\,\,*6747083# US (Tacoma)\n+13017158592\,\,84175462950#\,\,\,\,*6747083# US (Washington DC) \nDial by your location\n+1 253 215 8782 US (Tacoma)\n+1 301 715 8592 US (Washington DC)\n+1 312 626 6799 US (Chicago)\n+1 346 248 7799 US (Houston)\n+1 669 900 6833 US (San Jose)\n+1 929 205 6099 US (New York)\nMeeting ID: 841 7546 2950\nPasscode: 6747083\nFind your local number: https://us02web.zoom.us/u/kde78VlYfW
URL:https://9thvancouverpathfinders.ca/event/online-service-projects/
LOCATION:Zoom
CATEGORIES:Regular Meeting
END:VEVENT
BEGIN:VEVENT
DTSTART;TZID=America/Vancouver:20220105T184500
DTEND;TZID=America/Vancouver:20220105T203000
DTSTAMP:20260419T111416
CREATED:20211127T013623Z
LAST-MODIFIED:20220104T191905Z
UID:2904-1641408300-1641414600@9thvancouverpathfinders.ca
SUMMARY:ONLINE: Welcome back to Pathfinders!
DESCRIPTION:We’re meeting online to kick off 2022! \nHere is the Zoom meeting information: \nHere is the Zoom meeting information: \nJoin Zoom Meeting\nhttps://us02web.zoom.us/j/84175462950?pwd=OHpnTFlVMTIybHJic3gzQlU1NGZHQT09 \nMeeting ID: 841 7546 2950\nPasscode: (hint: we <3 selling these!) \nOne tap mobile\n+12532158782\,\,84175462950#\,\,\,\,*6747083# US (Tacoma)\n+13017158592\,\,84175462950#\,\,\,\,*6747083# US (Washington DC) \nDial by your location\n+1 253 215 8782 US (Tacoma)\n+1 301 715 8592 US (Washington DC)\n+1 312 626 6799 US (Chicago)\n+1 346 248 7799 US (Houston)\n+1 669 900 6833 US (San Jose)\n+1 929 205 6099 US (New York)\nMeeting ID: 841 7546 2950\nPasscode: 6747083\nFind your local number: https://us02web.zoom.us/u/kde78VlYfW \n 
URL:https://9thvancouverpathfinders.ca/event/in-person-welcome-back-to-pathfinders/
LOCATION:Zoom
CATEGORIES:Regular Meeting
END:VEVENT
BEGIN:VEVENT
DTSTART;TZID=America/Vancouver:20211201T184500
DTEND;TZID=America/Vancouver:20211201T203000
DTSTAMP:20260419T111416
CREATED:20210916T040717Z
LAST-MODIFIED:20211127T015132Z
UID:2819-1638384300-1638390600@9thvancouverpathfinders.ca
SUMMARY:IN PERSON: Enrolment Ceremony and Winter Craftiness
DESCRIPTION:For our enrolment ceremony\, we’re going to have a fun and winter-y evening at St Thomas. \nWe’ll have our enrolment ceremony\, followed by a chance to make and decorate winter architectural masterpieces using graham crackers and lots of sweet treats.  We’ll also have some tasty snacks and treats. \nPlease wear your uniform to this official ceremony.
URL:https://9thvancouverpathfinders.ca/event/online-girl-led-meeting/
LOCATION:St. Thomas Anglican\, 2444 East 41st Ave.\, Vancouver\, BC\, Canada
CATEGORIES:Regular Meeting,Special Event
END:VEVENT
BEGIN:VEVENT
DTSTART;TZID=America/Vancouver:20211124T184500
DTEND;TZID=America/Vancouver:20211124T203000
DTSTAMP:20260419T111416
CREATED:20210916T041053Z
LAST-MODIFIED:20211124T174454Z
UID:2825-1637779500-1637785800@9thvancouverpathfinders.ca
SUMMARY:IN PERSON: Craft Night
DESCRIPTION:Come on over to the church tonight for a fun evening of crafts and preparing for enrolment!
URL:https://9thvancouverpathfinders.ca/event/online-girl-led-meeting-6/
LOCATION:St. Thomas Anglican\, 2444 East 41st Ave.\, Vancouver\, BC\, Canada
CATEGORIES:Regular Meeting
END:VEVENT
BEGIN:VEVENT
DTSTART;TZID=America/Vancouver:20211117T184500
DTEND;TZID=America/Vancouver:20211117T203000
DTSTAMP:20260419T111416
CREATED:20211023T155115Z
LAST-MODIFIED:20211102T174415Z
UID:2869-1637174700-1637181000@9thvancouverpathfinders.ca
SUMMARY:ONLINE: Climate Action STEM Workshop with McMaster University
DESCRIPTION:This week\, we’re doing an online meeting with McMaster University’s Venture Academy’s Virtual Girl Guide Workshop on Climate Action! \nIn this project\, students will build a circuit on TinkerCAD that will allow them to determine when there is a high concentration of gas in the area! Students will learn about greenhouse gases and their effect on climate change\, series vs parallel circuits\, arduinos and important coding principles such as creating variables and loops. \nYou’ll need computer and internet access\, and a TinkerCAD Account: www.tinkercad.com so would recommend setting yourself up on a laptop (as opposed to a cell phone) for this meeting\, and signing up for a TinkerCAD account in advance. \nHere is the Zoom meeting information: \nJoin Zoom Meeting\nhttps://us02web.zoom.us/j/84175462950?pwd=OHpnTFlVMTIybHJic3gzQlU1NGZHQT09 \nMeeting ID: 841 7546 2950\nPasscode: (hint: we <3 selling these!) \nOne tap mobile\n+12532158782\,\,84175462950#\,\,\,\,*6747083# US (Tacoma)\n+13017158592\,\,84175462950#\,\,\,\,*6747083# US (Washington DC) \nDial by your location\n+1 253 215 8782 US (Tacoma)\n+1 301 715 8592 US (Washington DC)\n+1 312 626 6799 US (Chicago)\n+1 346 248 7799 US (Houston)\n+1 669 900 6833 US (San Jose)\n+1 929 205 6099 US (New York)\nMeeting ID: 841 7546 2950\nPasscode: 6747083\nFind your local number: https://us02web.zoom.us/u/kde78VlYfW \n  \n 
URL:https://9thvancouverpathfinders.ca/event/stay-tuned-for-meeting-details-2/
LOCATION:BC
CATEGORIES:Regular Meeting
END:VEVENT
BEGIN:VEVENT
DTSTART;TZID=America/Vancouver:20211103T184500
DTEND;TZID=America/Vancouver:20211103T203000
DTSTAMP:20260419T111416
CREATED:20211023T155026Z
LAST-MODIFIED:20211102T174602Z
UID:2867-1635965100-1635971400@9thvancouverpathfinders.ca
SUMMARY:IN PERSON: Cookie Selling and Service Project Workshopping
DESCRIPTION:We’re meeting at the church tonight to prepare for our cookie selling date next week with some marketing production and sales preparation.  We’ll also be signing up to adopt a catch basin as part of an independent service project option with the City of Vancouver.
URL:https://9thvancouverpathfinders.ca/event/stay-tuned-for-meeting-details/
LOCATION:St. Thomas Anglican\, 2444 East 41st Ave.\, Vancouver\, BC\, Canada
CATEGORIES:Regular Meeting
END:VEVENT
BEGIN:VEVENT
DTSTART;TZID=America/Vancouver:20211027T184500
DTEND;TZID=America/Vancouver:20211027T203000
DTSTAMP:20260419T111416
CREATED:20210916T041628Z
LAST-MODIFIED:20211024T173116Z
UID:2833-1635360300-1635366600@9thvancouverpathfinders.ca
SUMMARY:IN PERSON: Halloween Party!
DESCRIPTION:UPDATE: We’re going to have this meeting in person at St Thomas Anglican! Yahoo!   \nCome in costume\, with a mask\, and be prepared to have a spooky and fun evening of games\, costume party\, and Halloween-y fun! \nFor those that haven’t been into our meeting space at St Thomas Anglican before\, enter from the side basement door off of St Margaret Street.
URL:https://9thvancouverpathfinders.ca/event/in-person-halloween-event/
LOCATION:St. Thomas Anglican\, 2444 East 41st Ave.\, Vancouver\, BC\, Canada
CATEGORIES:Regular Meeting,Special Event
END:VEVENT
BEGIN:VEVENT
DTSTART;TZID=America/Vancouver:20211020T184500
DTEND;TZID=America/Vancouver:20211020T203000
DTSTAMP:20260419T111416
CREATED:20210916T041527Z
LAST-MODIFIED:20211020T020615Z
UID:2831-1634755500-1634761800@9thvancouverpathfinders.ca
SUMMARY:IN PERSON: False Creek Ferry Ride & Walking Tour
DESCRIPTION:We’re meeting for an adventure along the False Creek Seawall\, including a ride on the False Creek ferries! \nWe’ll meet at Creekside Community Centre at 1 Athlete’s Way in Olympic Village at 6:45 pm\, and starting with a ferry ride to Granville Island. Please be on time as the ferries leave by 7 pm!  We’ll then explore the Seawall en route back through Southeast False Creek via Charleson Park\, Hinge Park\, Olympic Village and back to Creekside! Pick up is from Creekside Community Centre at 8:30 pm. \nCome dressed for the weather\, including wearing a warm and waterproof jacket at toque\, and bring a headlamp or flashlight.
URL:https://9thvancouverpathfinders.ca/event/in-person-canada-cord-enrolment-ceremonies/
LOCATION:BC
CATEGORIES:Regular Meeting,Special Event
END:VEVENT
BEGIN:VEVENT
DTSTART;TZID=America/Vancouver:20211006T184500
DTEND;TZID=America/Vancouver:20211006T203000
DTSTAMP:20260419T111416
CREATED:20210916T041411Z
LAST-MODIFIED:20210930T042420Z
UID:2829-1633545900-1633552200@9thvancouverpathfinders.ca
SUMMARY:IN PERSON: Promise & Law\, and preparing for enrolment
DESCRIPTION:We are learning about the promise and law in preparation for enrolment!  \nFor this meeting\, we’re meeting at Trout Lake Park. Meet at the parking lot off of 19th Ave and Lakewood St. Bring a headlamp\, warm clothes\, and be sure to use the washroom before you come as the park washrooms close at dusk.
URL:https://9thvancouverpathfinders.ca/event/in-person-promise-law-and-preparing-for-enrolment/
LOCATION:Trout Lake Park\, Meet at Trout Lake Concession Stand on south end of park (enter from 19th and Lakewood)\, Vancouver\, BC\, Canada
CATEGORIES:Regular Meeting
END:VEVENT
BEGIN:VEVENT
DTSTART;TZID=America/Vancouver:20210929T184500
DTEND;TZID=America/Vancouver:20210929T203000
DTSTAMP:20260419T111416
CREATED:20210916T040330Z
LAST-MODIFIED:20210926T162210Z
UID:2813-1632941100-1632947400@9thvancouverpathfinders.ca
SUMMARY:ONLINE: All About Pathfinders - Learning & Planning
DESCRIPTION:We are meeting to plan our awesome Pathfinder year! Bring your hopes\, dreams\, and big ideas! Also\, please be prepared to be on camera so we can ensure we’re all getting the most out of our time together. \nThis meeting will be online. Here is the Zoom meeting info: \nKarla Kloepper is inviting you to a scheduled Zoom meeting. \nTopic: Pathfinders\nTime: Sep 29\, 2021 06:45 PM Pacific Time (US and Canada) \nPlease download and import the following iCalendar (.ics) files to your calendar system.\nWeekly: https://us02web.zoom.us/meeting/tZAscOysqDkjH9Svh4OBts_69HYggu7MedS8/ics?icsToken=98tyKuGsrzwvHtKXuRyHRpwIBY_CZ-jwpnpEgvpuihexLAJHcTygb8p7NbVqR_XV \nJoin Zoom Meeting\nhttps://us02web.zoom.us/j/84175462950?pwd=OHpnTFlVMTIybHJic3gzQlU1NGZHQT09 \nMeeting ID: 841 7546 2950\nPasscode: [one word. hint: we just picked these up to sell for the fall!] \nDial by your location\nMeeting ID: 841 7546 2950\nPasscode: 6747083\nFind your local number: https://us02web.zoom.us/u/kde78VlYfW
URL:https://9thvancouverpathfinders.ca/event/online-all-about-pathfinders-learning-planning/
LOCATION:Zoom
CATEGORIES:Regular Meeting
END:VEVENT
BEGIN:VEVENT
DTSTART;TZID=America/Vancouver:20210922T184500
DTEND;TZID=America/Vancouver:20210922T203000
DTSTAMP:20260419T111416
CREATED:20210910T153603Z
LAST-MODIFIED:20210922T230521Z
UID:2809-1632336300-1632342600@9thvancouverpathfinders.ca
SUMMARY:IN PERSON: First meeting of the year!
DESCRIPTION:Meet at St Thomas Anglican Church at 6:45 pm. Come dressed for the weather\, and bring your COVID-19 waiver and dues.
URL:https://9thvancouverpathfinders.ca/event/first-meeting-of-the-year-3/
LOCATION:BC
CATEGORIES:Regular Meeting
END:VEVENT
BEGIN:VEVENT
DTSTART;TZID=America/Vancouver:20210616T184500
DTEND;TZID=America/Vancouver:20210616T203000
DTSTAMP:20260419T111416
CREATED:20210609T182813Z
LAST-MODIFIED:20210616T201057Z
UID:2795-1623869100-1623875400@9thvancouverpathfinders.ca
SUMMARY:ONLINE: Being You
DESCRIPTION:Tonight we are meeting on Zoom to do some program work in the “Being You” theme. We’ll be doing lots of solo reflection so bring a pen and notebook / your journal and be read to think about who you are and what matters to you!\n \n\nKarla Kloepper is inviting you to a scheduled Zoom meeting. \nTopic: Pathfinders\nTime: Jun 16\, 2021 06:45 PM Pacific Time (US and Canada) \nJoin Zoom Meeting\nhttps://us02web.zoom.us/j/87329568581?pwd=QmxFK2lESEovRnBPY2M4VzRtZU56dz09 \nMeeting ID: 873 2956 8581\nPasscode: 302075 \nDial by your location\n+1 301 715 8592 US (Washington DC)\n+1 312 626 6799 US (Chicago)\n+1 346 248 7799 US (Houston)\n+1 669 900 6833 US (San Jose)\n+1 929 205 6099 US (New York)\n+1 253 215 8782 US (Tacoma)\nMeeting ID: 873 2956 8581\nPasscode: 302075\nFind your local number: https://us02web.zoom.us/u/keHfgO8zvz \n 
URL:https://9thvancouverpathfinders.ca/event/in-person-fun-meeting/
LOCATION:BC
CATEGORIES:Regular Meeting
END:VEVENT
BEGIN:VEVENT
DTSTART;TZID=America/Vancouver:20210609T184500
DTEND;TZID=America/Vancouver:20210609T203000
DTSTAMP:20260419T111416
CREATED:20210602T142127Z
LAST-MODIFIED:20210602T142127Z
UID:2788-1623264300-1623270600@9thvancouverpathfinders.ca
SUMMARY:IN PERSON: Camp Skills
DESCRIPTION:We’re doing a camp skills activity!  More info to come.
URL:https://9thvancouverpathfinders.ca/event/in-person-camp-skills/
LOCATION:BC
CATEGORIES:Outing,Regular Meeting
END:VEVENT
BEGIN:VEVENT
DTSTART;TZID=America/Vancouver:20210602T184500
DTEND;TZID=America/Vancouver:20210602T203000
DTSTAMP:20260419T111416
CREATED:20210602T142039Z
LAST-MODIFIED:20210602T142039Z
UID:2785-1622659500-1622665800@9thvancouverpathfinders.ca
SUMMARY:IN PERSON: Shoreline Clean Up
DESCRIPTION:Today we’re going to do a community service project by cleaning up trash at Larry Young Park and along the Local Heros Pathway. Please find more information here:\nhttp://shorelinecleanup.ca/cleanups/1dkwd\n \nDrop off and Pick up are at Larry Young Park. The address is 1736 E 11th Ave and there is a parking lot behind the ICBC building where parents can drop off and pick up. This is a small park under the skytrain line just east of Commercial Drive. Please drop off at 6:45 and pick up at 8:30. \n \nPlease bring:\n1. Clothing and shoes appropriate for the weather\n2. Mask and hand sanitizer\n3. One garbage bag\n4. Set of metal tongs (like BBQ tongs)\n5. Rubber or silicone gloves (like old yellow kitchen gloves or medical gloves)\n \nWe will bring extras if you don’t have tongs or gloves. 
URL:https://9thvancouverpathfinders.ca/event/in-person-shoreline-clean-up/
LOCATION:Larry Young Park\, 11th & Commercial\, Vancouver
CATEGORIES:Outing,Regular Meeting
END:VEVENT
END:VCALENDAR