BEGIN:VCALENDAR
VERSION:2.0
PRODID:-//9th Vancouver Pathfinders - ECPv6.11.0.1//NONSGML v1.0//EN
CALSCALE:GREGORIAN
METHOD:PUBLISH
X-ORIGINAL-URL:https://9thvancouverpathfinders.ca
X-WR-CALDESC:Events for 9th Vancouver Pathfinders
REFRESH-INTERVAL;VALUE=DURATION:PT1H
X-Robots-Tag:noindex
X-PUBLISHED-TTL:PT1H
BEGIN:VTIMEZONE
TZID:America/Vancouver
BEGIN:DAYLIGHT
TZOFFSETFROM:-0800
TZOFFSETTO:-0700
TZNAME:PDT
DTSTART:20220313T100000
END:DAYLIGHT
BEGIN:STANDARD
TZOFFSETFROM:-0700
TZOFFSETTO:-0800
TZNAME:PST
DTSTART:20221106T090000
END:STANDARD
BEGIN:DAYLIGHT
TZOFFSETFROM:-0800
TZOFFSETTO:-0700
TZNAME:PDT
DTSTART:20230312T100000
END:DAYLIGHT
BEGIN:STANDARD
TZOFFSETFROM:-0700
TZOFFSETTO:-0800
TZNAME:PST
DTSTART:20231105T090000
END:STANDARD
BEGIN:DAYLIGHT
TZOFFSETFROM:-0800
TZOFFSETTO:-0700
TZNAME:PDT
DTSTART:20240310T100000
END:DAYLIGHT
BEGIN:STANDARD
TZOFFSETFROM:-0700
TZOFFSETTO:-0800
TZNAME:PST
DTSTART:20241103T090000
END:STANDARD
BEGIN:DAYLIGHT
TZOFFSETFROM:-0800
TZOFFSETTO:-0700
TZNAME:PDT
DTSTART:20250309T100000
END:DAYLIGHT
BEGIN:STANDARD
TZOFFSETFROM:-0700
TZOFFSETTO:-0800
TZNAME:PST
DTSTART:20251102T090000
END:STANDARD
END:VTIMEZONE
BEGIN:VEVENT
DTSTART;TZID=America/Vancouver:20250205T184500
DTEND;TZID=America/Vancouver:20250205T203000
DTSTAMP:20260419T061722
CREATED:20250108T021248Z
LAST-MODIFIED:20250108T021623Z
UID:3722-1738781100-1738787400@9thvancouverpathfinders.ca
SUMMARY:Meeting: Thinking Day/WAGGGS
DESCRIPTION:
URL:https://9thvancouverpathfinders.ca/event/meeting-thinking-day-wagggs/
CATEGORIES:Regular Meeting
END:VEVENT
BEGIN:VEVENT
DTSTART;TZID=America/Vancouver:20250129T184500
DTEND;TZID=America/Vancouver:20250129T203000
DTSTAMP:20260419T061722
CREATED:20250108T021158Z
LAST-MODIFIED:20250108T022818Z
UID:3720-1738176300-1738182600@9thvancouverpathfinders.ca
SUMMARY:Meeting: Gender Power
DESCRIPTION:
URL:https://9thvancouverpathfinders.ca/event/meeting-gender-power/
CATEGORIES:Regular Meeting
END:VEVENT
BEGIN:VEVENT
DTSTART;TZID=America/Vancouver:20250122T184500
DTEND;TZID=America/Vancouver:20250122T203000
DTSTAMP:20260419T061722
CREATED:20250108T021107Z
LAST-MODIFIED:20250108T021536Z
UID:3718-1737571500-1737577800@9thvancouverpathfinders.ca
SUMMARY:Meeting: Needle Felting
DESCRIPTION:
URL:https://9thvancouverpathfinders.ca/event/meeting-needle-felting/
CATEGORIES:Regular Meeting
END:VEVENT
BEGIN:VEVENT
DTSTART;TZID=America/Vancouver:20250115T184500
DTEND;TZID=America/Vancouver:20250115T203000
DTSTAMP:20260419T061722
CREATED:20250108T021031Z
LAST-MODIFIED:20250115T055727Z
UID:3716-1736966700-1736973000@9thvancouverpathfinders.ca
SUMMARY:CANCELLED - Meeting: World Stage
DESCRIPTION:
URL:https://9thvancouverpathfinders.ca/event/meeting-world-stage/
CATEGORIES:Regular Meeting
END:VEVENT
BEGIN:VEVENT
DTSTART;TZID=America/Vancouver:20250108T184500
DTEND;TZID=America/Vancouver:20250108T203000
DTSTAMP:20260419T061722
CREATED:20250108T020944Z
LAST-MODIFIED:20250108T020944Z
UID:3714-1736361900-1736368200@9thvancouverpathfinders.ca
SUMMARY:Meeting: New Year Reflection + Different Together
DESCRIPTION:
URL:https://9thvancouverpathfinders.ca/event/meeting-new-year-reflection-different-together/
CATEGORIES:Regular Meeting
END:VEVENT
BEGIN:VEVENT
DTSTART;TZID=America/Vancouver:20231122T184500
DTEND;TZID=America/Vancouver:20231122T203000
DTSTAMP:20260419T061722
CREATED:20231122T073717Z
LAST-MODIFIED:20231122T073753Z
UID:3464-1700678700-1700685000@9thvancouverpathfinders.ca
SUMMARY:Program work and crafts
DESCRIPTION:
URL:https://9thvancouverpathfinders.ca/event/program-work-and-crafts/
CATEGORIES:Regular Meeting
END:VEVENT
BEGIN:VEVENT
DTSTART;TZID=America/Vancouver:20231025T184500
DTEND;TZID=America/Vancouver:20231025T203000
DTSTAMP:20260419T061722
CREATED:20230930T234003Z
LAST-MODIFIED:20230930T234003Z
UID:3426-1698259500-1698265800@9thvancouverpathfinders.ca
SUMMARY:Packing for Camp
DESCRIPTION:This meeting will involve discussing how to pack for camp.
URL:https://9thvancouverpathfinders.ca/event/packing-for-camp/
CATEGORIES:Regular Meeting
END:VEVENT
BEGIN:VEVENT
DTSTART;TZID=America/Vancouver:20231018T184500
DTEND;TZID=America/Vancouver:20231018T203000
DTSTAMP:20260419T061722
CREATED:20230930T233832Z
LAST-MODIFIED:20231009T232836Z
UID:3424-1697654700-1697661000@9thvancouverpathfinders.ca
SUMMARY:Camp Planning - Camp forms & payment are due
DESCRIPTION:This meeting will involve planning meals\, activities and kitlist chores for the upcoming camp.
URL:https://9thvancouverpathfinders.ca/event/camp-planning-6/
CATEGORIES:Regular Meeting
END:VEVENT
BEGIN:VEVENT
DTSTART;TZID=America/Vancouver:20231004T184500
DTEND;TZID=America/Vancouver:20231004T203000
DTSTAMP:20260419T061722
CREATED:20230930T233432Z
LAST-MODIFIED:20230930T233432Z
UID:3420-1696445100-1696451400@9thvancouverpathfinders.ca
SUMMARY:Promise and Law Night
DESCRIPTION:
URL:https://9thvancouverpathfinders.ca/event/promise-and-law-night/
CATEGORIES:Regular Meeting
END:VEVENT
BEGIN:VEVENT
DTSTART;TZID=America/Vancouver:20230614T181500
DTEND;TZID=America/Vancouver:20230614T200000
DTSTAMP:20260419T061722
CREATED:20230109T003527Z
LAST-MODIFIED:20230614T051132Z
UID:3265-1686766500-1686772800@9thvancouverpathfinders.ca
SUMMARY:Queen E Scavenger Hunt -- Last Meeting of the Pathfinder Year!
DESCRIPTION:Meet by the fountain on the top of the hill by the parking lot.
URL:https://9thvancouverpathfinders.ca/event/last-meeting-of-the-pathfinder-year-4/
CATEGORIES:Regular Meeting
END:VEVENT
BEGIN:VEVENT
DTSTART;TZID=America/Vancouver:20230607T174500
DTEND;TZID=America/Vancouver:20230607T203000
DTSTAMP:20260419T061722
CREATED:20230408T200731Z
LAST-MODIFIED:20230408T200731Z
UID:3365-1686159900-1686169800@9thvancouverpathfinders.ca
SUMMARY:Camp Skills at Trout Lake
DESCRIPTION:
URL:https://9thvancouverpathfinders.ca/event/camp-skills-at-trout-lake/
LOCATION:Trout Lake Park\, Meet at Trout Lake Concession Stand on south end of park (enter from 19th and Lakewood)\, Vancouver\, BC\, Canada
CATEGORIES:Regular Meeting
END:VEVENT
BEGIN:VEVENT
DTSTART;TZID=America/Vancouver:20230531T184500
DTEND;TZID=America/Vancouver:20230531T203000
DTSTAMP:20260419T061722
CREATED:20230408T200322Z
LAST-MODIFIED:20230408T200322Z
UID:3361-1685558700-1685565000@9thvancouverpathfinders.ca
SUMMARY:Prep for our Victoria trip
DESCRIPTION:At this meeting we will go over tips for packing a backpack and making cookies to bring with us to camp.
URL:https://9thvancouverpathfinders.ca/event/prep-for-our-victoria-trip/
CATEGORIES:Regular Meeting
END:VEVENT
BEGIN:VEVENT
DTSTART;TZID=America/Vancouver:20230517T184500
DTEND;TZID=America/Vancouver:20230517T203000
DTSTAMP:20260419T061722
CREATED:20230408T200121Z
LAST-MODIFIED:20230511T045956Z
UID:3359-1684349100-1684355400@9thvancouverpathfinders.ca
SUMMARY:Meeting cancelled
DESCRIPTION:Apologies everyone but we will have to cancel this week’s meeting.
URL:https://9thvancouverpathfinders.ca/event/financial-literacy/
CATEGORIES:Regular Meeting
END:VEVENT
BEGIN:VEVENT
DTSTART;TZID=America/Vancouver:20230510T064500
DTEND;TZID=America/Vancouver:20230510T203000
DTSTAMP:20260419T061722
CREATED:20230408T200026Z
LAST-MODIFIED:20230408T200026Z
UID:3357-1683701100-1683750600@9thvancouverpathfinders.ca
SUMMARY:Body Image
DESCRIPTION:
URL:https://9thvancouverpathfinders.ca/event/body-image/
CATEGORIES:Regular Meeting
END:VEVENT
BEGIN:VEVENT
DTSTART;TZID=America/Vancouver:20230426T184500
DTEND;TZID=America/Vancouver:20230426T203000
DTSTAMP:20260419T061722
CREATED:20230408T203433Z
LAST-MODIFIED:20230408T203433Z
UID:3370-1682534700-1682541000@9thvancouverpathfinders.ca
SUMMARY:Travel and global Guiding
DESCRIPTION:Tonight we will be talking about the World Centres and traveling. How to pack for travel and to talk about your dream destinations.
URL:https://9thvancouverpathfinders.ca/event/travel-and-global-guiding/
CATEGORIES:Regular Meeting
END:VEVENT
BEGIN:VEVENT
DTSTART;TZID=America/Vancouver:20230405T184500
DTEND;TZID=America/Vancouver:20230405T203000
DTSTAMP:20260419T061722
CREATED:20230405T212143Z
LAST-MODIFIED:20230406T021625Z
UID:3335-1680720300-1680726600@9thvancouverpathfinders.ca
SUMMARY:Poster making for cookie sales
DESCRIPTION:
URL:https://9thvancouverpathfinders.ca/event/poster-making-for-cookie-sales/
CATEGORIES:Regular Meeting
END:VEVENT
BEGIN:VEVENT
DTSTART;TZID=America/Vancouver:20230329T184500
DTEND;TZID=America/Vancouver:20230329T203000
DTSTAMP:20260419T061722
CREATED:20230327T184544Z
LAST-MODIFIED:20230327T184544Z
UID:3323-1680115500-1680121800@9thvancouverpathfinders.ca
SUMMARY:Sports & Games Night
DESCRIPTION:
URL:https://9thvancouverpathfinders.ca/event/sports-games-night/
LOCATION:St. Thomas Anglican\, 2444 East 41st Ave.\, Vancouver\, BC\, Canada
CATEGORIES:Regular Meeting
END:VEVENT
BEGIN:VEVENT
DTSTART;TZID=America/Vancouver:20230301T184500
DTEND;TZID=America/Vancouver:20230301T203000
DTSTAMP:20260419T061722
CREATED:20230109T003453Z
LAST-MODIFIED:20230109T003453Z
UID:3263-1677696300-1677702600@9thvancouverpathfinders.ca
SUMMARY:Girl-led Meeting #4
DESCRIPTION:
URL:https://9thvancouverpathfinders.ca/event/girl-led-meeting-4-3/
LOCATION:St. Thomas Anglican\, 2444 East 41st Ave.\, Vancouver\, BC\, Canada
CATEGORIES:Regular Meeting
END:VEVENT
BEGIN:VEVENT
DTSTART;TZID=America/Vancouver:20230222T184500
DTEND;TZID=America/Vancouver:20230222T203000
DTSTAMP:20260419T061722
CREATED:20230109T003054Z
LAST-MODIFIED:20230109T003054Z
UID:3255-1677091500-1677097800@9thvancouverpathfinders.ca
SUMMARY:Thinking Day Meeting
DESCRIPTION:
URL:https://9thvancouverpathfinders.ca/event/thinking-day-meeting/
LOCATION:St. Thomas Anglican\, 2444 East 41st Ave.\, Vancouver\, BC\, Canada
CATEGORIES:Regular Meeting
END:VEVENT
BEGIN:VEVENT
DTSTART;TZID=America/Vancouver:20230215T184500
DTEND;TZID=America/Vancouver:20230215T203000
DTSTAMP:20260419T061722
CREATED:20230109T003401Z
LAST-MODIFIED:20230109T003401Z
UID:3261-1676486700-1676493000@9thvancouverpathfinders.ca
SUMMARY:Girl-led Meeting #3
DESCRIPTION:
URL:https://9thvancouverpathfinders.ca/event/girl-led-meeting-3-2/
LOCATION:St. Thomas Anglican\, 2444 East 41st Ave.\, Vancouver\, BC\, Canada
CATEGORIES:Regular Meeting
END:VEVENT
BEGIN:VEVENT
DTSTART;TZID=America/Vancouver:20230208T184500
DTEND;TZID=America/Vancouver:20230208T203000
DTSTAMP:20260419T061722
CREATED:20230109T003252Z
LAST-MODIFIED:20230109T003252Z
UID:3259-1675881900-1675888200@9thvancouverpathfinders.ca
SUMMARY:Girl-led Meeting #2
DESCRIPTION:Meeting Details TBC
URL:https://9thvancouverpathfinders.ca/event/girl-led-meeting-2-2/
LOCATION:St. Thomas Anglican\, 2444 East 41st Ave.\, Vancouver\, BC\, Canada
CATEGORIES:Regular Meeting
END:VEVENT
BEGIN:VEVENT
DTSTART;TZID=America/Vancouver:20230201T184500
DTEND;TZID=America/Vancouver:20230201T203000
DTSTAMP:20260419T061722
CREATED:20230109T003151Z
LAST-MODIFIED:20230109T003151Z
UID:3257-1675277100-1675283400@9thvancouverpathfinders.ca
SUMMARY:Girl-led Meeting #1
DESCRIPTION:Details TBC
URL:https://9thvancouverpathfinders.ca/event/girl-led-meeting-1/
CATEGORIES:Regular Meeting
END:VEVENT
BEGIN:VEVENT
DTSTART;TZID=America/Vancouver:20230125T184500
DTEND;TZID=America/Vancouver:20230125T203000
DTSTAMP:20260419T061722
CREATED:20230109T005708Z
LAST-MODIFIED:20230125T062118Z
UID:3276-1674672300-1674678600@9thvancouverpathfinders.ca
SUMMARY:Games Night and Girl-led Meeting Planning
DESCRIPTION:We’re doing some girl-led meeting planning\, and having a games night!
URL:https://9thvancouverpathfinders.ca/event/knitting-meeting-2/
LOCATION:St. Thomas Anglican\, 2444 East 41st Ave.\, Vancouver\, BC\, Canada
CATEGORIES:Regular Meeting
END:VEVENT
BEGIN:VEVENT
DTSTART;TZID=America/Vancouver:20230118T184500
DTEND;TZID=America/Vancouver:20230118T203000
DTSTAMP:20260419T061722
CREATED:20230109T005602Z
LAST-MODIFIED:20230109T005602Z
UID:3274-1674067500-1674073800@9thvancouverpathfinders.ca
SUMMARY:Knitting Night - Meeting #1
DESCRIPTION:We are learning to knit\, and working on some cool personal and service projects! 
URL:https://9thvancouverpathfinders.ca/event/knitting-night-meeting-1/
LOCATION:St. Thomas Anglican\, 2444 East 41st Ave.\, Vancouver\, BC\, Canada
CATEGORIES:Regular Meeting
END:VEVENT
BEGIN:VEVENT
DTSTART;TZID=America/Vancouver:20221123T184500
DTEND;TZID=America/Vancouver:20221123T203000
DTSTAMP:20260419T061722
CREATED:20221102T024937Z
LAST-MODIFIED:20221102T024937Z
UID:3215-1669229100-1669235400@9thvancouverpathfinders.ca
SUMMARY:Canada Cord Ceremony and Bridging with the 1st Rangers
DESCRIPTION:
URL:https://9thvancouverpathfinders.ca/event/canada-cord-ceremony-and-bridging-with-the-1st-rangers/
LOCATION:St. Thomas Anglican\, 2444 East 41st Ave.\, Vancouver\, BC\, Canada
CATEGORIES:Regular Meeting,Special Event
END:VEVENT
BEGIN:VEVENT
DTSTART;TZID=America/Vancouver:20221109T184500
DTEND;TZID=America/Vancouver:20221109T203000
DTSTAMP:20260419T061722
CREATED:20221103T042409Z
LAST-MODIFIED:20221103T042409Z
UID:3223-1668019500-1668025800@9thvancouverpathfinders.ca
SUMMARY:All about the outdoors - layering\, packing your pack\, and more!
DESCRIPTION:
URL:https://9thvancouverpathfinders.ca/event/all-about-the-outdoors-layering-packing-your-pack-and-more/
LOCATION:St. Thomas Anglican\, 2444 East 41st Ave.\, Vancouver\, BC\, Canada
CATEGORIES:Regular Meeting
END:VEVENT
BEGIN:VEVENT
DTSTART;TZID=America/Vancouver:20221102T184500
DTEND;TZID=America/Vancouver:20221102T203000
DTSTAMP:20260419T061722
CREATED:20221102T024843Z
LAST-MODIFIED:20221102T024843Z
UID:3213-1667414700-1667421000@9thvancouverpathfinders.ca
SUMMARY:Camp Planning and Enrolment Prep
DESCRIPTION:
URL:https://9thvancouverpathfinders.ca/event/camp-planning-and-enrolment-prep/
LOCATION:St. Thomas Anglican\, 2444 East 41st Ave.\, Vancouver\, BC\, Canada
CATEGORIES:Regular Meeting
END:VEVENT
BEGIN:VEVENT
DTSTART;TZID=America/Vancouver:20221012T184500
DTEND;TZID=America/Vancouver:20221012T203000
DTSTAMP:20260419T061722
CREATED:20220909T044016Z
LAST-MODIFIED:20220909T044016Z
UID:3162-1665600300-1665606600@9thvancouverpathfinders.ca
SUMMARY:Camp Planning for Fall Cozy Camp at Camp Olave
DESCRIPTION:We’re preparing for fall camp. Bring your craft\, game and awesome food ideas!
URL:https://9thvancouverpathfinders.ca/event/camp-planning-for-fall-cozy-camp-at-camp-olave/
LOCATION:St. Thomas Anglican\, 2444 East 41st Ave.\, Vancouver\, BC\, Canada
CATEGORIES:Regular Meeting
END:VEVENT
BEGIN:VEVENT
DTSTART;TZID=America/Vancouver:20220921T184500
DTEND;TZID=America/Vancouver:20220921T203000
DTSTAMP:20260419T061722
CREATED:20220909T034720Z
LAST-MODIFIED:20220909T035415Z
UID:3142-1663785900-1663792200@9thvancouverpathfinders.ca
SUMMARY:First meeting of the 2022/2023 Pathfinder year!
DESCRIPTION:It’s our first meeting of the year! \nCome at 6:45 pm to get to know each other\, the leader team\, and get inspired for the Pathfinder year! \nFor this meeting\, bring two objects to share with the group as part of our get-to-know-you activities. Bring something old and something new\, and be prepared to talk about your treasures. \nWe will also be handing out cookies to take home and sell (2 cases per girl).
URL:https://9thvancouverpathfinders.ca/event/first-event-of-the-2022-2023-pathfinder-year/
LOCATION:St. Thomas Anglican\, 2444 East 41st Ave.\, Vancouver\, BC\, Canada
CATEGORIES:Regular Meeting
END:VEVENT
BEGIN:VEVENT
DTSTART;TZID=America/Vancouver:20220608T184500
DTEND;TZID=America/Vancouver:20220608T203000
DTSTAMP:20260419T061722
CREATED:20220317T033942Z
LAST-MODIFIED:20220504T151714Z
UID:3023-1654713900-1654720200@9thvancouverpathfinders.ca
SUMMARY:Outdoor Camp Skills and Year-End Celebration
DESCRIPTION:We’re heading to Trout Lake for a special evening of camp skills! More info to come.
URL:https://9thvancouverpathfinders.ca/event/outdoor-camp-skills/
LOCATION:Trout Lake Park\, Meet at Trout Lake Concession Stand on south end of park (enter from 19th and Lakewood)\, Vancouver\, BC\, Canada
CATEGORIES:Outing,Regular Meeting
END:VEVENT
END:VCALENDAR