BEGIN:VCALENDAR
VERSION:2.0
PRODID:-//9th Vancouver Pathfinders - ECPv6.11.0.1//NONSGML v1.0//EN
CALSCALE:GREGORIAN
METHOD:PUBLISH
X-WR-CALNAME:9th Vancouver Pathfinders
X-ORIGINAL-URL:https://9thvancouverpathfinders.ca
X-WR-CALDESC:Events for 9th Vancouver Pathfinders
REFRESH-INTERVAL;VALUE=DURATION:PT1H
X-Robots-Tag:noindex
X-PUBLISHED-TTL:PT1H
BEGIN:VTIMEZONE
TZID:America/Vancouver
BEGIN:DAYLIGHT
TZOFFSETFROM:-0800
TZOFFSETTO:-0700
TZNAME:PDT
DTSTART:20140309T100000
END:DAYLIGHT
BEGIN:STANDARD
TZOFFSETFROM:-0700
TZOFFSETTO:-0800
TZNAME:PST
DTSTART:20141102T090000
END:STANDARD
BEGIN:DAYLIGHT
TZOFFSETFROM:-0800
TZOFFSETTO:-0700
TZNAME:PDT
DTSTART:20150308T100000
END:DAYLIGHT
BEGIN:STANDARD
TZOFFSETFROM:-0700
TZOFFSETTO:-0800
TZNAME:PST
DTSTART:20151101T090000
END:STANDARD
END:VTIMEZONE
BEGIN:VEVENT
DTSTART;TZID=America/Vancouver:20151028T184500
DTEND;TZID=America/Vancouver:20151028T203000
DTSTAMP:20260422T141803
CREATED:20151009T033139Z
LAST-MODIFIED:20151009T033139Z
UID:341-1446057900-1446064200@9thvancouverpathfinders.ca
SUMMARY:Halloween Party
DESCRIPTION:Dress up in costume and bring a small snack to share!  We will be doing part of the Camera Crazy module\, and taking lots of silly pictures in our costumes.
URL:https://9thvancouverpathfinders.ca/event/halloween-party-2/
LOCATION:St. Thomas Anglican\, 2444 East 41st Ave.\, Vancouver\, BC\, Canada
CATEGORIES:Regular Meeting
END:VEVENT
BEGIN:VEVENT
DTSTART;TZID=America/Vancouver:20151007T184500
DTEND;TZID=America/Vancouver:20151007T203000
DTSTAMP:20260422T141803
CREATED:20151005T032731Z
LAST-MODIFIED:20151005T033006Z
UID:328-1444243500-1444249800@9thvancouverpathfinders.ca
SUMMARY:Regular Meeting
DESCRIPTION:Tonight we will be looking at the program a bit more\, so please bring your book.  We will also talk about some options for camping\, and decide where we might like to go for a fall camp.  And Jenna has something fun up her sleeve!
URL:https://9thvancouverpathfinders.ca/event/regular-meeting-31/
LOCATION:St. Thomas Anglican\, 2444 East 41st Ave.\, Vancouver\, BC\, Canada
CATEGORIES:Regular Meeting
END:VEVENT
BEGIN:VEVENT
DTSTART;TZID=America/Vancouver:20150930T184500
DTEND;TZID=America/Vancouver:20150930T203000
DTSTAMP:20260422T141803
CREATED:20150923T171907Z
LAST-MODIFIED:20150923T171907Z
UID:320-1443638700-1443645000@9thvancouverpathfinders.ca
SUMMARY:Regular meeting
DESCRIPTION:We will be distributing Girl Guide cookies tonight and planning for our upcoming cookie selling events. \nIf you would like to attend the district event to Fort Langley National Historic Site\, please return your forms and payment today.  Forms are available here.
URL:https://9thvancouverpathfinders.ca/event/regular-meeting-30/
LOCATION:St. Thomas Anglican\, 2444 East 41st Ave.\, Vancouver\, BC\, Canada
CATEGORIES:Regular Meeting
END:VEVENT
BEGIN:VEVENT
DTSTART;TZID=America/Vancouver:20150923T184500
DTEND;TZID=America/Vancouver:20150923T203000
DTSTAMP:20260422T141803
CREATED:20150923T171642Z
LAST-MODIFIED:20150923T171719Z
UID:319-1443033900-1443040200@9thvancouverpathfinders.ca
SUMMARY:Regular meeting
DESCRIPTION:We’ll be getting familiarized with the Pathfinder program and dreaming big for our Pathfinder year.  Bring ideas about the types of outdoor activities\, service projects\, bridging activities (activities with girls from other levels of Guiding)\, fun events and program work that you would like to complete this year.
URL:https://9thvancouverpathfinders.ca/event/regular-meeting-29/
LOCATION:St. Thomas Anglican\, 2444 East 41st Ave.\, Vancouver\, BC\, Canada
CATEGORIES:Regular Meeting
END:VEVENT
BEGIN:VEVENT
DTSTART;TZID=America/Vancouver:20150916T184500
DTEND;TZID=America/Vancouver:20150916T203000
DTSTAMP:20260422T141803
CREATED:20150728T161909Z
LAST-MODIFIED:20150728T162114Z
UID:289-1442429100-1442435400@9thvancouverpathfinders.ca
SUMMARY:First Meeting of the Year
DESCRIPTION:Welcome back to Pathfinders!  We’ll be getting to know each other\, playing some games\, and planning some great activities for the first half of the program year. \nPlease bring your completed H1 form\, available for download on the Forms page. \n 
URL:https://9thvancouverpathfinders.ca/event/first-meeting-of-the-year/
LOCATION:St. Thomas Anglican\, 2444 East 41st Ave.\, Vancouver\, BC\, Canada
CATEGORIES:Regular Meeting
END:VEVENT
BEGIN:VEVENT
DTSTART;TZID=America/Vancouver:20150610T183000
DTEND;TZID=America/Vancouver:20150610T203000
DTSTAMP:20260422T141803
CREATED:20150113T060120Z
LAST-MODIFIED:20150605T052813Z
UID:191-1433961000-1433968200@9thvancouverpathfinders.ca
SUMMARY:Pizza and Movie Night
DESCRIPTION:Because we were the Pathfinder group who fundraised the most for CWFF with our pasta dinner in February\, we won a pizza party!  Come hungry at 6:30\, we will have pizza and watch a movie.
URL:https://9thvancouverpathfinders.ca/event/regular-meeting-28/
LOCATION:St. Thomas Anglican\, 2444 East 41st Ave.\, Vancouver\, BC\, Canada
CATEGORIES:Regular Meeting
END:VEVENT
BEGIN:VEVENT
DTSTART;TZID=America/Vancouver:20150603T184500
DTEND;TZID=America/Vancouver:20150603T203000
DTSTAMP:20260422T141803
CREATED:20150113T060040Z
LAST-MODIFIED:20150528T143922Z
UID:190-1433357100-1433363400@9thvancouverpathfinders.ca
SUMMARY:Regular Meeting
DESCRIPTION:We will be doing a bit of planning for our year-end party\, as well as a fun activity which will we require cameras.  Please bring a camera (or iPod\, or phone) if you have your parents’ permission.
URL:https://9thvancouverpathfinders.ca/event/regular-meeting-27/
LOCATION:St. Thomas Anglican\, 2444 East 41st Ave.\, Vancouver\, BC\, Canada
CATEGORIES:Regular Meeting
END:VEVENT
BEGIN:VEVENT
DTSTART;TZID=America/Vancouver:20150527T184500
DTEND;TZID=America/Vancouver:20150527T203000
DTSTAMP:20260422T141803
CREATED:20150113T055958Z
LAST-MODIFIED:20150402T175932Z
UID:189-1432752300-1432758600@9thvancouverpathfinders.ca
SUMMARY:Career Information Night
DESCRIPTION:We’re hosting a number of inspirational women to share their careers\, stories\, and lessons with us.  Wear your uniform\, and bring some great questions!
URL:https://9thvancouverpathfinders.ca/event/regular-meeting-26/
LOCATION:St. Thomas Anglican\, 2444 East 41st Ave.\, Vancouver\, BC\, Canada
CATEGORIES:Regular Meeting
END:VEVENT
BEGIN:VEVENT
DTSTART;TZID=America/Vancouver:20150520T184500
DTEND;TZID=America/Vancouver:20150520T203000
DTSTAMP:20260422T141803
CREATED:20150113T055908Z
LAST-MODIFIED:20150113T055908Z
UID:188-1432147500-1432153800@9thvancouverpathfinders.ca
SUMMARY:Regular Meeting
DESCRIPTION:More info to come!
URL:https://9thvancouverpathfinders.ca/event/regular-meeting-25/
LOCATION:St. Thomas Anglican\, 2444 East 41st Ave.\, Vancouver\, BC\, Canada
CATEGORIES:Regular Meeting
END:VEVENT
BEGIN:VEVENT
DTSTART;TZID=America/Vancouver:20150513T184500
DTEND;TZID=America/Vancouver:20150513T203000
DTSTAMP:20260422T141803
CREATED:20150113T055820Z
LAST-MODIFIED:20150430T050233Z
UID:187-1431542700-1431549000@9thvancouverpathfinders.ca
SUMMARY:Regular Meeting
DESCRIPTION:Cookie money is due tonight.
URL:https://9thvancouverpathfinders.ca/event/regular-meeting-24/
LOCATION:St. Thomas Anglican\, 2444 East 41st Ave.\, Vancouver\, BC\, Canada
CATEGORIES:Regular Meeting
END:VEVENT
BEGIN:VEVENT
DTSTART;TZID=America/Vancouver:20150506T064500
DTEND;TZID=America/Vancouver:20150506T203000
DTSTAMP:20260422T141803
CREATED:20150113T055735Z
LAST-MODIFIED:20150113T055735Z
UID:186-1430894700-1430944200@9thvancouverpathfinders.ca
SUMMARY:Regular Meeting
DESCRIPTION:More info to come!
URL:https://9thvancouverpathfinders.ca/event/regular-meeting-23/
LOCATION:St. Thomas Anglican\, 2444 East 41st Ave.\, Vancouver\, BC\, Canada
CATEGORIES:Regular Meeting
END:VEVENT
BEGIN:VEVENT
DTSTART;TZID=America/Vancouver:20150422T184500
DTEND;TZID=America/Vancouver:20150422T203000
DTSTAMP:20260422T141803
CREATED:20150113T055526Z
LAST-MODIFIED:20150413T173134Z
UID:184-1429728300-1429734600@9thvancouverpathfinders.ca
SUMMARY:Yoga with Girlvana Yoga
DESCRIPTION:We’re hosting a special girl-centered yoga class with local yoga gurus Girlvana!  Girlvana’s mission is to grow healthy and grounded teens. \nPlease be on time as the yoga class will start at 7:00 pm sharp and we will need some time to get settled upon arrival.  Wear comfy clothes that you can bend and stretch in.  Plan to be barefoot. \nPlease bring a $5 contribution for this yoga session.
URL:https://9thvancouverpathfinders.ca/event/regular-meeting-21/
LOCATION:St. Thomas Anglican\, 2444 East 41st Ave.\, Vancouver\, BC\, Canada
CATEGORIES:Regular Meeting
END:VEVENT
BEGIN:VEVENT
DTSTART;TZID=America/Vancouver:20150415T184500
DTEND;TZID=America/Vancouver:20150415T203000
DTSTAMP:20260422T141803
CREATED:20150113T055433Z
LAST-MODIFIED:20150402T175821Z
UID:183-1429123500-1429129800@9thvancouverpathfinders.ca
SUMMARY:Camp Planning and Baking Extravaganza
DESCRIPTION:We’re planning our next camp\, taking place May 8-10 at Camp Olave!  We will also be baking some tasty treats.
URL:https://9thvancouverpathfinders.ca/event/regular-meeting-20/
LOCATION:St. Thomas Anglican\, 2444 East 41st Ave.\, Vancouver\, BC\, Canada
CATEGORIES:Regular Meeting
END:VEVENT
BEGIN:VEVENT
DTSTART;TZID=America/Vancouver:20150408T163000
DTEND;TZID=America/Vancouver:20150408T183000
DTSTAMP:20260422T141803
CREATED:20150113T055312Z
LAST-MODIFIED:20150216T183958Z
UID:182-1428510600-1428517800@9thvancouverpathfinders.ca
SUMMARY:Skytrain Cookie Selling
DESCRIPTION:We’ll be selling spring cookies at a Skytrain station!  Note the planned early start time.  More info to come!
URL:https://9thvancouverpathfinders.ca/event/regular-meeting-19/
LOCATION:St. Thomas Anglican\, 2444 East 41st Ave.\, Vancouver\, BC\, Canada
CATEGORIES:Regular Meeting
END:VEVENT
BEGIN:VEVENT
DTSTART;TZID=America/Vancouver:20150401T184500
DTEND;TZID=America/Vancouver:20150401T203000
DTSTAMP:20260422T141803
CREATED:20150113T053423Z
LAST-MODIFIED:20150113T055205Z
UID:176-1427913900-1427920200@9thvancouverpathfinders.ca
SUMMARY:Regular Meeting
DESCRIPTION:More info to come!
URL:https://9thvancouverpathfinders.ca/event/regular-meeting-18/
LOCATION:St. Thomas Anglican\, 2444 East 41st Ave.\, Vancouver\, BC\, Canada
CATEGORIES:Regular Meeting
END:VEVENT
BEGIN:VEVENT
DTSTART;TZID=America/Vancouver:20150325T184500
DTEND;TZID=America/Vancouver:20150325T203000
DTSTAMP:20260422T141803
CREATED:20141121T180906Z
LAST-MODIFIED:20150311T232645Z
UID:150-1427309100-1427315400@9thvancouverpathfinders.ca
SUMMARY:Regular Meeting: Camp Preparation
DESCRIPTION:We’ll be working on some camp skills and program modules for the Stave Lake camp! \nNote – permissions forms and payment for the Southridge District Camp Academy are due today!  See the Forms page for more information. \nAlso\, we will be sending spring cookies home with Pathfinders today!  If you would like more than one case\, please contact Karla.
URL:https://9thvancouverpathfinders.ca/event/camp-preparation/
LOCATION:St. Thomas Anglican\, 2444 East 41st Ave.\, Vancouver\, BC\, Canada
CATEGORIES:Regular Meeting
END:VEVENT
BEGIN:VEVENT
DTSTART;TZID=America/Vancouver:20150304T184500
DTEND;TZID=America/Vancouver:20150304T203000
DTSTAMP:20260422T141803
CREATED:20141121T180608Z
LAST-MODIFIED:20150216T185044Z
UID:148-1425494700-1425501000@9thvancouverpathfinders.ca
SUMMARY:Regular Meeting: Camp planning and skills
DESCRIPTION:We will be dividing into patrols and planning our menus and kit lists for our camp at Stave Lake!
URL:https://9thvancouverpathfinders.ca/event/regular-meeting-17/
LOCATION:St. Thomas Anglican\, 2444 East 41st Ave.\, Vancouver\, BC\, Canada
CATEGORIES:Regular Meeting
END:VEVENT
BEGIN:VEVENT
DTSTART;TZID=America/Vancouver:20150225T184500
DTEND;TZID=America/Vancouver:20150225T203000
DTSTAMP:20260422T141803
CREATED:20141121T180521Z
LAST-MODIFIED:20150216T185355Z
UID:147-1424889900-1424896200@9thvancouverpathfinders.ca
SUMMARY:Regular Meeting: Pink Shirt Day Fun
DESCRIPTION:We’ll be doing a variety of activities to celebrate Pink Shirt Day!  More information about Pink Shirt Day is available here: http://pinkshirtday.ca/
URL:https://9thvancouverpathfinders.ca/event/regular-meeting-16/
LOCATION:St. Thomas Anglican\, 2444 East 41st Ave.\, Vancouver\, BC\, Canada
CATEGORIES:Regular Meeting
END:VEVENT
BEGIN:VEVENT
DTSTART;TZID=America/Vancouver:20150218T184500
DTEND;TZID=America/Vancouver:20150218T203000
DTSTAMP:20260422T141803
CREATED:20141121T180438Z
LAST-MODIFIED:20150113T054053Z
UID:146-1424285100-1424291400@9thvancouverpathfinders.ca
SUMMARY:Regular Meeting: Art therapy activity
DESCRIPTION:We’ll be having a special guest to lead us in some art-based therapy activities – stay tuned for more information!
URL:https://9thvancouverpathfinders.ca/event/regular-meeting-15/
LOCATION:St. Thomas Anglican\, 2444 East 41st Ave.\, Vancouver\, BC\, Canada
CATEGORIES:Regular Meeting
END:VEVENT
BEGIN:VEVENT
DTSTART;TZID=America/Vancouver:20150211T180000
DTEND;TZID=America/Vancouver:20150211T203000
DTSTAMP:20260422T141803
CREATED:20141121T180352Z
LAST-MODIFIED:20150120T172414Z
UID:145-1423677600-1423686600@9thvancouverpathfinders.ca
SUMMARY:Dinner and Silent Auction for Canadian World Friendship Fund
DESCRIPTION:In preparation for Thinking Day (February 22nd)\, we will be co-hosting a dinner and silent auction with the 124th Brownies to raise funds for the Canadian World Friendship Fund. \nNOTE EARLY START: Pathfinders\, please arrive at 6:00 pm to set up and decorate. \nGuests\, please arrive at 6:30 pm. \nDonations to the silent auction are welcome – please contact Karla if you have items you would like to contribute. \n 
URL:https://9thvancouverpathfinders.ca/event/regular-meeting-14/
LOCATION:St. Thomas Anglican\, 2444 East 41st Ave.\, Vancouver\, BC\, Canada
CATEGORIES:Regular Meeting
END:VEVENT
BEGIN:VEVENT
DTSTART;TZID=America/Vancouver:20150204T184500
DTEND;TZID=America/Vancouver:20150204T203000
DTSTAMP:20260422T141803
CREATED:20141121T011334Z
LAST-MODIFIED:20150204T232241Z
UID:123-1423075500-1423081800@9thvancouverpathfinders.ca
SUMMARY:Regular Meeting & Camp Planning
DESCRIPTION:We will be planning the menu\, kit lists\, patrols\, and activities for our upcoming camp at Stave Lake.
URL:https://9thvancouverpathfinders.ca/event/regular-meeting-13/
LOCATION:St. Thomas Anglican\, 2444 East 41st Ave.\, Vancouver\, BC\, Canada
CATEGORIES:Regular Meeting
END:VEVENT
BEGIN:VEVENT
DTSTART;TZID=America/Vancouver:20150128T180000
DTEND;TZID=America/Vancouver:20150128T203000
DTSTAMP:20260422T141803
CREATED:20141121T011252Z
LAST-MODIFIED:20150124T223514Z
UID:122-1422468000-1422477000@9thvancouverpathfinders.ca
SUMMARY:Snowflake Ball
DESCRIPTION:NOTE ADJUSTED MEETING TIME! PLEASE ARRIVE AT 6:00 PM!  \nWe are hosting the Snowflake Ball for the Brownies. The Pathfinders are leading stations.  Please remember your supplies\, and let Amy know if you need her to buy something. Also\, this is a costume party – sparkles\, ball gowns\, and fancy attire are strongly encouraged! \n  \nRibbon Stick Dances \nMaya – ribbon\, colourful duct tape \nHayley – chopsticks \n  \nWand Creation \nSydney – chopsticks\, ribbon \nCassie – fun foam shapes\, glitter pens\, markers \n  \nPin the Nose on the Snowman \nMegan – big snowman picture\, carrot noses \nAnnette – blindfold \n  \nBuild an Ice Palace \nApril – cardboard \nMegan – sugar cubes \nRachel – royal icing \n  \nSnowball Catch \nMegan & Bella – mini marshmallows (bought by Amy)
URL:https://9thvancouverpathfinders.ca/event/regular-meeting-12/
LOCATION:St. Thomas Anglican\, 2444 East 41st Ave.\, Vancouver\, BC\, Canada
CATEGORIES:Regular Meeting
END:VEVENT
BEGIN:VEVENT
DTSTART;TZID=America/Vancouver:20150121T064500
DTEND;TZID=America/Vancouver:20150121T203000
DTSTAMP:20260422T141803
CREATED:20141121T011211Z
LAST-MODIFIED:20150113T053806Z
UID:121-1421822700-1421872200@9thvancouverpathfinders.ca
SUMMARY:Regular Meeting: Program work
DESCRIPTION:We’ll be working on ‘Media and Image’ module in Pathfinder Program\, which includes collage-making and film-watching! Bring any old magazines if you have some!
URL:https://9thvancouverpathfinders.ca/event/regular-meeting-11/
LOCATION:St. Thomas Anglican\, 2444 East 41st Ave.\, Vancouver\, BC\, Canada
CATEGORIES:Regular Meeting
END:VEVENT
BEGIN:VEVENT
DTSTART;TZID=America/Vancouver:20150114T184500
DTEND;TZID=America/Vancouver:20150114T200000
DTSTAMP:20260422T141803
CREATED:20141121T011123Z
LAST-MODIFIED:20150113T053616Z
UID:120-1421261100-1421265600@9thvancouverpathfinders.ca
SUMMARY:District Bottle Drive and Regular Meeting
DESCRIPTION:We will be collecting recyclables for a District bottle drive to help support amazing Southridge District events.  Please drop off rinsed\, returnable beverage containers at the start of the Pathfinder meeting. \nWe’ll also be filling out our Program Record Sheets and doing some planning for the upcoming Snowflake Ball!
URL:https://9thvancouverpathfinders.ca/event/regular-meeting-10/
LOCATION:St. Thomas Anglican\, 2444 East 41st Ave.\, Vancouver\, BC\, Canada
CATEGORIES:Regular Meeting
END:VEVENT
BEGIN:VEVENT
DTSTART;TZID=America/Vancouver:20141203T184500
DTEND;TZID=America/Vancouver:20141203T203000
DTSTAMP:20260422T141803
CREATED:20141204T000747Z
LAST-MODIFIED:20140927T231717Z
UID:83-1417632300-1417638600@9thvancouverpathfinders.ca
SUMMARY:Holiday Baking Night
DESCRIPTION:We will do some baking tonight to share.
URL:https://9thvancouverpathfinders.ca/event/holiday-baking-night/
LOCATION:St. Thomas Anglican\, 2444 East 41st Ave.\, Vancouver\, BC\, Canada
CATEGORIES:Regular Meeting
END:VEVENT
BEGIN:VEVENT
DTSTART;TZID=America/Vancouver:20141203T184500
DTEND;TZID=America/Vancouver:20141203T203000
DTSTAMP:20260422T141803
CREATED:20141103T195447Z
LAST-MODIFIED:20141103T195447Z
UID:113-1417632300-1417638600@9thvancouverpathfinders.ca
SUMMARY:Regular meeting
DESCRIPTION:This we we will be doing a surprise seasonal activity! More details to come.
URL:https://9thvancouverpathfinders.ca/event/regular-meeting-9/
LOCATION:St. Thomas Anglican\, 2444 East 41st Ave.\, Vancouver\, BC\, Canada
CATEGORIES:Regular Meeting
END:VEVENT
BEGIN:VEVENT
DTSTART;TZID=America/Vancouver:20141126T184500
DTEND;TZID=America/Vancouver:20141126T203000
DTSTAMP:20260422T141803
CREATED:20140927T230534Z
LAST-MODIFIED:20141121T180132Z
UID:82-1417027500-1417033800@9thvancouverpathfinders.ca
SUMMARY:Regular Meeting
DESCRIPTION:We will make Christmas cards for seniors as a service activity.
URL:https://9thvancouverpathfinders.ca/event/regular-meeting-8/
LOCATION:St. Thomas Anglican\, 2444 East 41st Ave.\, Vancouver\, BC\, Canada
CATEGORIES:Regular Meeting
END:VEVENT
BEGIN:VEVENT
DTSTART;TZID=America/Vancouver:20141119T184500
DTEND;TZID=America/Vancouver:20141119T203000
DTSTAMP:20260422T141803
CREATED:20140927T225508Z
LAST-MODIFIED:20140927T225508Z
UID:81-1416422700-1416429000@9thvancouverpathfinders.ca
SUMMARY:Enrolment
DESCRIPTION:More details to come about our enrolment ceremony.
URL:https://9thvancouverpathfinders.ca/event/enrolment/
LOCATION:St. Thomas Anglican\, 2444 East 41st Ave.\, Vancouver\, BC\, Canada
CATEGORIES:Regular Meeting
END:VEVENT
BEGIN:VEVENT
DTSTART;TZID=America/Vancouver:20141105T184500
DTEND;TZID=America/Vancouver:20141105T203000
DTSTAMP:20260422T141803
CREATED:20140927T224925Z
LAST-MODIFIED:20140927T224925Z
UID:79-1415213100-1415219400@9thvancouverpathfinders.ca
SUMMARY:Regular Meeting
DESCRIPTION:We will continue working on program modules
URL:https://9thvancouverpathfinders.ca/event/regular-meeting-6/
LOCATION:St. Thomas Anglican\, 2444 East 41st Ave.\, Vancouver\, BC\, Canada
CATEGORIES:Regular Meeting
END:VEVENT
BEGIN:VEVENT
DTSTART;TZID=America/Vancouver:20141029T184500
DTEND;TZID=America/Vancouver:20141029T203000
DTSTAMP:20260422T141803
CREATED:20140929T224734Z
LAST-MODIFIED:20140927T231649Z
UID:78-1414608300-1414614600@9thvancouverpathfinders.ca
SUMMARY:Halloween Party
DESCRIPTION:Snacks\, games\, and of course costumes!  We will plan our own spooky fun.
URL:https://9thvancouverpathfinders.ca/event/halloween-party/
LOCATION:St. Thomas Anglican\, 2444 East 41st Ave.\, Vancouver\, BC\, Canada
CATEGORIES:Regular Meeting
END:VEVENT
END:VCALENDAR