BEGIN:VCALENDAR
VERSION:2.0
PRODID:-//9th Vancouver Pathfinders - ECPv6.11.0.1//NONSGML v1.0//EN
CALSCALE:GREGORIAN
METHOD:PUBLISH
X-WR-CALNAME:9th Vancouver Pathfinders
X-ORIGINAL-URL:https://9thvancouverpathfinders.ca
X-WR-CALDESC:Events for 9th Vancouver Pathfinders
REFRESH-INTERVAL;VALUE=DURATION:PT1H
X-Robots-Tag:noindex
X-PUBLISHED-TTL:PT1H
BEGIN:VTIMEZONE
TZID:America/Vancouver
BEGIN:DAYLIGHT
TZOFFSETFROM:-0800
TZOFFSETTO:-0700
TZNAME:PDT
DTSTART:20160313T100000
END:DAYLIGHT
BEGIN:STANDARD
TZOFFSETFROM:-0700
TZOFFSETTO:-0800
TZNAME:PST
DTSTART:20161106T090000
END:STANDARD
BEGIN:DAYLIGHT
TZOFFSETFROM:-0800
TZOFFSETTO:-0700
TZNAME:PDT
DTSTART:20170312T100000
END:DAYLIGHT
BEGIN:STANDARD
TZOFFSETFROM:-0700
TZOFFSETTO:-0800
TZNAME:PST
DTSTART:20171105T090000
END:STANDARD
BEGIN:DAYLIGHT
TZOFFSETFROM:-0800
TZOFFSETTO:-0700
TZNAME:PDT
DTSTART:20180311T100000
END:DAYLIGHT
BEGIN:STANDARD
TZOFFSETFROM:-0700
TZOFFSETTO:-0800
TZNAME:PST
DTSTART:20181104T090000
END:STANDARD
END:VTIMEZONE
BEGIN:VEVENT
DTSTART;TZID=America/Vancouver:20180502T184500
DTEND;TZID=America/Vancouver:20180502T203000
DTSTAMP:20260422T061504
CREATED:20180127T045736Z
LAST-MODIFIED:20180401T165311Z
UID:1428-1525286700-1525293000@9thvancouverpathfinders.ca
SUMMARY:Camp Skills #1 - It's all about gear!
DESCRIPTION:We’re getting ready for our backpacking trip to Newcastle Island! Tonight\, we’re covering the following topics: \n\nCamping here we come #2: individual kit lists for backpacking\nCamping here we come #3: group gear\nCamping here we come #4: menu planning\n\nEven if you’re not coming to camp\, this information is valuable and counts towards your Canada Cord. \nWe’ll also spend some time making crafts and finishing up some other modules!
URL:https://9thvancouverpathfinders.ca/event/camp-planning-1-its-all-about-gear/
LOCATION:First Lutheran Church\, 5745 Wales St\, Vancouver\, BC\, Canada
CATEGORIES:Regular Meeting
END:VEVENT
BEGIN:VEVENT
DTSTART;TZID=America/Vancouver:20180425T184500
DTEND;TZID=America/Vancouver:20180425T203000
DTSTAMP:20260422T061504
CREATED:20180127T050309Z
LAST-MODIFIED:20180416T230501Z
UID:1433-1524681900-1524688200@9thvancouverpathfinders.ca
SUMMARY:Stitchery Evening
DESCRIPTION:We’ve got a great activity and special guest lined up for a crafty evening! Come get creative. 🙂
URL:https://9thvancouverpathfinders.ca/event/swimming-tent/
LOCATION:BC
CATEGORIES:Regular Meeting
END:VEVENT
BEGIN:VEVENT
DTSTART;TZID=America/Vancouver:20180404T184500
DTEND;TZID=America/Vancouver:20180404T203000
DTSTAMP:20260422T061504
CREATED:20180127T043926Z
LAST-MODIFIED:20180401T165131Z
UID:1420-1522867500-1522873800@9thvancouverpathfinders.ca
SUMMARY:Be a Model Citizen and Broaden Your Horizons
DESCRIPTION:We’re working on the Be a Model Citizen and Broaden Your Horizons modules! This is mandatory for your Canada Cord\, so you’re not going to want to miss this one! \nWe will also be handing out cookies to sell! \n 
URL:https://9thvancouverpathfinders.ca/event/be-a-model-citizen/
LOCATION:First Lutheran Church\, 5745 Wales St\, Vancouver\, BC\, Canada
CATEGORIES:Regular Meeting
END:VEVENT
BEGIN:VEVENT
DTSTART;TZID=America/Vancouver:20180307T184500
DTEND;TZID=America/Vancouver:20180307T203000
DTSTAMP:20260422T061504
CREATED:20180127T042852Z
LAST-MODIFIED:20180127T042956Z
UID:1418-1520448300-1520454600@9thvancouverpathfinders.ca
SUMMARY:Be a Model Citizen and Sock Monkey Catch-Up
DESCRIPTION:Didn’t make it on Feb 28? You still have a chance to catch up on the sock monkey project we’re doing as a group. \nAhead of the game on sock monkeys?  We’re doing a few modules from the Be a Model Citizen program area\, which is a big project and mandatory for your Canada Cord.
URL:https://9thvancouverpathfinders.ca/event/be-a-model-citizen-and-sock-monkey-catch-up/
LOCATION:St. Thomas Anglican\, 2444 East 41st Ave.\, Vancouver\, BC\, Canada
CATEGORIES:Regular Meeting
END:VEVENT
BEGIN:VEVENT
DTSTART;TZID=America/Vancouver:20180228T064500
DTEND;TZID=America/Vancouver:20180228T083000
DTSTAMP:20260422T061504
CREATED:20180127T042124Z
LAST-MODIFIED:20180127T042124Z
UID:1412-1519800300-1519806600@9thvancouverpathfinders.ca
SUMMARY:Sock Monkey Making #1
DESCRIPTION:We’re crafting! Hooray!
URL:https://9thvancouverpathfinders.ca/event/sock-monkey-making-1/
LOCATION:BC
CATEGORIES:Regular Meeting
END:VEVENT
BEGIN:VEVENT
DTSTART;TZID=America/Vancouver:20180214T184500
DTEND;TZID=America/Vancouver:20180214T203000
DTSTAMP:20260422T061504
CREATED:20180127T040634Z
LAST-MODIFIED:20180127T040634Z
UID:1404-1518633900-1518640200@9thvancouverpathfinders.ca
SUMMARY:Valentine's Day Party
DESCRIPTION:We’re going to have a fun evening of love\, laughter and celebration! \nWe’ll also be testing our equipment and making the final plans for the karaoke fundraiser on the 21st\, so bring your planning notes!
URL:https://9thvancouverpathfinders.ca/event/valentines-day-party/
LOCATION:St. Thomas Anglican\, 2444 East 41st Ave.\, Vancouver\, BC\, Canada
CATEGORIES:Regular Meeting
END:VEVENT
BEGIN:VEVENT
DTSTART;TZID=America/Vancouver:20180207T184500
DTEND;TZID=America/Vancouver:20180207T203000
DTSTAMP:20260422T061504
CREATED:20180127T040321Z
LAST-MODIFIED:20180127T052921Z
UID:1401-1518029100-1518035400@9thvancouverpathfinders.ca
SUMMARY:Winter Adventure Preparation and Learning
DESCRIPTION:We’re learning all about the outdoors – especially in the winter – in preparation for our snowshoe outing to Dog Mountain! \nWe’ll be covering off: \nWinter Wonderland #4 – layering \nSurvivor Girl #5 – prepare for the woods \nSurvivor Girl #6 – route planning \nOutdoor Know How #1 – plan a trip away from civilization \nPlus…. a camp planning budgeting exercise in preparation for our camp in May! \nThese activities all count towards your Canada Cord!
URL:https://9thvancouverpathfinders.ca/event/winter-adventure-preparation/
LOCATION:St. Thomas Anglican\, 2444 East 41st Ave.\, Vancouver\, BC\, Canada
CATEGORIES:Regular Meeting
END:VEVENT
BEGIN:VEVENT
DTSTART;TZID=America/Vancouver:20180110T184500
DTEND;TZID=America/Vancouver:20180110T203000
DTSTAMP:20260422T061504
CREATED:20171012T092151Z
LAST-MODIFIED:20171012T092151Z
UID:1253-1515609900-1515616200@9thvancouverpathfinders.ca
SUMMARY:First meeting of 2018!
DESCRIPTION:More info to come!
URL:https://9thvancouverpathfinders.ca/event/first-meeting-of-2018/
LOCATION:St. Thomas Anglican\, 2444 East 41st Ave.\, Vancouver\, BC\, Canada
CATEGORIES:Regular Meeting
END:VEVENT
BEGIN:VEVENT
DTSTART;TZID=America/Vancouver:20171206T184500
DTEND;TZID=America/Vancouver:20171206T203000
DTSTAMP:20260422T061504
CREATED:20171012T091640Z
LAST-MODIFIED:20171129T045205Z
UID:1251-1512585900-1512592200@9thvancouverpathfinders.ca
SUMMARY:Card making for seniors with the 124th Brownies
DESCRIPTION:We’re having a bridging evening with the 124th Brownies!  We’re going to be making holiday cards for seniors\, to bring others in our community some holiday cheer.
URL:https://9thvancouverpathfinders.ca/event/regular-meeting-51/
LOCATION:BC
CATEGORIES:Regular Meeting
END:VEVENT
BEGIN:VEVENT
DTSTART;TZID=America/Vancouver:20171129T184500
DTEND;TZID=America/Vancouver:20171129T203000
DTSTAMP:20260422T061504
CREATED:20171012T091453Z
LAST-MODIFIED:20171129T045023Z
UID:1247-1511981100-1511987400@9thvancouverpathfinders.ca
SUMMARY:Creative Crafty Fun!
DESCRIPTION:We’re making a tasty treat to take home\, and another fun craft for yourself or gifting! Bring your most creative energy. 🙂
URL:https://9thvancouverpathfinders.ca/event/regular-meeting-50/
LOCATION:St. Thomas Anglican\, 2444 East 41st Ave.\, Vancouver\, BC\, Canada
CATEGORIES:Regular Meeting
END:VEVENT
BEGIN:VEVENT
DTSTART;TZID=America/Vancouver:20171122T184500
DTEND;TZID=America/Vancouver:20171122T203000
DTSTAMP:20260422T061504
CREATED:20171012T091355Z
LAST-MODIFIED:20171012T091355Z
UID:1245-1511376300-1511382600@9thvancouverpathfinders.ca
SUMMARY:Regular meeting
DESCRIPTION:More info to come!
URL:https://9thvancouverpathfinders.ca/event/regular-meeting-49/
LOCATION:St. Thomas Anglican\, 2444 East 41st Ave.\, Vancouver\, BC\, Canada
CATEGORIES:Regular Meeting
END:VEVENT
BEGIN:VEVENT
DTSTART;TZID=America/Vancouver:20171115T184500
DTEND;TZID=America/Vancouver:20171115T203000
DTSTAMP:20260422T061504
CREATED:20171012T091313Z
LAST-MODIFIED:20171114T045712Z
UID:1243-1510771500-1510777800@9thvancouverpathfinders.ca
SUMMARY:Bridging Event - BC Shakeout Challenge - with 124th Brownies
DESCRIPTION:We’re hosting a bridging evening for the 124th Brownies! Come in uniform\, and be prepared to lead some fun\, educational activities about earthquake preparedness!
URL:https://9thvancouverpathfinders.ca/event/regular-meeting-48/
LOCATION:St. Thomas Anglican\, 2444 East 41st Ave.\, Vancouver\, BC\, Canada
CATEGORIES:Regular Meeting
END:VEVENT
BEGIN:VEVENT
DTSTART;TZID=America/Vancouver:20171101T184500
DTEND;TZID=America/Vancouver:20171101T203000
DTSTAMP:20260422T061504
CREATED:20171012T091022Z
LAST-MODIFIED:20171101T052458Z
UID:1238-1509561900-1509568200@9thvancouverpathfinders.ca
SUMMARY:Enrolment Prep and Volunteer Shift
DESCRIPTION:Enrolment is next week\, so Pathfinders new to the unit will be completing some very important modules in preparation for next week’s ceremony. \n2nd and 3rd year Pathfinders will be spending some time with the Brownies upstairs and earning some valuable community service hours leading games\, activities\, and sharing stories about Guiding!
URL:https://9thvancouverpathfinders.ca/event/enrolment-and-camp-planning/
LOCATION:St. Thomas Anglican\, 2444 East 41st Ave.\, Vancouver\, BC\, Canada
CATEGORIES:Regular Meeting
END:VEVENT
BEGIN:VEVENT
DTSTART;TZID=America/Vancouver:20171011T184500
DTEND;TZID=America/Vancouver:20171011T203000
DTSTAMP:20260422T061504
CREATED:20171011T115033Z
LAST-MODIFIED:20171011T115033Z
UID:1230-1507747500-1507753800@9thvancouverpathfinders.ca
SUMMARY:International Day of the Girl!
DESCRIPTION:It’s International Day of the Girl! We’re doing the International Day of the Girl WAGGGS Challenge\, and planning out enrolment ceremony. \nPlease bring back cookie money and forms and payment for call camp at Olave\, if you have them! Reminder that camp registration is due November 1.
URL:https://9thvancouverpathfinders.ca/event/international-day-of-the-girl/
LOCATION:St. Thomas Anglican\, 2444 East 41st Ave.\, Vancouver\, BC\, Canada
CATEGORIES:Regular Meeting
END:VEVENT
BEGIN:VEVENT
DTSTART;TZID=America/Vancouver:20170927T184500
DTEND;TZID=America/Vancouver:20170927T203000
DTSTAMP:20260422T061504
CREATED:20170903T190928Z
LAST-MODIFIED:20170912T205836Z
UID:1182-1506537900-1506544200@9thvancouverpathfinders.ca
SUMMARY:Regular Meeting
DESCRIPTION:More info to come!
URL:https://9thvancouverpathfinders.ca/event/regular-meeting-47/
LOCATION:St. Thomas Anglican\, 2444 East 41st Ave.\, Vancouver\, BC\, Canada
CATEGORIES:Regular Meeting
END:VEVENT
BEGIN:VEVENT
DTSTART;TZID=America/Vancouver:20170920T184500
DTEND;TZID=America/Vancouver:20170920T203000
DTSTAMP:20260422T061504
CREATED:20170903T190428Z
LAST-MODIFIED:20170903T190428Z
UID:1178-1505933100-1505939400@9thvancouverpathfinders.ca
SUMMARY:Regular meeting
DESCRIPTION:More info to come!
URL:https://9thvancouverpathfinders.ca/event/regular-meeting-46/
LOCATION:St. Thomas Anglican\, 2444 East 41st Ave.\, Vancouver\, BC\, Canada
CATEGORIES:Regular Meeting
END:VEVENT
BEGIN:VEVENT
DTSTART;TZID=America/Vancouver:20170913T184500
DTEND;TZID=America/Vancouver:20170913T203000
DTSTAMP:20260422T061504
CREATED:20170606T050035Z
LAST-MODIFIED:20170606T050144Z
UID:1139-1505328300-1505334600@9thvancouverpathfinders.ca
SUMMARY:First Meeting of the 2017/2018 Pathfinder Year!
DESCRIPTION:It’s our first meeting of the year! Please bring a completed Personal Health Form and $50 unit dues. Parents\, please plan to stay for the first half hour of the meeting to meet the Guiders and make sure we have all of our registration paperwork in order!
URL:https://9thvancouverpathfinders.ca/event/first-meeting-of-the-20172018/
LOCATION:St. Thomas Anglican\, 2444 East 41st Ave.\, Vancouver\, BC\, Canada
CATEGORIES:Regular Meeting
END:VEVENT
BEGIN:VEVENT
DTSTART;TZID=America/Vancouver:20170524T184500
DTEND;TZID=America/Vancouver:20170524T203000
DTSTAMP:20260422T061504
CREATED:20170326T184037Z
LAST-MODIFIED:20170420T060507Z
UID:1045-1495651500-1495657800@9thvancouverpathfinders.ca
SUMMARY:Summer Camp Planning!
DESCRIPTION:Assigning patrols\, planning menus and deciding what we’re going to get up to while we’re at camp! \nTo spark your imagination in preparation for camp\, here’s the Camp Olave program guide.
URL:https://9thvancouverpathfinders.ca/event/regular-meeting-44/
LOCATION:St. Thomas Anglican\, 2444 East 41st Ave.\, Vancouver\, BC\, Canada
CATEGORIES:Regular Meeting
END:VEVENT
BEGIN:VEVENT
DTSTART;TZID=America/Vancouver:20170517T184500
DTEND;TZID=America/Vancouver:20170517T203000
DTSTAMP:20260422T061504
CREATED:20170326T184127Z
LAST-MODIFIED:20170426T004136Z
UID:1047-1495046700-1495053000@9thvancouverpathfinders.ca
SUMMARY:Yoga with Girlvana Yoga
DESCRIPTION:Ashley from Girlvana Yoga will be joining us tonight to lead us through a fun night of yoga together in the upstairs rec room in the church. She will provide the mats (although you’re welcome to bring your own if you want). \nMake sure to wear comfortable\, stretchy clothing – no uniforms required tonight.
URL:https://9thvancouverpathfinders.ca/event/regular-meeting-45/
LOCATION:St. Thomas Anglican\, 2444 East 41st Ave.\, Vancouver\, BC\, Canada
CATEGORIES:Regular Meeting
END:VEVENT
BEGIN:VEVENT
DTSTART;TZID=America/Vancouver:20170419T184500
DTEND;TZID=America/Vancouver:20170419T203000
DTSTAMP:20260422T061504
CREATED:20170326T183909Z
LAST-MODIFIED:20170419T192914Z
UID:1041-1492627500-1492633800@9thvancouverpathfinders.ca
SUMMARY:Regular Meeting
DESCRIPTION:More info to come.
URL:https://9thvancouverpathfinders.ca/event/regular-meeting-42/
LOCATION:St. Thomas Anglican\, 2444 East 41st Ave.\, Vancouver\, BC\, Canada
CATEGORIES:Regular Meeting
END:VEVENT
BEGIN:VEVENT
DTSTART;TZID=America/Vancouver:20170308T184500
DTEND;TZID=America/Vancouver:20170308T203000
DTSTAMP:20260422T061504
CREATED:20170123T214017Z
LAST-MODIFIED:20170125T212504Z
UID:932-1488998700-1489005000@9thvancouverpathfinders.ca
SUMMARY:Cookie Rising: Lights\, Camera\, Cookies!
DESCRIPTION:We’re gearing up cookie season with a fun\, creative evening of arts\, drama\, film making\, and cookie planning! \nThis workshop is mandatory for anyone completing their Canada Cord this year.
URL:https://9thvancouverpathfinders.ca/event/regular-meeting-40/
LOCATION:St. Thomas Anglican\, 2444 East 41st Ave.\, Vancouver\, BC\, Canada
CATEGORIES:Cookie Selling,Regular Meeting
END:VEVENT
BEGIN:VEVENT
DTSTART;TZID=America/Vancouver:20170301T184500
DTEND;TZID=America/Vancouver:20170301T203000
DTSTAMP:20260422T061504
CREATED:20170104T221001Z
LAST-MODIFIED:20170221T003121Z
UID:837-1488393900-1488400200@9thvancouverpathfinders.ca
SUMMARY:Web Surfing Module
DESCRIPTION:This week we will work on the Web Surfing module.  We’ll talk about some of the benefits and challenges of being connected all the time and find some strategies for navigating our digitally connected lives.  If you have a device (phone\, iPod\, tablet\, etc) that you can bring\, please bring it as we will be creating some digital content to share the ideas we come up with.
URL:https://9thvancouverpathfinders.ca/event/web-surfing-module/
LOCATION:BC
CATEGORIES:Regular Meeting
END:VEVENT
BEGIN:VEVENT
DTSTART;TZID=America/Vancouver:20170201T184500
DTEND;TZID=America/Vancouver:20170201T203000
DTSTAMP:20260422T061504
CREATED:20170123T213106Z
LAST-MODIFIED:20170123T213106Z
UID:935-1485974700-1485981000@9thvancouverpathfinders.ca
SUMMARY:Regular Meeting
DESCRIPTION:More info to come!
URL:https://9thvancouverpathfinders.ca/event/regular-meeting-39/
LOCATION:St. Thomas Anglican\, 2444 East 41st Ave.\, Vancouver\, BC\, Canada
CATEGORIES:Regular Meeting
END:VEVENT
BEGIN:VEVENT
DTSTART;TZID=America/Vancouver:20170125T184500
DTEND;TZID=America/Vancouver:20170125T203000
DTSTAMP:20260422T061504
CREATED:20170123T014155Z
LAST-MODIFIED:20170123T014155Z
UID:926-1485369900-1485376200@9thvancouverpathfinders.ca
SUMMARY:Games Night!
DESCRIPTION:We’re playing board games and chilling out! \nAlso\, bring any (clean and dry!!) camping gear you borrowed for snow camp\, and updates on the tasks you’ve signed up for in preparation for our Camp Olave and Seattle trips as we’ll have a quick planning check-in before we play\, play\, play!
URL:https://9thvancouverpathfinders.ca/event/games-night/
LOCATION:St. Thomas Anglican\, 2444 East 41st Ave.\, Vancouver\, BC\, Canada
CATEGORIES:Regular Meeting
END:VEVENT
BEGIN:VEVENT
DTSTART;TZID=America/Vancouver:20170118T184500
DTEND;TZID=America/Vancouver:20170118T203000
DTSTAMP:20260422T061504
CREATED:20161107T165420Z
LAST-MODIFIED:20170113T054031Z
UID:741-1484765100-1484771400@9thvancouverpathfinders.ca
SUMMARY:Thinking Day Craft\, and Camp Cooking and Gear Prep
DESCRIPTION:Borrowing any camping gear for our weekend at Snow Camp? Make sure you attend to pick it up tonight! We’re also cooking up a surprise camp dish\, so we have less work to do when we get to camp. \nNot going to snow camp? No worries! We’re working on the West Coast Area Thinking Day challenge\, which is a bridging activity and includes a super-cute crest! \nForms and payment for the LifeSaver First Aid course with St John’s Ambulance are due tonight.
URL:https://9thvancouverpathfinders.ca/event/regular-meeting-and-snow-camp-gear-prep/
LOCATION:St. Thomas Anglican\, 2444 East 41st Ave.\, Vancouver\, BC\, Canada
CATEGORIES:Regular Meeting
END:VEVENT
BEGIN:VEVENT
DTSTART;TZID=America/Vancouver:20170111T184500
DTEND;TZID=America/Vancouver:20170111T203000
DTSTAMP:20260422T061504
CREATED:20161107T165513Z
LAST-MODIFIED:20161128T205618Z
UID:743-1484160300-1484166600@9thvancouverpathfinders.ca
SUMMARY:Big dreams for 2017!
DESCRIPTION:It’s our first meeting of 2017! We’re going to be hanging out\, brainstorming events and adventures for the rest of the Guiding year (think: camping! Seattle! special events! service project! yay!). Bring your program book!
URL:https://9thvancouverpathfinders.ca/event/first-meeting-of-2017/
LOCATION:St. Thomas Anglican\, 2444 East 41st Ave.\, Vancouver\, BC\, Canada
CATEGORIES:Regular Meeting
END:VEVENT
BEGIN:VEVENT
DTSTART;TZID=America/Vancouver:20161207T183000
DTEND;TZID=America/Vancouver:20161207T203000
DTSTAMP:20260422T061504
CREATED:20160915T173002Z
LAST-MODIFIED:20161114T011304Z
UID:629-1481135400-1481142600@9thvancouverpathfinders.ca
SUMMARY:Enchant: World's BIGGEST Holiday Light Maze!
DESCRIPTION:We’re heading downtown to check out Enchant: the World’s BIGGEST holiday light maze! Dress for the weather and bring your compass card as we’ll be on transit. Note the early meeting time of 6:30 pm. Drop off at 6:30 pm at 29th Ave Skytrain Station. Pick up at 8:30 pm at the light maze (299 W 1st Ave). Forms and payment of $15 are due no later than November 16. \n\nenchant-christmas-light-maze-sg1\nchristmas-light-maze-sg2\n\nNote: if you already returned forms and payment for the Stanley Park Christmas Train\, the $15 can be applied to the Light Maze. Please bring an updated SG2 (permission form). Talk to a leader if you have any questions.
URL:https://9thvancouverpathfinders.ca/event/last-meeting-before-winter-break/
LOCATION:BC
CATEGORIES:Outing,Regular Meeting
END:VEVENT
BEGIN:VEVENT
DTSTART;TZID=America/Vancouver:20161130T184500
DTEND;TZID=America/Vancouver:20161130T203000
DTSTAMP:20260422T061504
CREATED:20161007T001503Z
LAST-MODIFIED:20161128T203218Z
UID:681-1480531500-1480537800@9thvancouverpathfinders.ca
SUMMARY:Pajama Party and "Relationships\, Values\, and Choices" Module
DESCRIPTION:We’re relaxing and working on the “Relationships\, Values\, and Choices” module\, which is mandatory for your Canada Cord.  Come in your PJs and bring your favourite soft pal. \n 
URL:https://9thvancouverpathfinders.ca/event/pajama-party-and-relationships-values-choices-module/
LOCATION:St. Thomas Anglican\, 2444 East 41st Ave.\, Vancouver\, BC\, Canada
CATEGORIES:Regular Meeting
END:VEVENT
BEGIN:VEVENT
DTSTART;TZID=America/Vancouver:20161123T184500
DTEND;TZID=America/Vancouver:20161123T203000
DTSTAMP:20260422T061504
CREATED:20161107T165105Z
LAST-MODIFIED:20161107T212259Z
UID:737-1479926700-1479933000@9thvancouverpathfinders.ca
SUMMARY:Holiday Service Project and Final Gold Camp Prep
DESCRIPTION:For this year’s holiday service project\, we’re collecting items to donate to the Downtown Eastside Women’s Centre. Please bring items such as clean\, gently used clothing\, toiletries (hotel/travel sized preferred)\, feminine hygiene products\, and new socks and underwear to include in the package. Check out DEWC’s list of most in-demand items for inspiration. \nBoth this service project and our visit to the Greater Vancouver Food Bank in the spring are in support of Girl Guides of Canada’s national service project\, “Action on Poverty.” \nAlso\, this is the last week to finalize any plans and activities for those using our weekend at Camp Olave as their Gold Camp (RP\, HTL\, HW).
URL:https://9thvancouverpathfinders.ca/event/holiday-service-project-and-gold-camp/
LOCATION:St. Thomas Anglican\, 2444 East 41st Ave.\, Vancouver\, BC\, Canada
CATEGORIES:Regular Meeting
END:VEVENT
BEGIN:VEVENT
DTSTART;TZID=America/Vancouver:20161116T184500
DTEND;TZID=America/Vancouver:20161116T203000
DTSTAMP:20260422T061504
CREATED:20161005T184754Z
LAST-MODIFIED:20161107T164431Z
UID:673-1479321900-1479328200@9thvancouverpathfinders.ca
SUMMARY:Snow Camp Training - mandatory for those attending snow camp in January!
DESCRIPTION:This interactive session is mandatory for girls attending snow camp in January. Not sure if you’ll be coming to camp? Join in the fun anyway to learn some important outdoor skills and to get a taste of snow camp activities before deciding. We’ll have a snow-camp-inspired mug up\, too! \nMore information about snow camp\, including forms and kit list\, are available on the Forms page. \n  \n 
URL:https://9thvancouverpathfinders.ca/event/snow-camp-training-mandatory-for-those-attending-snow-camp/
LOCATION:St. Thomas Anglican\, 2444 East 41st Ave.\, Vancouver\, BC\, Canada
CATEGORIES:Regular Meeting
END:VEVENT
END:VCALENDAR