BEGIN:VCALENDAR
VERSION:2.0
PRODID:-//9th Vancouver Pathfinders - ECPv6.11.0.1//NONSGML v1.0//EN
CALSCALE:GREGORIAN
METHOD:PUBLISH
X-ORIGINAL-URL:https://9thvancouverpathfinders.ca
X-WR-CALDESC:Events for 9th Vancouver Pathfinders
REFRESH-INTERVAL;VALUE=DURATION:PT1H
X-Robots-Tag:noindex
X-PUBLISHED-TTL:PT1H
BEGIN:VTIMEZONE
TZID:America/Vancouver
BEGIN:DAYLIGHT
TZOFFSETFROM:-0800
TZOFFSETTO:-0700
TZNAME:PDT
DTSTART:20180311T100000
END:DAYLIGHT
BEGIN:STANDARD
TZOFFSETFROM:-0700
TZOFFSETTO:-0800
TZNAME:PST
DTSTART:20181104T090000
END:STANDARD
BEGIN:DAYLIGHT
TZOFFSETFROM:-0800
TZOFFSETTO:-0700
TZNAME:PDT
DTSTART:20190310T100000
END:DAYLIGHT
BEGIN:STANDARD
TZOFFSETFROM:-0700
TZOFFSETTO:-0800
TZNAME:PST
DTSTART:20191103T090000
END:STANDARD
END:VTIMEZONE
BEGIN:VEVENT
DTSTART;TZID=America/Vancouver:20191204T184500
DTEND;TZID=America/Vancouver:20191204T203000
DTSTAMP:20260420T000621
CREATED:20190928T212321Z
LAST-MODIFIED:20191128T032520Z
UID:2206-1575485100-1575491400@9thvancouverpathfinders.ca
SUMMARY:Holiday Sweet Treats with the Rangers
DESCRIPTION:We’re having a bridging evening\, where we’ll be making some lovely baked and no-bake holiday sweet treats to gift\, savour and celebrate! \nPlease bring a small tupperware container to take your treats home.
URL:https://9thvancouverpathfinders.ca/event/crafting-or-baking-tbc/
CATEGORIES:Regular Meeting
END:VEVENT
BEGIN:VEVENT
DTSTART;TZID=America/Vancouver:20191127T184500
DTEND;TZID=America/Vancouver:20191127T203000
DTSTAMP:20260420T000621
CREATED:20190928T211147Z
LAST-MODIFIED:20191128T032355Z
UID:2197-1574880300-1574886600@9thvancouverpathfinders.ca
SUMMARY:Girl-led meeting: all about Engineering
DESCRIPTION:Let’s learn about STEM!
URL:https://9thvancouverpathfinders.ca/event/girl-led-meeting-2/
CATEGORIES:Regular Meeting
END:VEVENT
BEGIN:VEVENT
DTSTART;TZID=America/Vancouver:20191120T184500
DTEND;TZID=America/Vancouver:20191120T203000
DTSTAMP:20260420T000621
CREATED:20190928T211033Z
LAST-MODIFIED:20191120T162429Z
UID:2195-1574275500-1574281800@9thvancouverpathfinders.ca
SUMMARY:Girl-led meeting: Aquatic Ambassadors Challenge
DESCRIPTION:We’re doing the Aquatic Ambassadors Challenge!
URL:https://9thvancouverpathfinders.ca/event/girl-led-meeting/
CATEGORIES:Regular Meeting
END:VEVENT
BEGIN:VEVENT
DTSTART;TZID=America/Vancouver:20191106T184500
DTEND;TZID=America/Vancouver:20191106T203000
DTSTAMP:20260420T000621
CREATED:20190928T212005Z
LAST-MODIFIED:20190928T213935Z
UID:2203-1573065900-1573072200@9thvancouverpathfinders.ca
SUMMARY:All about camping gear and packing for camp
DESCRIPTION:This meeting\, we will be learning about: \n\ncamp clothing\nlayering\nwaterproofing your pack\npacking your pack
URL:https://9thvancouverpathfinders.ca/event/all-about-camping-gear/
CATEGORIES:Regular Meeting
END:VEVENT
BEGIN:VEVENT
DTSTART;TZID=America/Vancouver:20191023T170000
DTEND;TZID=America/Vancouver:20191023T183000
DTSTAMP:20260420T000621
CREATED:20190928T204237Z
LAST-MODIFIED:20191015T023757Z
UID:2189-1571850000-1571855400@9thvancouverpathfinders.ca
SUMMARY:NO MEETING TONIGHT
DESCRIPTION:NO MEETING TONIGHT – see you on Oct 30!
URL:https://9thvancouverpathfinders.ca/event/cookie-selling-7/
CATEGORIES:Regular Meeting
END:VEVENT
BEGIN:VEVENT
DTSTART;TZID=America/Vancouver:20191016T184500
DTEND;TZID=America/Vancouver:20191016T203000
DTSTAMP:20260420T000621
CREATED:20190928T203821Z
LAST-MODIFIED:20190928T203821Z
UID:2184-1571251500-1571257800@9thvancouverpathfinders.ca
SUMMARY:Fall Camp Planning
DESCRIPTION:We’re getting ready for fall camp! This is an important part of the camp process – see you tonight!
URL:https://9thvancouverpathfinders.ca/event/fall-camp-planning/
CATEGORIES:Regular Meeting
END:VEVENT
BEGIN:VEVENT
DTSTART;TZID=America/Vancouver:20191009T184500
DTEND;TZID=America/Vancouver:20191009T203000
DTSTAMP:20260420T000621
CREATED:20190928T210951Z
LAST-MODIFIED:20190928T210951Z
UID:2193-1570646700-1570653000@9thvancouverpathfinders.ca
SUMMARY:Election 2.0 and Enrolment Preparation
DESCRIPTION:Tonight we are: \n\nfollowing up on your election work\nmaking sure our Pathfinder program records are up to date\nPromise and Law (in preparation for enrolment)\nDeciding what we’ll do for enrolment!
URL:https://9thvancouverpathfinders.ca/event/election-2-0-and-enrolment-preparation/
CATEGORIES:Regular Meeting
END:VEVENT
BEGIN:VEVENT
DTSTART;TZID=America/Vancouver:20191002T184500
DTEND;TZID=America/Vancouver:20191002T203000
DTSTAMP:20260420T000621
CREATED:20190825T152903Z
LAST-MODIFIED:20190928T204037Z
UID:2159-1570041900-1570048200@9thvancouverpathfinders.ca
SUMMARY:Elections 2019 and Alanna's Presentation
DESCRIPTION:We’ve got a very inspiring meeting tonight! We’re going to be learning all about the upcoming election and electoral systems. \nAlso\, Alanna will be giving a presentation on the amazing national trip she went on to Newfoundland and Labrador this past summer.
URL:https://9thvancouverpathfinders.ca/event/big-brainstorm-and-planning-bonanza/
LOCATION:First Lutheran Church\, 5745 Wales St\, Vancouver\, BC\, Canada
CATEGORIES:Regular Meeting
END:VEVENT
BEGIN:VEVENT
DTSTART;TZID=America/Vancouver:20190918T184500
DTEND;TZID=America/Vancouver:20190918T203000
DTSTAMP:20260420T000621
CREATED:20190820T032200Z
LAST-MODIFIED:20190820T032200Z
UID:2139-1568832300-1568838600@9thvancouverpathfinders.ca
SUMMARY:First meeting of the Pathfinder year!
DESCRIPTION:Welcome (back) to Pathfinders! \nWe’re going to be getting to know one another\, playing games\, and taking care of some housekeeping for the year. \nPlease bring your completed H1 form (mandatory!). Alternatively\, you can sign up for the new online health information collection system\, ePACT. This platform is being piloted in BC\, and eliminates the need for hard copy H1 forms! \nDues for the Pathfinder year are $50 per year\, payable either in one instalment in September\, or in two instalments (in September and January). Please plan to bring your dues at the first meeting. Speak with a Guider if you have any questions.
URL:https://9thvancouverpathfinders.ca/event/first-meeting-of-the-pathfinder-year/
LOCATION:First Lutheran Church\, 5745 Wales St\, Vancouver\, BC\, Canada
CATEGORIES:Regular Meeting
END:VEVENT
BEGIN:VEVENT
DTSTART;TZID=America/Vancouver:20190605T184500
DTEND;TZID=America/Vancouver:20190605T203000
DTSTAMP:20260420T000621
CREATED:20181216T202325Z
LAST-MODIFIED:20190406T235415Z
UID:1895-1559760300-1559766600@9thvancouverpathfinders.ca
SUMMARY:Camp wrap-up and other fun
DESCRIPTION:We’ll have gear to clean and store\, and other fun to be had after camp! More information to come.
URL:https://9thvancouverpathfinders.ca/event/camp-planning-5/
CATEGORIES:Regular Meeting
END:VEVENT
BEGIN:VEVENT
DTSTART;TZID=America/Vancouver:20190529T184500
DTEND;TZID=America/Vancouver:20190529T203000
DTSTAMP:20260420T000621
CREATED:20181216T202245Z
LAST-MODIFIED:20181216T202245Z
UID:1893-1559155500-1559161800@9thvancouverpathfinders.ca
SUMMARY:Camp planning
DESCRIPTION:More info to come!
URL:https://9thvancouverpathfinders.ca/event/camp-planning-4/
LOCATION:First Lutheran Church\, 5745 Wales St\, Vancouver\, BC\, Canada
CATEGORIES:Regular Meeting
END:VEVENT
BEGIN:VEVENT
DTSTART;TZID=America/Vancouver:20190522T080000
DTEND;TZID=America/Vancouver:20190522T170000
DTSTAMP:20260420T000621
CREATED:20181216T202446Z
LAST-MODIFIED:20181216T202548Z
UID:1897-1558512000-1558544400@9thvancouverpathfinders.ca
SUMMARY:Life Skills: Leadership & Conflict Management
DESCRIPTION:We’re working on a series of modules around leadership & conflict management. More info to come!
URL:https://9thvancouverpathfinders.ca/event/life-skills-leadership-conflict-management/
CATEGORIES:Regular Meeting
END:VEVENT
BEGIN:VEVENT
DTSTART;TZID=America/Vancouver:20190515T184500
DTEND;TZID=America/Vancouver:20190515T203000
DTSTAMP:20260420T000621
CREATED:20181216T202700Z
LAST-MODIFIED:20181216T202700Z
UID:1899-1557945900-1557952200@9thvancouverpathfinders.ca
SUMMARY:Creative Writing & Penpals
DESCRIPTION:More info to come!
URL:https://9thvancouverpathfinders.ca/event/creative-writing-penpals/
CATEGORIES:Regular Meeting
END:VEVENT
BEGIN:VEVENT
DTSTART;TZID=America/Vancouver:20190508T184500
DTEND;TZID=America/Vancouver:20190508T203000
DTSTAMP:20260420T000621
CREATED:20181216T203100Z
LAST-MODIFIED:20190430T152924Z
UID:1902-1557341100-1557347400@9thvancouverpathfinders.ca
SUMMARY:The science of fermentation: kimchi making with Fresh Roots
DESCRIPTION:Fresh Roots Urban Farm Society is coming to teach us how to make an awesome fermented superfood – kimchi! Each Pathfinder will learn the science of fermentation\, and make a jar of delicious kimchi (spicy fermented cabbage and veggies) to take home. This is sure to be a delicious and fun evening!
URL:https://9thvancouverpathfinders.ca/event/science-crafts/
CATEGORIES:Regular Meeting
END:VEVENT
BEGIN:VEVENT
DTSTART;TZID=America/Vancouver:20190501T184500
DTEND;TZID=America/Vancouver:20190501T203000
DTSTAMP:20260420T000621
CREATED:20181216T192001Z
LAST-MODIFIED:20181216T200746Z
UID:1863-1556736300-1556742600@9thvancouverpathfinders.ca
SUMMARY:Photography 102
DESCRIPTION:We’re putting what we learned last week together by reviewing our photos\, learning about photo editing\, and more! \nMore information to come.
URL:https://9thvancouverpathfinders.ca/event/photography-102/
CATEGORIES:Regular Meeting
END:VEVENT
BEGIN:VEVENT
DTSTART;TZID=America/Vancouver:20190403T184500
DTEND;TZID=America/Vancouver:20190403T203000
DTSTAMP:20260420T000621
CREATED:20181216T195035Z
LAST-MODIFIED:20181216T195035Z
UID:1879-1554317100-1554323400@9thvancouverpathfinders.ca
SUMMARY:First meeting back from Spring Break
DESCRIPTION:More info to come!
URL:https://9thvancouverpathfinders.ca/event/first-meeting-back-from-spring-break/
LOCATION:First Lutheran Church\, 5745 Wales St\, Vancouver\, BC\, Canada
CATEGORIES:Regular Meeting
END:VEVENT
BEGIN:VEVENT
DTSTART;TZID=America/Vancouver:20190306T184500
DTEND;TZID=America/Vancouver:20190306T203000
DTSTAMP:20260420T000621
CREATED:20181030T043929Z
LAST-MODIFIED:20181030T043929Z
UID:1794-1551897900-1551904200@9thvancouverpathfinders.ca
SUMMARY:Special Guest: UBC Women's Health Collective
DESCRIPTION:This fun and interactive session with the UBC Women’s Health Collective will demystify puberty\, growing up\, and your health and wellness (just a bit!).  Bring an open mind\, and get ready to have fun! \nThis activity could count towards the “Being You\,” “Gender Power\,” or “My Physical Self” program areas!
URL:https://9thvancouverpathfinders.ca/event/special-guest-ubc-womens-health-collective/
CATEGORIES:Regular Meeting
END:VEVENT
BEGIN:VEVENT
DTSTART;TZID=America/Vancouver:20190213T184500
DTEND;TZID=America/Vancouver:20190213T203000
DTSTAMP:20260420T000621
CREATED:20181216T193715Z
LAST-MODIFIED:20181216T193715Z
UID:1873-1550083500-1550089800@9thvancouverpathfinders.ca
SUMMARY:Program 3: Girl-led Evening
DESCRIPTION:A 3rd year Pathfinder will be leading us in some fun and exciting program work! More info to come.
URL:https://9thvancouverpathfinders.ca/event/program-3-girl-led-evening/
LOCATION:First Lutheran Church\, 5745 Wales St\, Vancouver\, BC\, Canada
CATEGORIES:Regular Meeting
END:VEVENT
BEGIN:VEVENT
DTSTART;TZID=America/Vancouver:20190123T184500
DTEND;TZID=America/Vancouver:20190123T203000
DTSTAMP:20260420T000621
CREATED:20181216T192759Z
LAST-MODIFIED:20190119T220528Z
UID:1867-1548269100-1548275400@9thvancouverpathfinders.ca
SUMMARY:The Science of Baking
DESCRIPTION:We’re baking up a storm\, and learning about the science of cooking at the same time! \nWe have a guest speaker coming to teach us some cake decorating techniques.  Bring 6 plain cupcakes to practice on and any piping tips or bags that you have.  If you would like to purchase your own piping tip to keep\, please bring $4. (You can use your cookie cash if you want!)
URL:https://9thvancouverpathfinders.ca/event/the-science-of-baking/
LOCATION:First Lutheran Church\, 5745 Wales St\, Vancouver\, BC\, Canada
CATEGORIES:Regular Meeting
END:VEVENT
BEGIN:VEVENT
DTSTART;TZID=America/Vancouver:20190116T184500
DTEND;TZID=America/Vancouver:20190116T203000
DTSTAMP:20260420T000621
CREATED:20181216T192640Z
LAST-MODIFIED:20181216T192640Z
UID:1865-1547664300-1547670600@9thvancouverpathfinders.ca
SUMMARY:Snow Camp Patrol Planning & Canada Cord Fun
DESCRIPTION:For those that are going to snow camp\, we will be working on the following: \n\nmenu plans\npracticing packing and final review of gear lists\npracticing setting up the tents\n\nFor those that aren’t going to camp\, we will be working on planning our service projects for winter/spring.
URL:https://9thvancouverpathfinders.ca/event/snow-camp-patrol-planning-canada-cord-fun/
LOCATION:First Lutheran Church\, 5745 Wales St\, Vancouver\, BC\, Canada
CATEGORIES:Regular Meeting
END:VEVENT
BEGIN:VEVENT
DTSTART;TZID=America/Vancouver:20190109T184500
DTEND;TZID=America/Vancouver:20190109T203000
DTSTAMP:20260420T000621
CREATED:20180930T172743Z
LAST-MODIFIED:20190104T220340Z
UID:1717-1547059500-1547065800@9thvancouverpathfinders.ca
SUMMARY:First meeting of 2019
DESCRIPTION:At this meeting\, the 3rd years will each be planning a program session to kick off 2019\, so bring your old program books and schedules for the next couple months. \n1st and 2nd years will be working in committees to plan some upcoming events.
URL:https://9thvancouverpathfinders.ca/event/first-meeting-of-2019/
CATEGORIES:Regular Meeting
END:VEVENT
BEGIN:VEVENT
DTSTART;TZID=America/Vancouver:20181128T184500
DTEND;TZID=America/Vancouver:20181128T203000
DTSTAMP:20260420T000621
CREATED:20181021T040120Z
LAST-MODIFIED:20181021T040120Z
UID:1773-1543430700-1543437000@9thvancouverpathfinders.ca
SUMMARY:Snow Camp Training
DESCRIPTION:We’ll be learning all of the ins and outs of snow camping\, in preparation for our big adventure in the new year! \nThis meeting is mandatory for all girls planning on going to snow camp. Not going to camp? This work will still count towards your Canada Cord\, so come along!
URL:https://9thvancouverpathfinders.ca/event/snow-camp-training/
CATEGORIES:Regular Meeting
END:VEVENT
BEGIN:VEVENT
DTSTART;TZID=America/Vancouver:20181114T184500
DTEND;TZID=America/Vancouver:20181114T203000
DTSTAMP:20260420T000621
CREATED:20181021T040340Z
LAST-MODIFIED:20181030T044225Z
UID:1776-1542221100-1542227400@9thvancouverpathfinders.ca
SUMMARY:Program Work\, Service Project and a Craft!
DESCRIPTION:We’re closing the loop on our Girls First program planning\, scoping two service projects for the year\, and working on a craft!
URL:https://9thvancouverpathfinders.ca/event/cozy-craft-night/
CATEGORIES:Regular Meeting
END:VEVENT
BEGIN:VEVENT
DTSTART;TZID=America/Vancouver:20181017T184500
DTEND;TZID=America/Vancouver:20181017T203000
DTSTAMP:20260420T000621
CREATED:20181004T054313Z
LAST-MODIFIED:20181004T054313Z
UID:1727-1539801900-1539808200@9thvancouverpathfinders.ca
SUMMARY:Program Planning 2.0
DESCRIPTION:Now that we have our fabulous lists\, we’re going to put the wheels in motion on our top events for 2018/2019! By the end of this meeting\, we’ll have our events and adventures for the year plotted on the calendar\, including fun activities for the rest of fall! \nBring any forms and payment for Fright Nights\, the WCA Amazing Race\, and fall cookies! Also\, bring your year pin as you’ll get a new one at this year’s enrolment ceremony.
URL:https://9thvancouverpathfinders.ca/event/program-planning-2-0/
LOCATION:First Lutheran Church\, 5745 Wales St\, Vancouver\, BC\, Canada
CATEGORIES:Regular Meeting
END:VEVENT
BEGIN:VEVENT
DTSTART;TZID=America/Vancouver:20181003T184500
DTEND;TZID=America/Vancouver:20181003T203000
DTSTAMP:20260420T000621
CREATED:20180821T180034Z
LAST-MODIFIED:20180821T180034Z
UID:1650-1538592300-1538598600@9thvancouverpathfinders.ca
SUMMARY:Girls First: A Vision for the Pathfinder year!
DESCRIPTION:What skills do you want to work on this year? \nWhat experiences do you want to have? \nWhat new adventures do you want to challenge yourself with? \nWe’ll dig into these questions and more as we start planning events and adventures for the 2018/2019 Pathfinder year.
URL:https://9thvancouverpathfinders.ca/event/girls-first-a-vision-for-the-pathfinder-year/
LOCATION:First Lutheran Church\, 5745 Wales St\, Vancouver\, BC\, Canada
CATEGORIES:Regular Meeting
END:VEVENT
BEGIN:VEVENT
DTSTART;TZID=America/Vancouver:20180926T184500
DTEND;TZID=America/Vancouver:20180926T203000
DTSTAMP:20260420T000621
CREATED:20180821T175838Z
LAST-MODIFIED:20180821T175838Z
UID:1648-1537987500-1537993800@9thvancouverpathfinders.ca
SUMMARY:Intro to the Pathfinder Program and Sleepover Planning
DESCRIPTION:We’re diving into the Girls First program and learning about Pathfinders. \nWe’ll also be doing some planning and preparation for our kick-off sleepover at the Fraser Delta Guide House.
URL:https://9thvancouverpathfinders.ca/event/intro-to-the-pathfinder-program-and-sleepover-planning/
LOCATION:First Lutheran Church\, 5745 Wales St\, Vancouver\, BC\, Canada
CATEGORIES:Regular Meeting
END:VEVENT
BEGIN:VEVENT
DTSTART;TZID=America/Vancouver:20180606T184500
DTEND;TZID=America/Vancouver:20180606T203000
DTSTAMP:20260420T000621
CREATED:20180127T052341Z
LAST-MODIFIED:20180127T052341Z
UID:1440-1528310700-1528317000@9thvancouverpathfinders.ca
SUMMARY:Last meeting of the Pathfinder year
DESCRIPTION:More info to come!
URL:https://9thvancouverpathfinders.ca/event/last-meeting-of-the-pathfinder-year-2/
CATEGORIES:Regular Meeting
END:VEVENT
BEGIN:VEVENT
DTSTART;TZID=America/Vancouver:20180530T184500
DTEND;TZID=America/Vancouver:20180530T203000
DTSTAMP:20260420T000621
CREATED:20180127T053237Z
LAST-MODIFIED:20180501T041755Z
UID:1446-1527705900-1527712200@9thvancouverpathfinders.ca
SUMMARY:Neighbourhood Clean-up Party
DESCRIPTION:We’re doing a fun service project to help beautiful the neighbourhood and support the environment! Come dressed for the outdoors for this interactive\, energetic night. \nWhen you volunteer to take part in a Neighbourhood Cleanup Party\, you: \n\nCreate a sense of community and purpose for friends\, family\, and colleagues in your neighbourhood\nReduce pollution in storm water runoff that impacts our waterways\nHelp neighbourhoods feel vibrant and safe
URL:https://9thvancouverpathfinders.ca/event/environmental-activity-tent/
LOCATION:First Lutheran Church\, 5745 Wales St\, Vancouver\, BC\, Canada
CATEGORIES:Regular Meeting
END:VEVENT
BEGIN:VEVENT
DTSTART;TZID=America/Vancouver:20180523T184500
DTEND;TZID=America/Vancouver:20180523T203000
DTSTAMP:20260420T000621
CREATED:20180127T052033Z
LAST-MODIFIED:20180401T165517Z
UID:1438-1527101100-1527107400@9thvancouverpathfinders.ca
SUMMARY:Camp Deconstruction\, Clean Up\, and Crafts!
DESCRIPTION:Getting ready for camp is a tonne of fun\, but decompressing\, debriefing and cleaning up the gear afterwards is an important part of the journey. Bring your group gear to the meeting with you as we’ll be reorganizing the gear and documenting out learning for next time!
URL:https://9thvancouverpathfinders.ca/event/camp-deconstruction-and-clean-up/
LOCATION:First Lutheran Church\, 5745 Wales St\, Vancouver\, BC\, Canada
CATEGORIES:Regular Meeting
END:VEVENT
BEGIN:VEVENT
DTSTART;TZID=America/Vancouver:20180516T184500
DTEND;TZID=America/Vancouver:20180516T203000
DTSTAMP:20260420T000621
CREATED:20180127T045449Z
LAST-MODIFIED:20180401T165448Z
UID:1426-1526496300-1526502600@9thvancouverpathfinders.ca
SUMMARY:Camp Skills #3 - the final countdown....
DESCRIPTION:Bring your pack fully packed for camp – we’re testing their strength and efficiencies tonight! \nWe’ll be reviewing what’s in our packs; practicing setting up our backpacking tents; and dividing up our group gear. \nModules: \nCamping Here We Come # 5 – practice with tents \nOut on the Trails – #5 – essential items
URL:https://9thvancouverpathfinders.ca/event/camp-planning-3-the-final-countdown/
LOCATION:First Lutheran Church\, 5745 Wales St\, Vancouver\, BC\, Canada
CATEGORIES:Regular Meeting
END:VEVENT
END:VCALENDAR