BEGIN:VCALENDAR
VERSION:2.0
PRODID:-//9th Vancouver Pathfinders - ECPv6.11.0.1//NONSGML v1.0//EN
CALSCALE:GREGORIAN
METHOD:PUBLISH
X-ORIGINAL-URL:https://9thvancouverpathfinders.ca
X-WR-CALDESC:Events for 9th Vancouver Pathfinders
REFRESH-INTERVAL;VALUE=DURATION:PT1H
X-Robots-Tag:noindex
X-PUBLISHED-TTL:PT1H
BEGIN:VTIMEZONE
TZID:America/Vancouver
BEGIN:DAYLIGHT
TZOFFSETFROM:-0800
TZOFFSETTO:-0700
TZNAME:PDT
DTSTART:20190310T100000
END:DAYLIGHT
BEGIN:STANDARD
TZOFFSETFROM:-0700
TZOFFSETTO:-0800
TZNAME:PST
DTSTART:20191103T090000
END:STANDARD
BEGIN:DAYLIGHT
TZOFFSETFROM:-0800
TZOFFSETTO:-0700
TZNAME:PDT
DTSTART:20200308T100000
END:DAYLIGHT
BEGIN:STANDARD
TZOFFSETFROM:-0700
TZOFFSETTO:-0800
TZNAME:PST
DTSTART:20201101T090000
END:STANDARD
BEGIN:DAYLIGHT
TZOFFSETFROM:-0800
TZOFFSETTO:-0700
TZNAME:PDT
DTSTART:20210314T100000
END:DAYLIGHT
BEGIN:STANDARD
TZOFFSETFROM:-0700
TZOFFSETTO:-0800
TZNAME:PST
DTSTART:20211107T090000
END:STANDARD
END:VTIMEZONE
BEGIN:VEVENT
DTSTART;TZID=America/Vancouver:20210113T184500
DTEND;TZID=America/Vancouver:20210113T203000
DTSTAMP:20260419T184757
CREATED:20201122T202033Z
LAST-MODIFIED:20210113T042108Z
UID:2628-1610563500-1610569800@9thvancouverpathfinders.ca
SUMMARY:ONLINE: First meeting of 2021 - goals\, service project\, and Canada Cord planning!
DESCRIPTION:It’s the first meeting of 2021! We’re going to be doing some planning\, including\, planning for: \n\nGirl-led meetings and Canada Cord (3rd years)\nA spring service project\nA physical activity meeting\n\nBring your creative ideas\, and an update from your winter break from school! \n*** \nKarla Kloepper is inviting you to a scheduled Zoom meeting. \nTopic: Pathfinders \nPlease download and import the following iCalendar (.ics) files to your calendar system.\nWeekly: https://us02web.zoom.us/meeting/tZEqde-qqDMvHdw7Al9SalcE2HcIFaFW1lRk/ics?icsToken=98tyKuGtqTksGNKdtR6PRpwMB4joM-rwplxYgqdKyz7pWhNSbgDTZMpBG5R-Nu-B \nJoin Zoom Meeting\nhttps://us02web.zoom.us/j/85726268578?pwd=Uk5tTzZUL3pjdjlIcUNqaW1EM2d0Zz09 \nMeeting ID: 857 2626 8578\nPasscode: (hint: it’s the same as in the fall!) \nDial by your location\n+1 312 626 6799 US (Chicago)\n+1 346 248 7799 US (Houston)\n+1 669 900 6833 US (San Jose)\n+1 929 205 6099 US (New York)\n+1 253 215 8782 US (Tacoma)\n+1 301 715 8592 US (Washington D.C)\nMeeting ID: 857 2626 8578\nPasscode: 2251047\nFind your local number: https://us02web.zoom.us/u/kd1jxrFIEn
URL:https://9thvancouverpathfinders.ca/event/first-meeting-of-2021-more-info-to-come/
LOCATION:Zoom
CATEGORIES:Regular Meeting
END:VEVENT
BEGIN:VEVENT
DTSTART;TZID=America/Vancouver:20201216T184500
DTEND;TZID=America/Vancouver:20201216T203000
DTSTAMP:20260419T184757
CREATED:20201014T055147Z
LAST-MODIFIED:20201216T155518Z
UID:2553-1608144300-1608150600@9thvancouverpathfinders.ca
SUMMARY:ONLINE: Winter Social Online Activity
DESCRIPTION:We’re staying in for a fun evening of crafts and games!  \nJoin Zoom Meeting\nhttps://us02web.zoom.us/j/84322480599?pwd=RERXekhLZ3NPVWhDUzMrZmFoK3R4UT09 \nMeeting ID: 843 2248 0599\nPasscode: (it’s the same as last time!) \nOr on the phone: \nMeeting ID: 843 2248 0599\nPasscode: 9445517\nFind your local number: https://us02web.zoom.us/u/kyS4s1wsH
URL:https://9thvancouverpathfinders.ca/event/in-person-winter-wonderland-activity/
LOCATION:Zoom
CATEGORIES:Regular Meeting
END:VEVENT
BEGIN:VEVENT
DTSTART;TZID=America/Vancouver:20201209T184500
DTEND;TZID=America/Vancouver:20201209T203000
DTSTAMP:20260419T184757
CREATED:20201014T055554Z
LAST-MODIFIED:20201122T201341Z
UID:2555-1607539500-1607545800@9thvancouverpathfinders.ca
SUMMARY:ONLINE: Diversity Challenge Part 2
DESCRIPTION:We’re doing a number of activities from the West Coast Area’s Diversity Challenge\, to learn more about equity and diversity\, and to complete the requirements for the Diversity Challenge crest! \nJoin Zoom Meeting\nhttps://us02web.zoom.us/j/84322480599?pwd=RERXekhLZ3NPVWhDUzMrZmFoK3R4UT09 \nMeeting ID: 843 2248 0599\nPasscode: (it’s the same as last time!) \nOr on the phone: \nMeeting ID: 843 2248 0599\nPasscode: 9445517\nFind your local number: https://us02web.zoom.us/u/kyS4s1wsH
URL:https://9thvancouverpathfinders.ca/event/no-meeting-winter-break/
LOCATION:Zoom
CATEGORIES:Regular Meeting
END:VEVENT
BEGIN:VEVENT
DTSTART;TZID=America/Vancouver:20201202T184500
DTEND;TZID=America/Vancouver:20201202T203000
DTSTAMP:20260419T184757
CREATED:20201014T055014Z
LAST-MODIFIED:20201120T054450Z
UID:2551-1606934700-1606941000@9thvancouverpathfinders.ca
SUMMARY:ONLINE: Dream Career Night
DESCRIPTION:Meet some interesting women with really neat careers!  \nJoin Zoom Meeting\nhttps://us02web.zoom.us/j/84322480599?pwd=RERXekhLZ3NPVWhDUzMrZmFoK3R4UT09 \nMeeting ID: 843 2248 0599\nPasscode: (it’s the same as last time!) \nOr on the phone: \nMeeting ID: 843 2248 0599\nPasscode: 9445517\nFind your local number: https://us02web.zoom.us/u/kyS4s1wsH
URL:https://9thvancouverpathfinders.ca/event/online-dream-career-night/
LOCATION:Zoom
CATEGORIES:Regular Meeting
END:VEVENT
BEGIN:VEVENT
DTSTART;TZID=America/Vancouver:20201125T184500
DTEND;TZID=America/Vancouver:20201125T203000
DTSTAMP:20260419T184757
CREATED:20201122T201837Z
LAST-MODIFIED:20201122T201837Z
UID:2622-1606329900-1606336200@9thvancouverpathfinders.ca
SUMMARY:ONLINE: Mighty Minds & Being Well
DESCRIPTION:This meeting is all about being well\, and taking care of your wellness and happiness. \nJoin Zoom Meeting\nhttps://us02web.zoom.us/j/84322480599?pwd=RERXekhLZ3NPVWhDUzMrZmFoK3R4UT09 \nMeeting ID: 843 2248 0599\nPasscode: (it’s the same as last time!) \nOr on the phone: \nMeeting ID: 843 2248 0599\nPasscode: 9445517\nFind your local number: https://us02web.zoom.us/u/kyS4s1wsH
URL:https://9thvancouverpathfinders.ca/event/online-mighty-minds-being-well/
LOCATION:Zoom
CATEGORIES:Regular Meeting
END:VEVENT
BEGIN:VEVENT
DTSTART;TZID=America/Vancouver:20201118T184500
DTEND;TZID=America/Vancouver:20201118T203000
DTSTAMP:20260419T184757
CREATED:20201014T054640Z
LAST-MODIFIED:20201014T054640Z
UID:2547-1605725100-1605731400@9thvancouverpathfinders.ca
SUMMARY:ONLINE: Diversity Challenge
DESCRIPTION:
URL:https://9thvancouverpathfinders.ca/event/online-diversity-challenge/
CATEGORIES:Regular Meeting
END:VEVENT
BEGIN:VEVENT
DTSTART;TZID=America/Vancouver:20201104T184500
DTEND;TZID=America/Vancouver:20201104T203000
DTSTAMP:20260419T184757
CREATED:20201014T054533Z
LAST-MODIFIED:20201102T053348Z
UID:2545-1604515500-1604521800@9thvancouverpathfinders.ca
SUMMARY:IN PERSON: Games\, Skits\, Enrolment Planning and more!
DESCRIPTION:We are preparing for a number of great Pathfinder activities\, including cookie selling and enrolment! We’ll also be playing some games. \nDon’t forget your forms and payment for Day Camp on November 11\, if you plan on attending!
URL:https://9thvancouverpathfinders.ca/event/in-person-cookie-sales-tbc/
CATEGORIES:Regular Meeting
END:VEVENT
BEGIN:VEVENT
DTSTART;TZID=America/Vancouver:20201021T184500
DTEND;TZID=America/Vancouver:20201021T203000
DTSTAMP:20260419T184757
CREATED:20201014T053815Z
LAST-MODIFIED:20201014T053953Z
UID:2538-1603305900-1603312200@9thvancouverpathfinders.ca
SUMMARY:ONLINE: 2020/2021 Budget & Money Sense Program Work
DESCRIPTION:We’re planning our budget for the 2020/2021 budget year! This meeting will be on Zoom.  Here is the meeting information: \nPlease download and import the following iCalendar (.ics) files to your calendar system.\nWeekly: https://us02web.zoom.us/meeting/tZAudeuspjsvE92izq8wezj5S9_RnfDijM2D/ics?icsToken=98tyKuGsrTkoHtyVtRCORpwIA4joa-jxiGJYj_oPlQX0WzdWeAmjBbt9ALx5NNHa \nJoin Zoom Meeting\nhttps://us02web.zoom.us/j/84322480599?pwd=RERXekhLZ3NPVWhDUzMrZmFoK3R4UT09 \nMeeting ID: 843 2248 0599 \nDial by your location\n+1 346 248 7799 US (Houston)\n+1 669 900 6833 US (San Jose)\n+1 929 205 6099 US (New York)\n+1 253 215 8782 US (Tacoma)\n+1 301 715 8592 US (Germantown)\n+1 312 626 6799 US (Chicago)\nMeeting ID: 843 2248 0599\nPasscode: 9445517\nFind your local number: https://us02web.zoom.us/u/kyS4s1wsH
URL:https://9thvancouverpathfinders.ca/event/online-2020-2021-budget-money-sense-program-work/
CATEGORIES:Regular Meeting
END:VEVENT
BEGIN:VEVENT
DTSTART;TZID=America/Vancouver:20201014T184500
DTEND;TZID=America/Vancouver:20201014T203000
DTSTAMP:20260419T184757
CREATED:20201014T053557Z
LAST-MODIFIED:20201014T053557Z
UID:2536-1602701100-1602707400@9thvancouverpathfinders.ca
SUMMARY:IN PERSON: Scavenger Hunt and Enrolment Preparation
DESCRIPTION:
URL:https://9thvancouverpathfinders.ca/event/in-person-scavenger-hunt-and-enrolment-preparation/
LOCATION:St. Thomas Anglican\, 2444 East 41st Ave.\, Vancouver\, BC\, Canada
CATEGORIES:Regular Meeting
END:VEVENT
BEGIN:VEVENT
DTSTART;TZID=America/Vancouver:20201007T184500
DTEND;TZID=America/Vancouver:20201007T203000
DTSTAMP:20260419T184757
CREATED:20201014T053444Z
LAST-MODIFIED:20201014T053444Z
UID:2534-1602096300-1602102600@9thvancouverpathfinders.ca
SUMMARY:IN PERSON: Canada Cord Ceremony
DESCRIPTION:
URL:https://9thvancouverpathfinders.ca/event/in-person-canada-cord-ceremony/
LOCATION:St. Thomas Anglican\, 2444 East 41st Ave.\, Vancouver\, BC\, Canada
CATEGORIES:Regular Meeting
END:VEVENT
BEGIN:VEVENT
DTSTART;TZID=America/Vancouver:20200923T184500
DTEND;TZID=America/Vancouver:20200923T203000
DTSTAMP:20260419T184757
CREATED:20200923T035901Z
LAST-MODIFIED:20200923T035901Z
UID:2523-1600886700-1600893000@9thvancouverpathfinders.ca
SUMMARY:ONLINE: Brainstorming for the year!
DESCRIPTION:Bring your creative ideas for all of the fun things you’ve like to do this year! We’ll be doing some meetings online and some meetings in person\, so bring ideas for both. Bonus – review the Girls First platform in advance\, for some inspiration from GGC! \nHere is the Zoom meeting information: \nKarla Kloepper is inviting you to a scheduled Zoom meeting. \nTopic: Pathfinders\nTime: Sep 23\, 2020 06:45 PM Pacific Time (US and Canada) \nJoin Zoom Meeting\nhttps://us02web.zoom.us/j/84322480599?pwd=RERXekhLZ3NPVWhDUzMrZmFoK3R4UT09 \nMeeting ID: 843 2248 0599\nPasscode: cookies \nDial by your location\nMeeting ID: 843 2248 0599\nPasscode: 9445517\nFind your local number: https://us02web.zoom.us/u/kyS4s1wsH
URL:https://9thvancouverpathfinders.ca/event/online-brainstorming-for-the-year/
CATEGORIES:Regular Meeting
END:VEVENT
BEGIN:VEVENT
DTSTART;TZID=America/Vancouver:20200916T184500
DTEND;TZID=America/Vancouver:20200916T203000
DTSTAMP:20260419T184757
CREATED:20200907T181102Z
LAST-MODIFIED:20200924T024649Z
UID:2515-1600281900-1600288200@9thvancouverpathfinders.ca
SUMMARY:ONLINE: First Meeting of the Pathfinder Year!
DESCRIPTION:We’re kicking off the Pathfinder year with an online meeting to get to know each other\, talk about the return to in-person Guiding\, and share some important plans and information for the year. \nFor our get-to-know-you activity\, please prepare or have an item available that represents you that you’d like to share with the group. \nHere is the Zoom meeting information: \nTopic: Pathfinders \nTime: Sep 16\, 2020 06:45 PM Pacific Time (US and Canada) \nJoin Zoom Meeting\nhttps://us02web.zoom.us/j/84322480599?pwd=RERXekhLZ3NPVWhDUzMrZmFoK3R4UT09 \nMeeting ID: 843 2248 0599\nPasscode: (hint: we love these! it’s always the same. Contact Karla if you have questions) \nDial by your location\nMeeting ID: 843 2248 0599\nPasscode: 9445517\nFind your local number: https://us02web.zoom.us/u/kyS4s1wsH \nPlease download and import the following iCalendar (.ics) files to your calendar system.\nWeekly: https://us02web.zoom.us/meeting/tZAudeuspjsvE92izq8wezj5S9_RnfDijM2D/ics?icsToken=98tyKuGsrTkoHtyVtRCORpwIA4joa-jxiGJYj_oPlQX0WzdWeAmjBbt9ALx5NNHa
URL:https://9thvancouverpathfinders.ca/event/online-first-meeting-of-the-pathfinder-year/
LOCATION:Zoom
CATEGORIES:Regular Meeting
END:VEVENT
BEGIN:VEVENT
DTSTART;TZID=America/Vancouver:20200729T190000
DTEND;TZID=America/Vancouver:20200729T203000
DTSTAMP:20260419T184757
CREATED:20200723T014518Z
LAST-MODIFIED:20200723T014518Z
UID:2505-1596049200-1596054600@9thvancouverpathfinders.ca
SUMMARY:Being Canadian and World Stage
DESCRIPTION:We’ll be doing two meetings over the summer to help 3rd years finish up their Canada Cords but all girls are welcome. 7-8:30pm on July 22 and 29. We’ll meet over zoom using the same link as usual. \nJuly 29: Being Canadian and World Stage \nWe’ll talk about what being Canadian means for each of us and how Canada shows up on the World Stage. We’ll learn about some of the important cultural festivals in our city and talk about the UN Declaration on Human Rights and the Sustainable Development Goals.  \nHere is the Zoom meeting information for both of those meetings: \nJoin Zoom Meeting\nhttps://us02web.zoom.us/j/89593563332?pwd=eXJxZG1BMm9SRjZJLzFxZ1VVSHNBQT09 \nMeeting ID: 895 9356 3332\nPasscode: [hint: it’s the same passcode as before!] \nDial by your location\nMeeting ID: 895 9356 3332\nPasscode: 4123690\nFind your local number: https://us02web.zoom.us/u/kcf8cZoSz
URL:https://9thvancouverpathfinders.ca/event/being-canadian-and-world-stage/
CATEGORIES:Regular Meeting
END:VEVENT
BEGIN:VEVENT
DTSTART;TZID=America/Vancouver:20200722T190000
DTEND;TZID=America/Vancouver:20200722T203000
DTSTAMP:20260419T184757
CREATED:20200723T014426Z
LAST-MODIFIED:20200723T014426Z
UID:2503-1595444400-1595449800@9thvancouverpathfinders.ca
SUMMARY:Multiculturalism\, Anti-Racism\, and Advocacy
DESCRIPTION:We’ll be doing two meetings over the summer to help 3rd years finish up their Canada Cords but all girls are welcome. 7-8:30pm on July 22 and 29. We’ll meet over zoom using the same link as usual. \nJuly 22: Multiculturalism\, Anti-Racism\, and Advocacy \nWhat is multiculturalism? What does anti-racism mean? How do these two ideas show up in your life? We’ll talk about this and brainstorm some ideas for turning our concerns into advocacy. \nPlease read this article from Teen Vogue before we meet: \nhttps://www.teenvogue.com/story/merriam-webster-update-racism-definition-recent-college-grad \nAnd this short story about Vancouverites Shirley and Mary Chan \nhttp://www.vancouverhistory.ca/archives_strathconaSaved.htm \nHere is the Zoom meeting information for both of those meetings: \nJoin Zoom Meeting\nhttps://us02web.zoom.us/j/89593563332?pwd=eXJxZG1BMm9SRjZJLzFxZ1VVSHNBQT09 \nMeeting ID: 895 9356 3332\nPasscode: [hint: it’s the same passcode as before!] \nDial by your location\nMeeting ID: 895 9356 3332\nPasscode: 4123690\nFind your local number: https://us02web.zoom.us/u/kcf8cZoSz
URL:https://9thvancouverpathfinders.ca/event/multiculturalism-anti-racism-and-advocacy/
CATEGORIES:Regular Meeting
END:VEVENT
BEGIN:VEVENT
DTSTART;TZID=America/Vancouver:20200527T190000
DTEND;TZID=America/Vancouver:20200527T203000
DTSTAMP:20260419T184757
CREATED:20200107T041347Z
LAST-MODIFIED:20200527T151918Z
UID:2304-1590606000-1590611400@9thvancouverpathfinders.ca
SUMMARY:Craft and Bridging night with the 1st Rangers
DESCRIPTION:We’re getting crafty on Zoom! \nKarla Kloepper is inviting you to a scheduled Zoom meeting. \nTopic: Pathfinder Meeting \nJoin Zoom Meeting\nhttps://us02web.zoom.us/j/466720461?pwd=Tk82ajBaU0lJclM0V1VRdDlNZnk0UT09 \nMeeting ID: 466 720 461\nPassword: cookies \nDial by your location\nMeeting ID: 466 720 461\nPassword: 320110\nFind your local number: https://us02web.zoom.us/u/kdh9Ia6IOp
URL:https://9thvancouverpathfinders.ca/event/songrewriting-workshop-and-campfire/
LOCATION:Zoom
CATEGORIES:Regular Meeting
END:VEVENT
BEGIN:VEVENT
DTSTART;TZID=America/Vancouver:20200520T190000
DTEND;TZID=America/Vancouver:20200520T203000
DTSTAMP:20260419T184757
CREATED:20200520T143134Z
LAST-MODIFIED:20200520T143134Z
UID:2490-1590001200-1590006600@9thvancouverpathfinders.ca
SUMMARY:Yoga with Diane Rizzardo from Metrotown Physio
DESCRIPTION:Tonight we’re doing a yoga class with Diane Rizzardo\, a physiotherapist and yoga teacher from Metrotown Physio! \nWear comfy clothes and no socks\, and make sure you are set up with enough space on the floor that you could stretch out and lay down. Yoga mats are helpful\, but not necessary. It’d also be helpful if you are able to enable your camera for tonight’s meeting\, so Diane can see who’s in the room and offer support and advice on the poses we’ll work through. \nSee you at 7 pm! \nHere is the Zoom link and meeting ID: 466 720 461. The password is the same as previous weeks!
URL:https://9thvancouverpathfinders.ca/event/yoga-with-diane-rizzardo-from-metrotown-physio/
CATEGORIES:Regular Meeting
END:VEVENT
BEGIN:VEVENT
DTSTART;TZID=America/Vancouver:20200513T190000
DTEND;TZID=America/Vancouver:20200513T203000
DTSTAMP:20260419T184757
CREATED:20200513T153624Z
LAST-MODIFIED:20200513T153624Z
UID:2475-1589396400-1589401800@9thvancouverpathfinders.ca
SUMMARY:PJ Party and Games Night
DESCRIPTION:Karla Kloepper is inviting you to a scheduled Zoom meeting. \nTopic: Pathfinder Meeting \nPlease download and import the following iCalendar (.ics) files to your calendar system.\nWeekly: https://us02web.zoom.us/meeting/uZIrcOuoqj0r06jPLFIdAdNmFefUtgzy0Q/ics?icsToken=98tyKu2uqDwoGtCTsVzte7QqOZnib_GxkCEYoJNxujbhIiR9byXzMNdWNahmQOmB \nJoin Zoom Meeting\nhttps://us02web.zoom.us/j/466720461?pwd=Tk82ajBaU0lJclM0V1VRdDlNZnk0UT09 \nMeeting ID: 466 720 461\nPassword: (email a Guider if  you don’t know the Password!!) \nDial by your location\nMeeting ID: 466 720 461\nPassword: 320110\nFind your local number: https://us02web.zoom.us/u/kbUUv2aiuJ
URL:https://9thvancouverpathfinders.ca/event/pj-party-and-games-night/
CATEGORIES:Regular Meeting
END:VEVENT
BEGIN:VEVENT
DTSTART;TZID=America/Vancouver:20200506T190000
DTEND;TZID=America/Vancouver:20200506T200000
DTSTAMP:20260419T184757
CREATED:20200415T144732Z
LAST-MODIFIED:20200415T144732Z
UID:2442-1588791600-1588795200@9thvancouverpathfinders.ca
SUMMARY:Girl-led Meeting: OL
DESCRIPTION:Karla Kloepper is inviting you to a scheduled Zoom meeting. \nTopic: Pathfinder Meeting \nPlease download and import the following iCalendar (.ics) files to your calendar system.\nWeekly: https://us02web.zoom.us/meeting/uZIrcOuoqj0r06jPLFIdAdNmFefUtgzy0Q/ics?icsToken=98tyKu2uqDwoGtCTsVzte7QqOZnib_GxkCEYoJNxujbhIiR9byXzMNdWNahmQOmB \nJoin Zoom Meeting\nhttps://us02web.zoom.us/j/466720461?pwd=Tk82ajBaU0lJclM0V1VRdDlNZnk0UT09 \nMeeting ID: 466 720 461\nPassword: (email a Guider if  you don’t know the Password!!) \nDial by your location\nMeeting ID: 466 720 461\nPassword: 320110\nFind your local number: https://us02web.zoom.us/u/kbUUv2aiuJ
URL:https://9thvancouverpathfinders.ca/event/girl-led-meeting-ol/
LOCATION:Zoom
CATEGORIES:Regular Meeting
END:VEVENT
BEGIN:VEVENT
DTSTART;TZID=America/Vancouver:20200429T190000
DTEND;TZID=America/Vancouver:20200429T200000
DTSTAMP:20260419T184757
CREATED:20200107T040951Z
LAST-MODIFIED:20200415T144640Z
UID:2301-1588186800-1588190400@9thvancouverpathfinders.ca
SUMMARY:Girl-led Meeting - ML & MY
DESCRIPTION:Karla Kloepper is inviting you to a scheduled Zoom meeting. \nTopic: Pathfinder Meeting \nPlease download and import the following iCalendar (.ics) files to your calendar system.\nWeekly: https://us02web.zoom.us/meeting/uZIrcOuoqj0r06jPLFIdAdNmFefUtgzy0Q/ics?icsToken=98tyKu2uqDwoGtCTsVzte7QqOZnib_GxkCEYoJNxujbhIiR9byXzMNdWNahmQOmB \nJoin Zoom Meeting\nhttps://us02web.zoom.us/j/466720461?pwd=Tk82ajBaU0lJclM0V1VRdDlNZnk0UT09 \nMeeting ID: 466 720 461\nPassword: (email a Guider if  you don’t know the Password!!) \nDial by your location\nMeeting ID: 466 720 461\nPassword: 320110\nFind your local number: https://us02web.zoom.us/u/kbUUv2aiuJ
URL:https://9thvancouverpathfinders.ca/event/girl-led-meeting-4/
LOCATION:Zoom
CATEGORIES:Regular Meeting
END:VEVENT
BEGIN:VEVENT
DTSTART;TZID=America/Vancouver:20200422T190000
DTEND;TZID=America/Vancouver:20200422T200000
DTSTAMP:20260419T184757
CREATED:20200107T042347Z
LAST-MODIFIED:20200415T144600Z
UID:2310-1587582000-1587585600@9thvancouverpathfinders.ca
SUMMARY:Girl-led Meeting - JP & SR
DESCRIPTION:Karla Kloepper is inviting you to a scheduled Zoom meeting. \nTopic: Pathfinder Meeting \nPlease download and import the following iCalendar (.ics) files to your calendar system.\nWeekly: https://us02web.zoom.us/meeting/uZIrcOuoqj0r06jPLFIdAdNmFefUtgzy0Q/ics?icsToken=98tyKu2uqDwoGtCTsVzte7QqOZnib_GxkCEYoJNxujbhIiR9byXzMNdWNahmQOmB \nJoin Zoom Meeting\nhttps://us02web.zoom.us/j/466720461?pwd=Tk82ajBaU0lJclM0V1VRdDlNZnk0UT09 \nMeeting ID: 466 720 461\nPassword: (email a Guider if  you don’t know the Password!!) \nDial by your location\nMeeting ID: 466 720 461\nPassword: 320110\nFind your local number: https://us02web.zoom.us/u/kbUUv2aiuJ
URL:https://9thvancouverpathfinders.ca/event/girl-led-meeting-6/
LOCATION:Zoom
CATEGORIES:Regular Meeting
END:VEVENT
BEGIN:VEVENT
DTSTART;TZID=America/Vancouver:20200415T190000
DTEND;TZID=America/Vancouver:20200415T200000
DTSTAMP:20260419T184757
CREATED:20200107T045023Z
LAST-MODIFIED:20200415T144815Z
UID:2317-1586977200-1586980800@9thvancouverpathfinders.ca
SUMMARY:Gender Power
DESCRIPTION:Karla Kloepper is inviting you to a scheduled Zoom meeting. \nTopic: Pathfinder Meeting \nPlease download and import the following iCalendar (.ics) files to your calendar system.\nWeekly: https://us02web.zoom.us/meeting/uZIrcOuoqj0r06jPLFIdAdNmFefUtgzy0Q/ics?icsToken=98tyKu2uqDwoGtCTsVzte7QqOZnib_GxkCEYoJNxujbhIiR9byXzMNdWNahmQOmB \nJoin Zoom Meeting\nhttps://us02web.zoom.us/j/466720461?pwd=Tk82ajBaU0lJclM0V1VRdDlNZnk0UT09 \nMeeting ID: 466 720 461\nPassword: (email a Guider if  you don’t know the Password!!) \nDial by your location\nMeeting ID: 466 720 461\nPassword: 320110\nFind your local number: https://us02web.zoom.us/u/kbUUv2aiuJ
URL:https://9thvancouverpathfinders.ca/event/girl-led-meeting-8/
LOCATION:Zoom
CATEGORIES:Regular Meeting
END:VEVENT
BEGIN:VEVENT
DTSTART;TZID=America/Vancouver:20200408T184500
DTEND;TZID=America/Vancouver:20200408T203000
DTSTAMP:20260419T184757
CREATED:20200107T045107Z
LAST-MODIFIED:20200415T144326Z
UID:2319-1586371500-1586377800@9thvancouverpathfinders.ca
SUMMARY:Zoom Meeting #2
DESCRIPTION:
URL:https://9thvancouverpathfinders.ca/event/girl-led-meeting-9/
LOCATION:St. Thomas Anglican\, 2444 East 41st Ave.\, Vancouver\, BC\, Canada
CATEGORIES:Regular Meeting
END:VEVENT
BEGIN:VEVENT
DTSTART;TZID=America/Vancouver:20200401T190000
DTEND;TZID=America/Vancouver:20200401T200000
DTSTAMP:20260419T184757
CREATED:20200107T044942Z
LAST-MODIFIED:20200331T043338Z
UID:2315-1585767600-1585771200@9thvancouverpathfinders.ca
SUMMARY:Zoom Meeting - 7 - 8 pm - See info in message body
DESCRIPTION:Topic: Pathfinders Meeting\nTime: Apr 1\, 2020 07:00 PM Pacific Time (US and Canada) \nJoin Zoom Meeting\nhttps://us04web.zoom.us/j/748327994?pwd=U1pwNWduVW0zc29TUitKQTUwbXRYUT09 \nMeeting ID: 748 327 994\nCheck your email for the meeting password!!
URL:https://9thvancouverpathfinders.ca/event/girl-led-meeting-7/
LOCATION:St. Thomas Anglican\, 2444 East 41st Ave.\, Vancouver\, BC\, Canada
CATEGORIES:Regular Meeting
END:VEVENT
BEGIN:VEVENT
DTSTART;TZID=America/Vancouver:20200311T184500
DTEND;TZID=America/Vancouver:20200311T203000
DTSTAMP:20260419T184757
CREATED:20200107T042218Z
LAST-MODIFIED:20200222T212318Z
UID:2308-1583952300-1583958600@9thvancouverpathfinders.ca
SUMMARY:Climate Change Dialogues
DESCRIPTION:Crest alert!! At this meeting\, we will be working through the City of Vancouver’s climate emergency dialogue kit\, and will be providing feedback to the City on our experiences. \nREMINDER that this is our first meeting at St Thomas Anglican Church!
URL:https://9thvancouverpathfinders.ca/event/climate-change-dialogues/
LOCATION:St. Thomas Anglican\, 2444 East 41st Ave.\, Vancouver\, BC\, Canada
CATEGORIES:Regular Meeting
END:VEVENT
BEGIN:VEVENT
DTSTART;TZID=America/Vancouver:20200219T184500
DTEND;TZID=America/Vancouver:20200219T203000
DTSTAMP:20260419T184757
CREATED:20200107T040415Z
LAST-MODIFIED:20200107T040415Z
UID:2295-1582137900-1582144200@9thvancouverpathfinders.ca
SUMMARY:Thinking Day & CWFF Meeting
DESCRIPTION:Thinking Day is on February 22. We will be doing activities to commemorate Thinking Day\, and doing a fundraising activity for the Canadian World Friendship Fund\, which supports Girl Guides and Girls Scouts around the world.
URL:https://9thvancouverpathfinders.ca/event/thinking-day-cwff-meeting/
CATEGORIES:Regular Meeting
END:VEVENT
BEGIN:VEVENT
DTSTART;TZID=America/Vancouver:20200205T184500
DTEND;TZID=America/Vancouver:20200205T203000
DTSTAMP:20260419T184757
CREATED:20200119T191359Z
LAST-MODIFIED:20200204T062548Z
UID:2329-1580928300-1580934600@9thvancouverpathfinders.ca
SUMMARY:Camp song (re)writing workshop and campfire
DESCRIPTION:We’re learning some classics\, and (re)writing some tunes to reflect our interests\, values and priorities for 2020! Bring your singing voice\, and creativity.
URL:https://9thvancouverpathfinders.ca/event/meeting-cancelled-due-to-snow/
LOCATION:First Lutheran Church\, 5745 Wales St\, Vancouver\, BC\, Canada
CATEGORIES:Regular Meeting
END:VEVENT
BEGIN:VEVENT
DTSTART;TZID=America/Vancouver:20200129T184500
DTEND;TZID=America/Vancouver:20200129T203000
DTSTAMP:20260419T184757
CREATED:20200107T041602Z
LAST-MODIFIED:20200119T194651Z
UID:2306-1580323500-1580329800@9thvancouverpathfinders.ca
SUMMARY:Girl-led meeting #4 - KC
DESCRIPTION:A 3rd year is going to lead a fun program evening about hardware and software!
URL:https://9thvancouverpathfinders.ca/event/girl-led-meeting-4-2/
LOCATION:First Lutheran Church\, 5745 Wales St\, Vancouver\, BC\, Canada
CATEGORIES:Regular Meeting
END:VEVENT
BEGIN:VEVENT
DTSTART;TZID=America/Vancouver:20200122T064500
DTEND;TZID=America/Vancouver:20200122T203000
DTSTAMP:20260419T184757
CREATED:20200107T040701Z
LAST-MODIFIED:20200119T203348Z
UID:2299-1579675500-1579725000@9thvancouverpathfinders.ca
SUMMARY:Girl-led Meeting #3 - JL
DESCRIPTION:A 3rd year Pathfinder is leading a fun evening of taekwondo\, bullet journaling\, and cartoons. More to come!
URL:https://9thvancouverpathfinders.ca/event/girl-led-meeting-3/
CATEGORIES:Regular Meeting
END:VEVENT
BEGIN:VEVENT
DTSTART;TZID=America/Vancouver:20200108T184500
DTEND;TZID=America/Vancouver:20200108T203000
DTSTAMP:20260419T184757
CREATED:20200107T035518Z
LAST-MODIFIED:20200107T035642Z
UID:2292-1578509100-1578515400@9thvancouverpathfinders.ca
SUMMARY:Kicking off 2020!!
DESCRIPTION:We’ve got a big plan for tonight! We’re going to be doing some important planning and record keeping\, including: \n\nsuper fun awesome game!\nplanning Feb sleepover at the BC Guide House\nassigning remaining girl led meeting\nidentifying a service project for the winter/spring
URL:https://9thvancouverpathfinders.ca/event/kicking-off-2020/
LOCATION:First Lutheran Church\, 5745 Wales St\, Vancouver\, BC\, Canada
CATEGORIES:Regular Meeting
END:VEVENT
BEGIN:VEVENT
DTSTART;TZID=America/Vancouver:20191211T184500
DTEND;TZID=America/Vancouver:20191211T203000
DTSTAMP:20260419T184757
CREATED:20190928T212356Z
LAST-MODIFIED:20191128T032600Z
UID:2208-1576089900-1576096200@9thvancouverpathfinders.ca
SUMMARY:Holiday Crafting
DESCRIPTION:More info to come!
URL:https://9thvancouverpathfinders.ca/event/crafting-or-baking/
CATEGORIES:Regular Meeting
END:VEVENT
END:VCALENDAR