BEGIN:VCALENDAR
VERSION:2.0
PRODID:-//9th Vancouver Pathfinders - ECPv6.11.0.1//NONSGML v1.0//EN
CALSCALE:GREGORIAN
METHOD:PUBLISH
X-ORIGINAL-URL:https://9thvancouverpathfinders.ca
X-WR-CALDESC:Events for 9th Vancouver Pathfinders
REFRESH-INTERVAL;VALUE=DURATION:PT1H
X-Robots-Tag:noindex
X-PUBLISHED-TTL:PT1H
BEGIN:VTIMEZONE
TZID:America/Vancouver
BEGIN:DAYLIGHT
TZOFFSETFROM:-0800
TZOFFSETTO:-0700
TZNAME:PDT
DTSTART:20140309T100000
END:DAYLIGHT
BEGIN:STANDARD
TZOFFSETFROM:-0700
TZOFFSETTO:-0800
TZNAME:PST
DTSTART:20141102T090000
END:STANDARD
BEGIN:DAYLIGHT
TZOFFSETFROM:-0800
TZOFFSETTO:-0700
TZNAME:PDT
DTSTART:20150308T100000
END:DAYLIGHT
BEGIN:STANDARD
TZOFFSETFROM:-0700
TZOFFSETTO:-0800
TZNAME:PST
DTSTART:20151101T090000
END:STANDARD
BEGIN:DAYLIGHT
TZOFFSETFROM:-0800
TZOFFSETTO:-0700
TZNAME:PDT
DTSTART:20160313T100000
END:DAYLIGHT
BEGIN:STANDARD
TZOFFSETFROM:-0700
TZOFFSETTO:-0800
TZNAME:PST
DTSTART:20161106T090000
END:STANDARD
BEGIN:DAYLIGHT
TZOFFSETFROM:-0800
TZOFFSETTO:-0700
TZNAME:PDT
DTSTART:20170312T100000
END:DAYLIGHT
BEGIN:STANDARD
TZOFFSETFROM:-0700
TZOFFSETTO:-0800
TZNAME:PST
DTSTART:20171105T090000
END:STANDARD
END:VTIMEZONE
BEGIN:VEVENT
DTSTART;TZID=America/Vancouver:20171108T183000
DTEND;TZID=America/Vancouver:20171108T203000
DTSTAMP:20260419T085435
CREATED:20171012T091146Z
LAST-MODIFIED:20171103T214725Z
UID:1240-1510165800-1510173000@9thvancouverpathfinders.ca
SUMMARY:Enrolment Dinner - Old Spaghetti Factory - EARLY START
DESCRIPTION:Enrolment is an important part of the Pathfinder journey! We’re heading to the Old Spaghetti Factory for a lovely meal together\, and to celebrate our first year Pathfinders! \nWe’re meeting at 29th Ave Skytrain St at 6:30 pm.  Please remember your Compass Card!  Pick-up is from the Old Spaghetti Factory in Gastown at 8:30 pm.
URL:https://9thvancouverpathfinders.ca/event/enrolment-old-spaghetti-factory/
LOCATION:Old Spaghetti Factory\, 53 Water Street\, Vancouver\, BC\, V6B1A1\, Canada
CATEGORIES:Outing,Special Event
END:VEVENT
BEGIN:VEVENT
DTSTART;TZID=America/Vancouver:20171025T183000
DTEND;TZID=America/Vancouver:20171025T203000
DTSTAMP:20260419T085435
CREATED:20171012T090842Z
LAST-MODIFIED:20171016T031809Z
UID:1236-1508956200-1508963400@9thvancouverpathfinders.ca
SUMMARY:Halloween Outing - Fly Over Canada
DESCRIPTION:We’re heading to Canada Place to experiene Flyover Canada with a Halloween Twist!  We will hang suspended\, feet dangling\, immersed inside a huge 20-metre spherical screen\, while the ride takes us on a thrilling 8-minute journey across Canada. The complete Halloween at FlyOver Canada experience will last between 20 – 25 minutes including: \n\nThe Ultimate Flying Ride FlyOver Canada\, a breathtaking 8-minute flight ride experience\nWitches Academy Themed Pre-Show\nA Witch Academy Diploma to take home\nHalloween theming and spine-tingling decorations\n\nBring your Compass Card as we’re taking transit.  Drop off and pick up are from 29th Avenue Skytrain Station. \nDrop off Time:  6:30pm \nPick up Time:  8:30pm \nCost:  $18 \nForms and payment due Oct 18.  Forms available here.
URL:https://9thvancouverpathfinders.ca/event/halloween-outing-fly-over-canada/
LOCATION:BC
CATEGORIES:Outing
END:VEVENT
BEGIN:VEVENT
DTSTART;TZID=America/Vancouver:20170607T184500
DTEND;TZID=America/Vancouver:20170607T203000
DTSTAMP:20260419T085435
CREATED:20170217T024357Z
LAST-MODIFIED:20170518T060439Z
UID:1001-1496861100-1496867400@9thvancouverpathfinders.ca
SUMMARY:Frisbee Golf and Park Picnic!
DESCRIPTION:It’s our last meeting of the year!  We’re meeting up for a park hang out at Queen Elizabeth Park to play frisbee golf and have some fun and snacks in the park. We’ll meet at the corner of 33rd and Ontario at 6:45 pm. Pick up will be at the same place at 8:30 pm. Come dressed for the weather and wear sturdy shoes as we’ll be playing in the grass!
URL:https://9thvancouverpathfinders.ca/event/last-meeting-of-the-year/
LOCATION:Queen Elizabeth Park\, Corner of 33rd ave and Ontario St\, Vancouver\, BC\, Canada
CATEGORIES:Outing
END:VEVENT
BEGIN:VEVENT
DTSTART;TZID=America/Vancouver:20170603T113000
DTEND;TZID=America/Vancouver:20170603T140000
DTSTAMP:20260419T085435
CREATED:20170512T154326Z
LAST-MODIFIED:20170512T154326Z
UID:1099-1496489400-1496498400@9thvancouverpathfinders.ca
SUMMARY:Gulf of Georgia Cannery and Steveston Fun
DESCRIPTION:For our last outing of the year\, we’re heading to the Gulf of Georgia Cannery in Steveston! The National Historic Site is free to visit in 2017 as part of the Canada 150 celebrations. This visit meets some of the requirements for the Citizenship Certificate\, which is a requirement for your Canada Cord! \nThe outing also includes a picnic and ice cream on the waterfront.  Bring a bagged lunch\, and dress for the weather! \nCheck out the forms below for more information. This event is free to attend. Forms must be returned no later than May 31 2017. \n\nGulf of Georgia Cannery SG1\nGulf of Georgia Cannery SG2
URL:https://9thvancouverpathfinders.ca/event/gulf-of-georgia-cannery-and-steveston-fun/
LOCATION:Gulf of Georgia Cannery\, 12138 Fourth Avenue\, Richmond\, British Columbia\, Canada
CATEGORIES:Outing
END:VEVENT
BEGIN:VEVENT
DTSTART;TZID=America/Vancouver:20170401T083000
DTEND;TZID=America/Vancouver:20170401T120000
DTSTAMP:20260419T085435
CREATED:20170203T212754Z
LAST-MODIFIED:20170331T221148Z
UID:968-1491035400-1491048000@9thvancouverpathfinders.ca
SUMMARY:CANCELLED: Canoe Lesson with Ridge Wilderness
DESCRIPTION:THIS EVENT HAS BEEN CANCELLED DUE TO LOW REGISTRATION. \nWe’re going canoeing with Ridge Wilderness! This is a great\, affordable way to get some time on the water. No experience necessary! The 1.5 hour lesson will either be at Whonnock Lake (or Brae Island Regional Park (Langley) – more info to come once Ridge confirms. To save your spot\, fill out all of the attached forms (SG1\, SG2\, SG5\, and Ridge Waiver) and return it with your $10 payment as soon as possible! \n\nSG1 Canoe Lesson Ridge Wilderness April 1 2017\nSG2 Canoe Lesson with Ridge Wilderness April 1 2017\nSG5 Canoe Lesson Ridge Wilderness April 1 2017\n2017 Ridge Waiver pdf COI 1 (13)\nFloating Classroom Gear List 2016
URL:https://9thvancouverpathfinders.ca/event/canoe-lesson-with-ridge-wilderness/
LOCATION:BC
CATEGORIES:Outing
END:VEVENT
BEGIN:VEVENT
DTSTART;TZID=America/Vancouver:20170329T180000
DTEND;TZID=America/Vancouver:20170329T200000
DTSTAMP:20260419T085435
CREATED:20160929T154406Z
LAST-MODIFIED:20170117T010818Z
UID:649-1490810400-1490817600@9thvancouverpathfinders.ca
SUMMARY:Volunteering at Greater Vancouver Food Bank - EARLY START
DESCRIPTION:This is the 3rd annual 9th Pathfinders volunteer night at the Greater Vancouver Food Bank! Remember to wear your uniform\, and bring the signed waiver below with you. Note the early start and end times! \nFood Bank Volunteering Form \nPlease bring a donation for the Food Bank with you to this outing.  The Food Bank is in high need high protein\, whole grain\, lower sodium or lower sugar items including: \n\nCanned fish or meats.\nCanned beans\, kidney\, black bean\, or chickpeas.\n100 per cent nut butters.\nPasta and rice.\nCanned vegetables\, pasta sauces.\nCanned fruit\, packed in its own juice or water.\nWhole grain breakfast cereals.\nHearty soups\, stews and chili.\n\nDrop off and pick up will be at the Food Bank on Raymur Street.
URL:https://9thvancouverpathfinders.ca/event/volunteering-at-greater-vancouver-food-bank-2/
LOCATION:Vancouver Food Bank\, 1150 Raymur Ave\, Vancouver\, BC
CATEGORIES:Outing
END:VEVENT
BEGIN:VEVENT
DTSTART;TZID=America/Vancouver:20161207T183000
DTEND;TZID=America/Vancouver:20161207T203000
DTSTAMP:20260419T085435
CREATED:20160915T173002Z
LAST-MODIFIED:20161114T011304Z
UID:629-1481135400-1481142600@9thvancouverpathfinders.ca
SUMMARY:Enchant: World's BIGGEST Holiday Light Maze!
DESCRIPTION:We’re heading downtown to check out Enchant: the World’s BIGGEST holiday light maze! Dress for the weather and bring your compass card as we’ll be on transit. Note the early meeting time of 6:30 pm. Drop off at 6:30 pm at 29th Ave Skytrain Station. Pick up at 8:30 pm at the light maze (299 W 1st Ave). Forms and payment of $15 are due no later than November 16. \n\nenchant-christmas-light-maze-sg1\nchristmas-light-maze-sg2\n\nNote: if you already returned forms and payment for the Stanley Park Christmas Train\, the $15 can be applied to the Light Maze. Please bring an updated SG2 (permission form). Talk to a leader if you have any questions.
URL:https://9thvancouverpathfinders.ca/event/last-meeting-before-winter-break/
LOCATION:BC
CATEGORIES:Outing,Regular Meeting
END:VEVENT
BEGIN:VEVENT
DTSTART;TZID=America/Vancouver:20161011T190000
DTEND;TZID=America/Vancouver:20161011T203000
DTSTAMP:20260419T085435
CREATED:20160915T171433Z
LAST-MODIFIED:20160915T171433Z
UID:622-1476212400-1476217800@9thvancouverpathfinders.ca
SUMMARY:Peru Trip Presentation
DESCRIPTION:Courtney Smith\, of the 1st Vancouver Rangers will do a presentation of her trip to Peru with BC Girl Guides in summer 2016. The evening will feature a presentation and fun activity\, snacks\, and some great perspectives on travel opportunities with Girl Guides! \nLocation: First Lutheran Church\, 5745 Wales\, Vancouver\, enter the church from 42nd Ave\, below ground level.  There is an elevator . \nDate and time: Tuesday October 11\, 7 to 8:30 pm \nBring a mug!
URL:https://9thvancouverpathfinders.ca/event/peru-trip-presentation/
LOCATION:First Lutheran Church\, 5745 Wales St\, Vancouver\, BC\, Canada
CATEGORIES:Outing
END:VEVENT
BEGIN:VEVENT
DTSTART;TZID=America/Vancouver:20160915T190000
DTEND;TZID=America/Vancouver:20160915T210000
DTSTAMP:20260419T085435
CREATED:20160809T180332Z
LAST-MODIFIED:20160809T180344Z
UID:601-1473966000-1473973200@9thvancouverpathfinders.ca
SUMMARY:MEC Club Night - Gear training and discounts!
DESCRIPTION:Location: MEC Vancouver\, 130 West Broadway\nRSVP by Wednesday September 7\, 2016 by clicking on the following link. https://goo.gl/forms/2NDcIQaC5QHhTlbq1 \nMountain Equipment Co-op is hosting another Club Night September 15th that is open to all members of the Scouting and Guiding community in the Vancouver Lower Mainland including Guiders\, girls & their parents.  During the Club Night\, MEC will also be providing info sessions on equipment including how to choose the right hiking boot and pack\, details in layering and many more.  This is a great opportunity for a unit to learn more about outdoor gear.  Please attend in Guiding uniform/clothing! \nRSVP (mandatory) by September 7th.
URL:https://9thvancouverpathfinders.ca/event/mec-club-night-2/
LOCATION:MEC Vancouver\, 130 W Broadway\, Vancouver\, BC\, Canada
CATEGORIES:Outing
END:VEVENT
BEGIN:VEVENT
DTSTART;TZID=America/Vancouver:20160518T183000
DTEND;TZID=America/Vancouver:20160518T210000
DTSTAMP:20260419T085435
CREATED:20160411T182841Z
LAST-MODIFIED:20160518T015500Z
UID:505-1463596200-1463605200@9thvancouverpathfinders.ca
SUMMARY:"Spring Fever" Play at Killarney Secondary
DESCRIPTION:We’re going on an out trip to see the “Spring Fever” production at Killarney! Tickets are $8. More info to come!
URL:https://9thvancouverpathfinders.ca/event/regular-meeting-37/
LOCATION:Killarney Secondary School\, 6454 Killarney St\, Vancouver\, BC\, Canada
CATEGORIES:Outing
END:VEVENT
BEGIN:VEVENT
DTSTART;TZID=America/Vancouver:20160312T090000
DTEND;TZID=America/Vancouver:20160312T140000
DTSTAMP:20260419T085435
CREATED:20160311T210053Z
LAST-MODIFIED:20160311T210053Z
UID:464-1457773200-1457791200@9thvancouverpathfinders.ca
SUMMARY:Mount Seymour Snowshoe
DESCRIPTION:Camp has been cancelled\, so we’re going snowshoeing instead!  We’ll finish off our Winter Camp Challenge crest\, enjoy a picnic together on the trails\, and practice our snowshoe skills on the 6 km Dog Mountain trail. \nWe’ll meet at the west (far) end of the Mount Seymour parking lot (top of the mountain)\, near the signs for the BC Parks trails.  See the attached SG1 and SG2 for more details. \nThere is no cost to attend. Dress for the weather (non-cotton layers\, snowpants\, waterproof jacket\, waterproof shoes or boots\, toque and gloves) and bring a daypack with 2L water\, an empty travel mug for a warm beverage\, and your personal first aid kit. Camera and sunglasses are optional. \nPlease RSVP to Karla by 10:00 pm on Friday March 11 so we know how many pairs of snowshoes we need.  Please also bring the attached permission form to the trailhead. \n\nSG1 Mount Seymour Snowshoe\nSG2 Mount Seymour Snowshoe
URL:https://9thvancouverpathfinders.ca/event/mount-seymour-snowshoe/
LOCATION:Mount Seymour Provincial Park
CATEGORIES:Outing
END:VEVENT
BEGIN:VEVENT
DTSTART;TZID=America/Vancouver:20160224T180000
DTEND;TZID=America/Vancouver:20160224T200000
DTSTAMP:20260419T085435
CREATED:20151109T165648Z
LAST-MODIFIED:20160210T213043Z
UID:383-1456336800-1456344000@9thvancouverpathfinders.ca
SUMMARY:Volunteering at Greater Vancouver Food Bank
DESCRIPTION:Note the early start time! \nWe’re volunteering at the Greater Vancouver Food Bank from 6:00-8:00 pm!  Drop off and pick up will be at the Food Bank on Raymur Ave\, so don’t come to the church tonight.  Please bring the attached permission form with you to our meeting on the 17th or to the Food Bank on the 24th. \n\nFood Bank Volunteering Form
URL:https://9thvancouverpathfinders.ca/event/volunteering-at-greater-vancouver-food-bank/
LOCATION:Vancouver Food Bank\, 1150 Raymur Ave\, Vancouver\, BC
CATEGORIES:Outing
END:VEVENT
BEGIN:VEVENT
DTSTART;TZID=America/Vancouver:20160221T150000
DTEND;TZID=America/Vancouver:20160221T180000
DTSTAMP:20260419T085435
CREATED:20160216T022318Z
LAST-MODIFIED:20160218T052913Z
UID:421-1456066800-1456077600@9thvancouverpathfinders.ca
SUMMARY:District Thinking Day Event
DESCRIPTION:We will be completing the WAGGGS Thinking Day challenge with other units in the District.  Please email Amy ASAP if you are planning on attending. \nBring the permission form and $10 to the event on Sunday.  Hope to see you there! \nWorld Thinking Day event SG1 \nWorld Thinking Day event SG2
URL:https://9thvancouverpathfinders.ca/event/district-thinking-day-event/
LOCATION:Moberly Hall\, 7646 Prince Albert Street\, Vancouver\, BC\, Canada
CATEGORIES:Outing
END:VEVENT
BEGIN:VEVENT
DTSTART;TZID=America/Vancouver:20160127T183000
DTEND;TZID=America/Vancouver:20160127T210000
DTSTAMP:20260419T085435
CREATED:20160122T015537Z
LAST-MODIFIED:20160122T015537Z
UID:425-1453919400-1453928400@9thvancouverpathfinders.ca
SUMMARY:Enrolment & Dinner
DESCRIPTION:We will be doing our enrolment ceremony at the Old Spaghetti Factory in Gastown.  Please wear your full uniform and bring $20-25 to pay for your dinner.  (You can view the menu here.) If you are planning to attend please RSVP to Karla by Monday\, January 25. Please let her know if you will be taking the skytrain (meeting at 29th Avenue Station at 6:30) or meeting us at the restaurant at 7 pm. \n  \nWe want all girls to be able to attend\, so if the cost is prohibitive\, please contact one of the leaders.
URL:https://9thvancouverpathfinders.ca/event/enrolment-dinner/
LOCATION:Old Spaghetti Factory\, 53 Water Street\, Vancouver\, BC\, V6B1A1\, Canada
CATEGORIES:Outing
END:VEVENT
BEGIN:VEVENT
DTSTART;TZID=America/Vancouver:20151216T184500
DTEND;TZID=America/Vancouver:20151216T203000
DTSTAMP:20260419T085435
CREATED:20151020T045538Z
LAST-MODIFIED:20151215T051845Z
UID:367-1450291500-1450297800@9thvancouverpathfinders.ca
SUMMARY:Christmas Outing
DESCRIPTION:The Christmas Train is unfortunately not available tonight\, so we’re going on a walking tour to check out the Christmas cheer in Downtown Vancouver. \nWe’ll meet at 6:45 pm at 29th Ave Skytrain Station and will take transit downtown. Pick up will be from 29th Ave at 8:30 pm. \nThis event costs $5 if you have your own bus pass\, or $9 if you require bus fare to and from downtown. See the Forms page for more information.
URL:https://9thvancouverpathfinders.ca/event/christmas-outing/
LOCATION:Burrard Skytrain – Hyatt – St. Paul’s – Four Season’s\, Vancouver\, BC
CATEGORIES:Outing
END:VEVENT
BEGIN:VEVENT
DTSTART;TZID=America/Vancouver:20151024T123000
DTEND;TZID=America/Vancouver:20151024T170000
DTSTAMP:20260419T085435
CREATED:20150622T163336Z
LAST-MODIFIED:20150923T171251Z
UID:280-1445689800-1445706000@9thvancouverpathfinders.ca
SUMMARY:West Coast Area Iron Chef
DESCRIPTION:Assemble a feast to calm the cursed mummy in a challenging three-course camp cooking competition! Teams of Pathfinders or Rangers will create a three-course menu using a selection of provided ingredients to wow fabulous guest judges and vie for the ultimate award: the West Coast Area trophy for Culinary Supremacy! \nMore information about this event is available on the Forms page.  If you would like to participate in this event\, please return your permission form (SG2) and $15 payment by Wednesday October 7th.
URL:https://9thvancouverpathfinders.ca/event/west-coast-area-iron-chef/
LOCATION:Woodward’s Landing Girl Guide Camp\, 11551 Dyke Road\, Richmond\, British Columbia\, Canada
CATEGORIES:Outing
END:VEVENT
BEGIN:VEVENT
DTSTART;TZID=America/Vancouver:20151021T184500
DTEND;TZID=America/Vancouver:20151021T211500
DTSTAMP:20260419T085435
CREATED:20151009T032844Z
LAST-MODIFIED:20151020T042653Z
UID:339-1445453100-1445462100@9thvancouverpathfinders.ca
SUMMARY:Fright Nights
DESCRIPTION:As an early Halloween celebration we will be going to Fright Nights at Playland.  We are able to purchase tickets online for a discount so if you bring your money to either of our cookie selling events\, or the Fort Langley trip\, the cost is only $32.  If you decide to come at the last minute\, the cost at the gate will be $38. Forms are available here.
URL:https://9thvancouverpathfinders.ca/event/fright-nights/
LOCATION:BC
CATEGORIES:Outing
END:VEVENT
BEGIN:VEVENT
DTSTART;TZID=America/Vancouver:20151017T091500
DTEND;TZID=America/Vancouver:20151017T150000
DTSTAMP:20260419T085435
CREATED:20150622T162510Z
LAST-MODIFIED:20150903T181448Z
UID:277-1445073300-1445094000@9thvancouverpathfinders.ca
SUMMARY:Southridge District Outing to Fort Langley National Historic Site
DESCRIPTION:The Southridge District is heading to Fort Langley! Pan for gold\, learn about the fur trade\, and get to know other Sparks\, Brownies\, Guides and Pathfinders in the district. \nTravel to and from Fort Langley will be by charter school bus.  We will meet at Van Horne Elementary School at 9:15 am and return by 3:00 pm.  Pack a lunch and drinks\, and wear your Pathfinder uniform. You may bring money for the gift shop if you like. \nThis event costs $11.  Please return your permission form and $11 payment by Wednesday September 30th if you would like to attend.
URL:https://9thvancouverpathfinders.ca/event/southridge-district-outing-to-fort-langley-national-historic-site/
LOCATION:Van Horne School\, 5855 Ontario Street\, Vancouver\, BC\, Canada
CATEGORIES:Outing
END:VEVENT
BEGIN:VEVENT
DTSTART;TZID=America/Vancouver:20151008T190000
DTEND;TZID=America/Vancouver:20151008T210000
DTSTAMP:20260419T085435
CREATED:20150925T044707Z
LAST-MODIFIED:20150925T044707Z
UID:323-1444330800-1444338000@9thvancouverpathfinders.ca
SUMMARY:MEC Club Night
DESCRIPTION:Are you in the market for new hiking boots or a backpack for camping?  Mountain Equipment Co-op is offering members of Guiding and Scouting (and their families) access to their store after it is closed to the public.  MEC will be providing info sessions on equipment\, including how to choose the right hiking boot and pack\, details in layering\, and many more.  We will also get 10% off in-stock gear\, so this is a great opportunity to get some camping essentials for a good price. \nWe must RSVP to the event\, so please let Amy know if you are interested in attending by September 30.
URL:https://9thvancouverpathfinders.ca/event/mec-club-night/
LOCATION:Mountain Equipment Co-op\, 130 West Broadway\, Vancouver\, BC\, V5Y 1P3\, Canada
CATEGORIES:Outing
END:VEVENT
BEGIN:VEVENT
DTSTART;TZID=America/Vancouver:20150926T100000
DTEND;TZID=America/Vancouver:20150926T120000
DTSTAMP:20260419T085435
CREATED:20150622T162607Z
LAST-MODIFIED:20150923T171046Z
UID:279-1443261600-1443268800@9thvancouverpathfinders.ca
SUMMARY:Great Canadian Shoreline Cleanup
DESCRIPTION:Southridge  District Girl Guides is participating in the Great Canadian Shoreline Cleanup sponsored by the Vancouver Aquarium\, by cleaning up Fraser Foreshore Park. All girls\, Guiders and families welcome! \nWhat is provided: \n\nTongs\, latex gloves\, garbage bags\, recording sheets and pencils\nSmall snack and juice box\nOpportunity to help the environment\n\nWhat to bring: \n\nDress appropriately for the weather i.e. boots\, rain gear\, sun hat\, sun screen as necessary\nA positive attitude\n\nMore information about this event is available on the Event Information Sheet.
URL:https://9thvancouverpathfinders.ca/event/great-canadian-shoreline-cleanup/
LOCATION:Fraser Foreshore Park\, Byrne Road and Fraser Park Drive\, Vancouver\, BC\, Canada
CATEGORIES:Outing
END:VEVENT
BEGIN:VEVENT
DTSTART;TZID=America/Vancouver:20150617T184500
DTEND;TZID=America/Vancouver:20150617T203000
DTSTAMP:20260419T085435
CREATED:20150113T060253Z
LAST-MODIFIED:20150605T052741Z
UID:192-1434566700-1434573000@9thvancouverpathfinders.ca
SUMMARY:Last Meeting for the year!
DESCRIPTION:The Pathfinders decided they want to go to Casa Gelato to celebrate the end of our Guiding year.  We will meet at Strathcona Park (on Raymur Avenue\, across the street from the Food Bank) at 6:45.  After a short ceremony in the park to celebrate our third-year Pathfinder who is moving up to Rangers\, we will walk up to Casa Gelato for a treat.  Then we will come back to the park to eat our gelato and hang out.  Bring a frisbee or soccer ball if you’d like!
URL:https://9thvancouverpathfinders.ca/event/last-regular-meeting-for-the-year/
LOCATION:Strathcona Park\, 857 Malkin Ave\, Vancouver\, BC
CATEGORIES:Outing
END:VEVENT
BEGIN:VEVENT
DTSTART;TZID=America/Vancouver:20150429T183000
DTEND;TZID=America/Vancouver:20150429T203000
DTSTAMP:20260419T085435
CREATED:20150113T055613Z
LAST-MODIFIED:20150316T180321Z
UID:185-1430332200-1430339400@9thvancouverpathfinders.ca
SUMMARY:Volunteering at Vancouver Food Bank Warehouse
DESCRIPTION:We will be helping sort and pack food donations at the Vancouver Food Bank warehouse.  Wear your Pathfinder uniform\, and bring your Food Bank waiver. \nPlease note we are meeting at 6:30 pm for a full two-hour shift!
URL:https://9thvancouverpathfinders.ca/event/regular-meeting-22/
LOCATION:Vancouver Food Bank\, 1150 Raymur Ave\, Vancouver\, BC
CATEGORIES:Outing
END:VEVENT
BEGIN:VEVENT
DTSTART;TZID=America/Vancouver:20141210T184500
DTEND;TZID=America/Vancouver:20141210T203000
DTSTAMP:20260419T085435
CREATED:20141211T001102Z
LAST-MODIFIED:20140927T231741Z
UID:84-1418237100-1418243400@9thvancouverpathfinders.ca
SUMMARY:Winter Outing
DESCRIPTION:Tonight we will have some fun out and about.  Details to follow.
URL:https://9thvancouverpathfinders.ca/event/winter-outing/
LOCATION:BC
CATEGORIES:Outing
END:VEVENT
BEGIN:VEVENT
DTSTART;TZID=America/Vancouver:20141210T183000
DTEND;TZID=America/Vancouver:20141210T203000
DTSTAMP:20260419T085435
CREATED:20141103T195606Z
LAST-MODIFIED:20141125T212111Z
UID:114-1418236200-1418243400@9thvancouverpathfinders.ca
SUMMARY:Seasonal Outing - Stanley Park Christmas Train
DESCRIPTION:We will be celebrating our last meeting before the Winter Break with a special outing to the Stanley Park Christmas Train! The cost to attend this event will be $6 – yay cookie selling! \nWhat: Stanley Park Christmas Train outing\nWhen: December 10th\, 6:30pm-8:30pm\nDrop off: 6:30pm at Joyce-Collingwood Skytrain Station (south side entrance\, where pick-up was for cookie selling). The unit will cover transit costs.\nPick up: 8:30pm at Stanley Park Miniature Train parking lot (Parking lot closest to #4 on map: http://vancouver.ca/files/cov/Stanley-Park-Map-Guide-2012.pdf)\nCost: $6.00. Girls welcome to bring extra money for snacks.\nAttire: Please dress appropriately for being outside for 2 hours in December—event is rain or shine.\n\nParents\, please have your girls bring $6.00 plus the permission form (SG2) to the next meeting. Forms available here: Activity description (SG1) and Permission Form (SG2)\n 
URL:https://9thvancouverpathfinders.ca/event/seasonal-outing/
LOCATION:Stanley Park Bright Nights Christmas Train\, Stanley Park\, Vancouver\, BC
CATEGORIES:Outing
END:VEVENT
BEGIN:VEVENT
DTSTART;TZID=America/Vancouver:20141124T183000
DTEND;TZID=America/Vancouver:20141124T213000
DTSTAMP:20260419T085435
CREATED:20141121T175934Z
LAST-MODIFIED:20141121T191232Z
UID:139-1416853800-1416864600@9thvancouverpathfinders.ca
SUMMARY:Snow Camp Training Session
DESCRIPTION:This training session is mandatory for anyone planning on attending the West Coast Area Snow Camp from January 9th – 11th at Mount Seymour Provincial Park. \nThis training session is for 3rd year Guides\, Pathfinders\, Rangers and Trex to introduce them to Snow Camping and give them the basic skills and knowledge to go snow camping. This training is required for the girls/guiders interested in participating in the upcoming West Coast Area – Snow Series camps. \nTopics will include tents and winter shelters\, fun and fit food for frosty weather and winter water\, comfy cold climate camp clothing and footwear\, snow sleeping systems and Snow Camping First Aid & Care. \nPlease bring your signed SG2 + SG5 forms plus a cheque for $30 made out to the 9th Vancouver Pathfinders to this training session if you would like to attend the Snow Camp in January.
URL:https://9thvancouverpathfinders.ca/event/winter-camp-training-session/
LOCATION:St. Phillip’s Church\, 3737 West 27th Avenue\, Vancouver
CATEGORIES:Outing
END:VEVENT
BEGIN:VEVENT
DTSTART;TZID=America/Vancouver:20141018T083000
DTEND;TZID=America/Vancouver:20141018T150000
DTSTAMP:20260419T085435
CREATED:20140813T051559Z
LAST-MODIFIED:20140928T030624Z
UID:21-1413621000-1413644400@9thvancouverpathfinders.ca
SUMMARY:Taves Apple Farm
DESCRIPTION:District event to Taves Apple Farm in Abbotsford.  The bus will leave from Van Horne Elementary at 8:30 am and will return at 3 pm. \nDress for the weather and bring a water bottle.  We will be deciding what we want to do for lunch at a future meeting.  You may bring a small amount of money ($10 or so) as there is a store with snacks and apples available for purchase.  Everyone goes home with a pumpkin\, so please bring a reusable bag to carry it onto the bus! \n  \n 
URL:https://9thvancouverpathfinders.ca/event/apple-farm/
LOCATION:Van Horne School\, 5855 Ontario Street\, Vancouver\, BC\, Canada
CATEGORIES:Outing
END:VEVENT
BEGIN:VEVENT
DTSTART;TZID=America/Vancouver:20140927T100000
DTEND;TZID=America/Vancouver:20140927T120000
DTSTAMP:20260419T085435
CREATED:20140901T154520Z
LAST-MODIFIED:20140901T154520Z
UID:51-1411812000-1411819200@9thvancouverpathfinders.ca
SUMMARY:Great Canadian Shoreline Clean-up
DESCRIPTION:Southridge  District Girl Guides is participating in the Great Canadian Shoreline Cleanup sponsored by the Vancouver Aquarium\, by cleaning up Fraser Foreshore Park. All girls\, Guiders and families welcome!  For more information\, download the Information Sheet from the Forms page.
URL:https://9thvancouverpathfinders.ca/event/great-canadian-shoreline-clean-up/
LOCATION:Fraser Foreshore Park\, Byrne Road and Fraser Park Drive\, Vancouver\, BC\, Canada
CATEGORIES:Outing
END:VEVENT
END:VCALENDAR