BEGIN:VCALENDAR
VERSION:2.0
PRODID:-//9th Vancouver Pathfinders - ECPv6.11.0.1//NONSGML v1.0//EN
CALSCALE:GREGORIAN
METHOD:PUBLISH
X-WR-CALNAME:9th Vancouver Pathfinders
X-ORIGINAL-URL:https://9thvancouverpathfinders.ca
X-WR-CALDESC:Events for 9th Vancouver Pathfinders
REFRESH-INTERVAL;VALUE=DURATION:PT1H
X-Robots-Tag:noindex
X-PUBLISHED-TTL:PT1H
BEGIN:VTIMEZONE
TZID:America/Vancouver
BEGIN:DAYLIGHT
TZOFFSETFROM:-0800
TZOFFSETTO:-0700
TZNAME:PDT
DTSTART:20140309T100000
END:DAYLIGHT
BEGIN:STANDARD
TZOFFSETFROM:-0700
TZOFFSETTO:-0800
TZNAME:PST
DTSTART:20141102T090000
END:STANDARD
BEGIN:DAYLIGHT
TZOFFSETFROM:-0800
TZOFFSETTO:-0700
TZNAME:PDT
DTSTART:20150308T100000
END:DAYLIGHT
BEGIN:STANDARD
TZOFFSETFROM:-0700
TZOFFSETTO:-0800
TZNAME:PST
DTSTART:20151101T090000
END:STANDARD
END:VTIMEZONE
BEGIN:VEVENT
DTSTART;TZID=America/Vancouver:20150816T080000
DTEND;TZID=America/Vancouver:20150823T170000
DTSTAMP:20260421T051808
CREATED:20150222T192657Z
LAST-MODIFIED:20150222T192657Z
UID:224-1439712000-1440349200@9thvancouverpathfinders.ca
SUMMARY:Holidaze West Coast Area Camp at Camp Olave
DESCRIPTION:Save the date! \nThis camp is open to all girls in the West Coast Area. The 9th Pathfinders will not be sending a unit\, but girls are welcome to apply to attend independently. \nPathfinders attend as “Councillors in Training.”  This is an excellent opportunities to learn leadership skills and help make the experience for the Sparks\, Brownies and Guides extra-special!  More information will be posted on the following website in the coming weeks: https://sites.google.com/site/campholidaze/home
URL:https://9thvancouverpathfinders.ca/event/holidaze-west-coast-area-camp-at-camp-olave/
LOCATION:Camp Olave\, 3965 Sunshine Coast Hwy.\, Sechelt\, British Columbia\, V0N 3A1\, Canada
CATEGORIES:Camp
END:VEVENT
BEGIN:VEVENT
DTSTART;TZID=America/Vancouver:20150808T080000
DTEND;TZID=America/Vancouver:20150815T170000
DTSTAMP:20260421T051808
CREATED:20150120T172857Z
LAST-MODIFIED:20150120T172857Z
UID:202-1439020800-1439658000@9thvancouverpathfinders.ca
SUMMARY:Southridge District Camp at Camp Olave
DESCRIPTION:This camp is open to all Sparks\, Brownies\, Guides\, Pathfinders and Senior Branches in the Southridge District.  More information about this camp to come. \nThe 9th Pathfinders will not be sending a full unit\, but Pathfinders are welcome to register individually.  Please let Karla know if you would like more information about registering for district camp.
URL:https://9thvancouverpathfinders.ca/event/southridge-district-camp-at-camp-olave/
LOCATION:Camp Olave\, 3965 Sunshine Coast Hwy.\, Sechelt\, British Columbia\, V0N 3A1\, Canada
CATEGORIES:Camp
END:VEVENT
BEGIN:VEVENT
DTSTART;TZID=America/Vancouver:20150508T183000
DTEND;TZID=America/Vancouver:20150510T151500
DTSTAMP:20260421T051808
CREATED:20141117T165509Z
LAST-MODIFIED:20150429T155020Z
UID:118-1431109800-1431270900@9thvancouverpathfinders.ca
SUMMARY:Spring Camp at Camp Olave
DESCRIPTION:We are heading to Camp Olave for the weekend! \nPathfinders need to be dropped off and picked up at the footpassenger drop off point at Horseshoe Bay ferry terminal (Map: http://bit.ly/1DrJL5o). We are meeting at 6:30 pm on Friday afternoon.  Pick is at 3:15 pm on Sunday afternoon. \nMore info and forms are available on the Forms page.
URL:https://9thvancouverpathfinders.ca/event/spring-camp-at-camp-olave/
LOCATION:Camp Olave\, 3965 Sunshine Coast Hwy.\, Sechelt\, British Columbia\, V0N 3A1\, Canada
CATEGORIES:Camp
END:VEVENT
BEGIN:VEVENT
DTSTART;TZID=America/Vancouver:20150327T200000
DTEND;TZID=America/Vancouver:20150329T120000
DTSTAMP:20260421T051808
CREATED:20141103T200003Z
LAST-MODIFIED:20150224T065056Z
UID:115-1427486400-1427630400@9thvancouverpathfinders.ca
SUMMARY:Spring Camp at Stave Lake Lodge
DESCRIPTION:On March 27\, 28 and 29\, we will be going early spring camping at Stave Lake! \nRegistration/permission forms available at the links below. \nSG.1 describes our activities and have Guider contact information.We need SG.2 signed and brought back with the $30.00 deposit (additional funds TBC depending on the number of girls who can make it). \n– SG.1 Activity Plan \n– SG.2 Parent/Guardian Permission \n 
URL:https://9thvancouverpathfinders.ca/event/winter-camp/
LOCATION:Stave Lake Reservoir Lodge\, Stave Lake\, Mission\, BC\, Canada
CATEGORIES:Camp
END:VEVENT
BEGIN:VEVENT
DTSTART;TZID=America/Vancouver:20150109T180000
DTEND;TZID=America/Vancouver:20150111T110000
DTSTAMP:20260421T051808
CREATED:20141121T173824Z
LAST-MODIFIED:20141121T191037Z
UID:133-1420826400-1420974000@9thvancouverpathfinders.ca
SUMMARY:Snow Camp at Mount Seymour Provincial Park
DESCRIPTION:The West Coast Area Camping Committee is coordinating a snow camp\, and we would like to submit a patrol from the 9th Pathfinders! \nSnow Camp program will include: – Snow sculpture/archway contest\, A Snow Amazing Race\, Igloo and Snow Shelter Building\, Snowshoeing\, Campfire and more! \n\nDates: Jan 9th to 11th\, 2015\nLocation: Mount Seymour Group Campsite\nWho: Patrols of Pathfinders\, Rangers and Trex with their Guiders\nCapacity: 50 Area participants\nCost: $30 per participant\n\nAll participants must attend the mandatory snow camp training session on Monday November 24th to be able to attend this camp.  Please see the Forms page for forms\, kit list\, and map. \n 
URL:https://9thvancouverpathfinders.ca/event/snow-camp-at-mount-seymour-provincial-park/
LOCATION:Mount Seymour Provincial Park Group Campsite\, North Vancouver\, British Columbia\, Canada
CATEGORIES:Camp
END:VEVENT
BEGIN:VEVENT
DTSTART;TZID=America/Vancouver:20150107T183000
DTEND;TZID=America/Vancouver:20150107T193000
DTSTAMP:20260421T051808
CREATED:20141127T191616Z
LAST-MODIFIED:20141127T191616Z
UID:165-1420655400-1420659000@9thvancouverpathfinders.ca
SUMMARY:Snow Camp Planning
DESCRIPTION:There will be no regular Pathfinder meeting this evening. \nThis meeting is for the five Pathfinders attending Snow Camp in January (IA\, RP\, AT\, MBC\, and CB). \nDuring this hour\, we will be packing and preparing our camp menu items\, distributing camping gear\, and reviewing any outstanding questions in preparation for Friday’s camp at Mount Seymour. \nPlease bring your $30 for camp food to this meeting. \n 
URL:https://9thvancouverpathfinders.ca/event/snow-camp-planning-2/
LOCATION:St. Thomas Anglican\, 2444 East 41st Ave.\, Vancouver\, BC\, Canada
CATEGORIES:Camp
END:VEVENT
BEGIN:VEVENT
DTSTART;TZID=America/Vancouver:20141203T173000
DTEND;TZID=America/Vancouver:20141203T183000
DTSTAMP:20260421T051808
CREATED:20141127T191202Z
LAST-MODIFIED:20141127T191202Z
UID:164-1417627800-1417631400@9thvancouverpathfinders.ca
SUMMARY:Snow Camp Planning
DESCRIPTION:This meeting is for the 5 Pathfinders attending Snow Camp in January (IA\, AT\, RP\, MBC\, and CB). \nDuring this hour\, we will be planning our camp menu and shopping list\, reviewing the Snow Camp Kit List (available for download on the forms page) and assembling a list of items we will borrow from the Southridge District and West Coast Area.
URL:https://9thvancouverpathfinders.ca/event/snow-camp-planning/
LOCATION:St. Thomas Anglican\, 2444 East 41st Ave.\, Vancouver\, BC\, Canada
CATEGORIES:Camp
END:VEVENT
BEGIN:VEVENT
DTSTART;TZID=America/Vancouver:20141003T180000
DTEND;TZID=America/Vancouver:20141004T120000
DTSTAMP:20260421T051808
CREATED:20140825T203056Z
LAST-MODIFIED:20140928T031347Z
UID:38-1412359200-1412424000@9thvancouverpathfinders.ca
SUMMARY:Fall Sleepover
DESCRIPTION:Let’s start the year off with a get-to-know-you sleepover.  The theme is “Red Carpet”\, so bring a glamorous outfit to put on and we will have a fashion show after dinner!
URL:https://9thvancouverpathfinders.ca/event/fall-sleepover/
LOCATION:Richmond Guide House\, 4780 Blundell Road\, Richmond\, BC\, V7C 1G9\, Canada
CATEGORIES:Camp
END:VEVENT
END:VCALENDAR