BEGIN:VCALENDAR
VERSION:2.0
PRODID:-//9th Vancouver Pathfinders - ECPv6.11.0.1//NONSGML v1.0//EN
CALSCALE:GREGORIAN
METHOD:PUBLISH
X-ORIGINAL-URL:https://9thvancouverpathfinders.ca
X-WR-CALDESC:Events for 9th Vancouver Pathfinders
REFRESH-INTERVAL;VALUE=DURATION:PT1H
X-Robots-Tag:noindex
X-PUBLISHED-TTL:PT1H
BEGIN:VTIMEZONE
TZID:America/Vancouver
BEGIN:DAYLIGHT
TZOFFSETFROM:-0800
TZOFFSETTO:-0700
TZNAME:PDT
DTSTART:20140309T100000
END:DAYLIGHT
BEGIN:STANDARD
TZOFFSETFROM:-0700
TZOFFSETTO:-0800
TZNAME:PST
DTSTART:20141102T090000
END:STANDARD
BEGIN:DAYLIGHT
TZOFFSETFROM:-0800
TZOFFSETTO:-0700
TZNAME:PDT
DTSTART:20150308T100000
END:DAYLIGHT
BEGIN:STANDARD
TZOFFSETFROM:-0700
TZOFFSETTO:-0800
TZNAME:PST
DTSTART:20151101T090000
END:STANDARD
BEGIN:DAYLIGHT
TZOFFSETFROM:-0800
TZOFFSETTO:-0700
TZNAME:PDT
DTSTART:20160313T100000
END:DAYLIGHT
BEGIN:STANDARD
TZOFFSETFROM:-0700
TZOFFSETTO:-0800
TZNAME:PST
DTSTART:20161106T090000
END:STANDARD
BEGIN:DAYLIGHT
TZOFFSETFROM:-0800
TZOFFSETTO:-0700
TZNAME:PDT
DTSTART:20170312T100000
END:DAYLIGHT
BEGIN:STANDARD
TZOFFSETFROM:-0700
TZOFFSETTO:-0800
TZNAME:PST
DTSTART:20171105T090000
END:STANDARD
BEGIN:DAYLIGHT
TZOFFSETFROM:-0800
TZOFFSETTO:-0700
TZNAME:PDT
DTSTART:20180311T100000
END:DAYLIGHT
BEGIN:STANDARD
TZOFFSETFROM:-0700
TZOFFSETTO:-0800
TZNAME:PST
DTSTART:20181104T090000
END:STANDARD
END:VTIMEZONE
BEGIN:VEVENT
DTSTART;TZID=America/Vancouver:20180519T080000
DTEND;TZID=America/Vancouver:20180521T150000
DTSTAMP:20260421T035058
CREATED:20180124T042728Z
LAST-MODIFIED:20180311T003345Z
UID:1393-1526716800-1526914800@9thvancouverpathfinders.ca
SUMMARY:"Intro to Backpacking" Spring Camp at Newcastle Island\, BC
DESCRIPTION:“Intro to Backpacking” Spring Camp at Newcastle Island\, BC \nWe’re heading to Newcastle Island for the May long weekend! Newcastle is a protected marine park off the coast of Nanaimo. We’re staying at a group camping site overlooking the ocean. This is an “intro to backpacking camp\,” where Pathfinders will plan meals appropriate for the trail\, cook in pairs\, use and learn about backpacking gear\, and earn the BC Spring Camping challenge! \nThis will also be gold camp for any 3rd years completing their Canada Cord this year. \nPlease complete the forms below and return with payment of $40 to a Unit Guider no later than May 2. We’ll be using RSVPs to plan food\, gear\, etc. starting May 2nd\, so need to know who is coming to camp to ensure the plans include everyone! \n\nSG1-Newcastle Island May 2018\nSG2-Newcastle Island May 2018
URL:https://9thvancouverpathfinders.ca/event/spring-camp-at-newcastle-island-bc/
LOCATION:Newcastle Island\, BC\, Canada
CATEGORIES:Camp
END:VEVENT
BEGIN:VEVENT
DTSTART;TZID=America/Vancouver:20171124T171500
DTEND;TZID=America/Vancouver:20171126T130000
DTSTAMP:20260421T035058
CREATED:20170911T173645Z
LAST-MODIFIED:20171114T045429Z
UID:1205-1511543700-1511701200@9thvancouverpathfinders.ca
SUMMARY:Cozy\, Crafty Fall Camp at Camp Olave
DESCRIPTION:We’re heading to Brock cabin at Camp Olave for a cozy\, crafty fall camp.  We’ll enjoy the seashore\, cook together\, and make lots of crafts and fun things to take home. We’ll also be completing the BC Camping “Sleepover” Challenge! \nWe’ll meet at 5:15 pm at Horseshoe Bay\, and walk on to the ferry together. Bring food or some money to have dinner on the ferry. On Sunday\, pick-up at Horseshoe Bay is at 1:15 pm. \nForms and payment are due no later than Nov 1 2017. Please speak with a leader if you’d like to use your fall cookie cash towards camp! \n\nSG1-Camp Olave Nov 2017\nSG2-Camp Olave Nov 2017\nPathfinders Kit List Camp Olave Nov 24-26 2017
URL:https://9thvancouverpathfinders.ca/event/fall-camp/
LOCATION:Camp Olave\, 3965 Sunshine Coast Hwy.\, Sechelt\, British Columbia\, V0N 3A1\, Canada
CATEGORIES:Camp
END:VEVENT
BEGIN:VEVENT
DTSTART;TZID=America/Vancouver:20170630T134500
DTEND;TZID=America/Vancouver:20170703T134500
DTSTAMP:20260421T035058
CREATED:20170203T195630Z
LAST-MODIFIED:20170506T193349Z
UID:962-1498830300-1499089500@9thvancouverpathfinders.ca
SUMMARY:Summer Camp @ Camp Olave
DESCRIPTION:We’re heading to summer camp! We’ll be sleeping in platform tents at Si Yay Lum at beautiful Camp Olave\, BC. \nWe’re meeting to catch the ferry from Horseshoe Bay on Friday\, June 30 at 1:45 pm (ferry leaves at 2:15)\, returning to Horseshoe Bay by Monday\, July 3 at 1:45pm. \nForms available here – due by May 17\, 2017\, and need to be returned at the latest by May 24\, 2017.
URL:https://9thvancouverpathfinders.ca/event/summer-camp-camp-olave-2/
LOCATION:Camp Olave\, 3965 Sunshine Coast Hwy.\, Sechelt\, British Columbia\, V0N 3A1\, Canada
CATEGORIES:Camp
END:VEVENT
BEGIN:VEVENT
DTSTART;TZID=America/Vancouver:20170120T190000
DTEND;TZID=America/Vancouver:20170122T110000
DTSTAMP:20260421T035058
CREATED:20160704T040033Z
LAST-MODIFIED:20161107T170116Z
UID:588-1484938800-1485082800@9thvancouverpathfinders.ca
SUMMARY:Snow Camp at Mount Seymour
DESCRIPTION:We’re going to snow camp! \nThis campsite is a walk-in site. We’ll be sleeping in tents (brr! yay!)\, building igloos and snow caves\, and roasting by the fire in a lovely warming hut. \nWe’ll be completing the BC Winter Camp Challenge\, as well as working on some Canada Cord camping skills! \nPlease note that to attend this camp\, you must attend the mandatory Snow Camp Training meeting on November 16 or have attended a snow camp training with the West Coast Area in the past. \nPlease review the attached forms\, and return the SG2 form and payment of $25 no later than November 16 2016. \n\nMount Seymour Snow Camp SG1\nMount Seymour Snow Camp SG2\nSnow Camp Kit List
URL:https://9thvancouverpathfinders.ca/event/winter-camp-at-mount-seymour/
LOCATION:Mount Seymour Provincial Park
CATEGORIES:Camp
END:VEVENT
BEGIN:VEVENT
DTSTART;TZID=America/Vancouver:20161125T184500
DTEND;TZID=America/Vancouver:20161127T133000
DTSTAMP:20260421T035058
CREATED:20161027T191123Z
LAST-MODIFIED:20161121T235946Z
UID:707-1480099500-1480253400@9thvancouverpathfinders.ca
SUMMARY:Cozy Fall Camp @ Camp Olave
DESCRIPTION:We’re headed to KwiKwa cabin at Camp Olave for a cozy camp weekend to spend some time outside on the beautiful Sunshine Coast and work on our BC Girl Guides Fall Camp Challenge! \nGetting there: \nWe will be taking the 7:25 pm ferry from Horseshoe Bay on Friday\, November 25th – please arrive at 6:45 pm to meet us by the Orca statue near the Ferry building entrance. Make sure to eat dinner before\, or bring money for dinner on the ferry. \nComing home: \nWe will be returning on the 12:20 pm ferry\, please arrive for pick-up by 1:30pm at Horseshoe Bay. \nLinks to the forms are below – please print\, sign and return the SG2 form\, along with $75 by November 23rd\, 2016. \n\nSG1-Camp-Olave-Fall-Camp-Nov-25-27\nSG2-Camp-Olave-Fall-Camp-Nov-25-27\nCamp Olave Kit List\n\n 
URL:https://9thvancouverpathfinders.ca/event/fall-camp-camp-olave/
LOCATION:Camp Olave\, 3965 Sunshine Coast Hwy.\, Sechelt\, British Columbia\, V0N 3A1\, Canada
CATEGORIES:Camp
END:VEVENT
BEGIN:VEVENT
DTSTART;TZID=America/Vancouver:20161021T190000
DTEND;TZID=America/Vancouver:20161023T123000
DTSTAMP:20260421T035058
CREATED:20160425T181352Z
LAST-MODIFIED:20161021T173624Z
UID:517-1477076400-1477225800@9thvancouverpathfinders.ca
SUMMARY:Pathfinder Summit
DESCRIPTION:Pathfinder Summit is a biennial event (every second year\, alternating with Ranger Revolution) for girls in their 2nd or 3rd year of Pathfinders. It is an opportunity for registered Pathfinders and Pathfinder Guiders from around BC to come together as patrols and explore the Pathfinder Program\, with a focus on leadership. Participants explore subjects they might not encounter at unit meetings and are encouraged to take information back with them to share with their units. Girls and Guiders stay at the HI-Vancouver Jericho Beach hostel and participate in Pathfinder Summit activities at Guide House in Vancouver. \nThe objective of this event is to help girls from across BC by building the skills necessary to take on leadership roles in their units\, in their communities and in Guiding. \nWhere: Vancouver\, BC\nWho: Open to 2nd & 3rd Year Pathfinder patrols from BC\nWhen: October 21-23\, 2016\nCost: $315 per patrol (this works out to $78.75 per girl) \nDROP-OFF: 7:00PM Jericho HI Hostel (meet at front entrance) (1515 Discovery St\, Vancouver\, BC V6R 4K5) – Please eat dinner before you arrive & wear full uniform. \nPICK-UP: 12:30PM Vancouver Guide House (1476 West 8th Avenue\, Vancouver BC) \n  \nFor the girls registered in this patrol (MCB\, HTL\, MM\, RP) please review these forms: \nPS 2016 Registration Information Sheet (attachment)\nPS 2016 SG.1 (attachment)\nPS 2016 Kit List (attachment)\nPS 2016 Covenant Place Info Sheet (attachment) \nThen\, complete and mail the following forms to Karla by August 15th:\n \nH.1 for PS 2016 (attachment) Must have a photo attached!\nSG.2 for PS 2016 (attachment) \n  \n 
URL:https://9thvancouverpathfinders.ca/event/pathfinder-summit/
LOCATION:HI Jericho Beach Hostel\, Vancouver\, BC\, Canada
CATEGORIES:Camp
END:VEVENT
BEGIN:VEVENT
DTSTART;TZID=America/Vancouver:20160423T183000
DTEND;TZID=America/Vancouver:20160424T110000
DTSTAMP:20260421T035058
CREATED:20160411T173001Z
LAST-MODIFIED:20160411T174326Z
UID:477-1461436200-1461495600@9thvancouverpathfinders.ca
SUMMARY:Horse Camp Sleepover with 74th Guides
DESCRIPTION:The 74th Guides have invited us to join them at A+T Equestrian in Surrey for a horse camp sleepover! Pathfinders will get to feed\, clean\, and tack the horses\, take a riding lesson\, and enjoy the lovely equestrian centre. Take a look at the attached forms for more information. Forms and payment must be submitted by April 20 2016. Please make cheques for $65 payable to GGC – 74th Guides. \n\nA+T Group Waiver\nA+T Kit List\nA+T SG 1\nA+T SG2
URL:https://9thvancouverpathfinders.ca/event/horse-camp-sleepover-with-74th-guides/
LOCATION:A+T Equestrian Centre\, 4615 - 190th Street\, Surrey\, BC\, V3Z 1B2\, Canada
CATEGORIES:Camp
END:VEVENT
BEGIN:VEVENT
DTSTART;TZID=America/Vancouver:20160311T190000
DTEND;TZID=America/Vancouver:20160313T110000
DTSTAMP:20260421T035058
CREATED:20151109T165800Z
LAST-MODIFIED:20160311T202904Z
UID:384-1457722800-1457866800@9thvancouverpathfinders.ca
SUMMARY:CANCELLED - Winter Wonderland Camp
DESCRIPTION:CAMP HAS BEEN CANCELLED. SEE “MOUNT SEYMOUR SNOWSHOE” FOR ALTERNATIVE EVENT. \nWe’re going tenting at Mount Seymour! We’ll be building snow forts\, doing arts and crafts\, and getting to know the Pathfinders and Rangers from West Point Grey district. \nSee the Forms page for the permission form required by March 9th. \n 
URL:https://9thvancouverpathfinders.ca/event/sliding-into-spring-camp/
LOCATION:Mount Seymour Provincial Park
CATEGORIES:Camp
END:VEVENT
BEGIN:VEVENT
DTSTART;TZID=America/Vancouver:20151204T180000
DTEND;TZID=America/Vancouver:20151206T113000
DTSTAMP:20260421T035058
CREATED:20151026T182737Z
LAST-MODIFIED:20151125T201932Z
UID:373-1449252000-1449401400@9thvancouverpathfinders.ca
SUMMARY:Winter Camp at Hollyburn
DESCRIPTION:We’re heading to a different cabin at Hollyburn for a fun and adventurous winter camp experience! Find forms for this event here: http://9thvancouverpathfinders.ca/forms/ \nWe are meeting Friday\, Dec. 4th at 6:00pm\, at the far east end of the Hollyburn cross-country skiing parking lot\, pick up is at 11:30am on Sunday. Dec. 6th. \nDirections: \nTake the the Cypress Bowl Skiing exit from the Upper Levels Highway (Highway 1) in West Vancouver. Continue up the Cypress Park road and follow the signs to the Hollyburn cross-country ski area. Proceed to the far east end of the cross-country skiing parking lot where you will see a sign saying “Hiking trail to Hollyburn Lodge”. The hike to the cabin from the meeting spot is just over 1 kilometre and takes 30 to 45 minutes.
URL:https://9thvancouverpathfinders.ca/event/winter-camp-at-hollyburn/
LOCATION:Hollyburn Scout Cabin at Cypress Mountain
CATEGORIES:Camp
END:VEVENT
BEGIN:VEVENT
DTSTART;TZID=America/Vancouver:20150919T130000
DTEND;TZID=America/Vancouver:20150920T110000
DTSTAMP:20260421T035058
CREATED:20150728T161628Z
LAST-MODIFIED:20150905T000019Z
UID:288-1442667600-1442746800@9thvancouverpathfinders.ca
SUMMARY:Fall Adventure Sleepover at Hollyburn Chalet
DESCRIPTION:  \nWe’re starting the year off right at Hollyburn Chalet! \nFor those that have not been there before\, Hollyburn Chalet is a cabin owned by the West Coast Area Girl Guides. It was built in the 1930s and is located on Cypress Mountain. We will hike in to the chalet mid-day\, and enjoy the afternoon and evening doing some exciting outdoor activities\, cooking marvelous camp food\, and enjoying the outdoors together. We will eat dinner and breakfast together.  Please eat lunch on Saturday before you arrive at Hollyburn. \nGirls will be responsible for carry in their own gear and some of the unit food.  We will discuss this in more detail at our first meeting. \nPlease bring your signed permission form and payment to the first meeting on September 16th.  More information is on the Forms page of this website.
URL:https://9thvancouverpathfinders.ca/event/fall-camp-with-the-6th-pathfinders/
LOCATION:Hollyburn Chalet at Cypress Mountain\, North Vancouver\, BC
CATEGORIES:Camp
END:VEVENT
BEGIN:VEVENT
DTSTART;TZID=America/Vancouver:20150816T080000
DTEND;TZID=America/Vancouver:20150823T170000
DTSTAMP:20260421T035058
CREATED:20150222T192657Z
LAST-MODIFIED:20150222T192657Z
UID:224-1439712000-1440349200@9thvancouverpathfinders.ca
SUMMARY:Holidaze West Coast Area Camp at Camp Olave
DESCRIPTION:Save the date! \nThis camp is open to all girls in the West Coast Area. The 9th Pathfinders will not be sending a unit\, but girls are welcome to apply to attend independently. \nPathfinders attend as “Councillors in Training.”  This is an excellent opportunities to learn leadership skills and help make the experience for the Sparks\, Brownies and Guides extra-special!  More information will be posted on the following website in the coming weeks: https://sites.google.com/site/campholidaze/home
URL:https://9thvancouverpathfinders.ca/event/holidaze-west-coast-area-camp-at-camp-olave/
LOCATION:Camp Olave\, 3965 Sunshine Coast Hwy.\, Sechelt\, British Columbia\, V0N 3A1\, Canada
CATEGORIES:Camp
END:VEVENT
BEGIN:VEVENT
DTSTART;TZID=America/Vancouver:20150808T080000
DTEND;TZID=America/Vancouver:20150815T170000
DTSTAMP:20260421T035058
CREATED:20150120T172857Z
LAST-MODIFIED:20150120T172857Z
UID:202-1439020800-1439658000@9thvancouverpathfinders.ca
SUMMARY:Southridge District Camp at Camp Olave
DESCRIPTION:This camp is open to all Sparks\, Brownies\, Guides\, Pathfinders and Senior Branches in the Southridge District.  More information about this camp to come. \nThe 9th Pathfinders will not be sending a full unit\, but Pathfinders are welcome to register individually.  Please let Karla know if you would like more information about registering for district camp.
URL:https://9thvancouverpathfinders.ca/event/southridge-district-camp-at-camp-olave/
LOCATION:Camp Olave\, 3965 Sunshine Coast Hwy.\, Sechelt\, British Columbia\, V0N 3A1\, Canada
CATEGORIES:Camp
END:VEVENT
BEGIN:VEVENT
DTSTART;TZID=America/Vancouver:20150508T183000
DTEND;TZID=America/Vancouver:20150510T151500
DTSTAMP:20260421T035058
CREATED:20141117T165509Z
LAST-MODIFIED:20150429T155020Z
UID:118-1431109800-1431270900@9thvancouverpathfinders.ca
SUMMARY:Spring Camp at Camp Olave
DESCRIPTION:We are heading to Camp Olave for the weekend! \nPathfinders need to be dropped off and picked up at the footpassenger drop off point at Horseshoe Bay ferry terminal (Map: http://bit.ly/1DrJL5o). We are meeting at 6:30 pm on Friday afternoon.  Pick is at 3:15 pm on Sunday afternoon. \nMore info and forms are available on the Forms page.
URL:https://9thvancouverpathfinders.ca/event/spring-camp-at-camp-olave/
LOCATION:Camp Olave\, 3965 Sunshine Coast Hwy.\, Sechelt\, British Columbia\, V0N 3A1\, Canada
CATEGORIES:Camp
END:VEVENT
BEGIN:VEVENT
DTSTART;TZID=America/Vancouver:20150327T200000
DTEND;TZID=America/Vancouver:20150329T120000
DTSTAMP:20260421T035058
CREATED:20141103T200003Z
LAST-MODIFIED:20150224T065056Z
UID:115-1427486400-1427630400@9thvancouverpathfinders.ca
SUMMARY:Spring Camp at Stave Lake Lodge
DESCRIPTION:On March 27\, 28 and 29\, we will be going early spring camping at Stave Lake! \nRegistration/permission forms available at the links below. \nSG.1 describes our activities and have Guider contact information.We need SG.2 signed and brought back with the $30.00 deposit (additional funds TBC depending on the number of girls who can make it). \n– SG.1 Activity Plan \n– SG.2 Parent/Guardian Permission \n 
URL:https://9thvancouverpathfinders.ca/event/winter-camp/
LOCATION:Stave Lake Reservoir Lodge\, Stave Lake\, Mission\, BC\, Canada
CATEGORIES:Camp
END:VEVENT
BEGIN:VEVENT
DTSTART;TZID=America/Vancouver:20150109T180000
DTEND;TZID=America/Vancouver:20150111T110000
DTSTAMP:20260421T035058
CREATED:20141121T173824Z
LAST-MODIFIED:20141121T191037Z
UID:133-1420826400-1420974000@9thvancouverpathfinders.ca
SUMMARY:Snow Camp at Mount Seymour Provincial Park
DESCRIPTION:The West Coast Area Camping Committee is coordinating a snow camp\, and we would like to submit a patrol from the 9th Pathfinders! \nSnow Camp program will include: – Snow sculpture/archway contest\, A Snow Amazing Race\, Igloo and Snow Shelter Building\, Snowshoeing\, Campfire and more! \n\nDates: Jan 9th to 11th\, 2015\nLocation: Mount Seymour Group Campsite\nWho: Patrols of Pathfinders\, Rangers and Trex with their Guiders\nCapacity: 50 Area participants\nCost: $30 per participant\n\nAll participants must attend the mandatory snow camp training session on Monday November 24th to be able to attend this camp.  Please see the Forms page for forms\, kit list\, and map. \n 
URL:https://9thvancouverpathfinders.ca/event/snow-camp-at-mount-seymour-provincial-park/
LOCATION:Mount Seymour Provincial Park Group Campsite\, North Vancouver\, British Columbia\, Canada
CATEGORIES:Camp
END:VEVENT
BEGIN:VEVENT
DTSTART;TZID=America/Vancouver:20150107T183000
DTEND;TZID=America/Vancouver:20150107T193000
DTSTAMP:20260421T035058
CREATED:20141127T191616Z
LAST-MODIFIED:20141127T191616Z
UID:165-1420655400-1420659000@9thvancouverpathfinders.ca
SUMMARY:Snow Camp Planning
DESCRIPTION:There will be no regular Pathfinder meeting this evening. \nThis meeting is for the five Pathfinders attending Snow Camp in January (IA\, RP\, AT\, MBC\, and CB). \nDuring this hour\, we will be packing and preparing our camp menu items\, distributing camping gear\, and reviewing any outstanding questions in preparation for Friday’s camp at Mount Seymour. \nPlease bring your $30 for camp food to this meeting. \n 
URL:https://9thvancouverpathfinders.ca/event/snow-camp-planning-2/
LOCATION:St. Thomas Anglican\, 2444 East 41st Ave.\, Vancouver\, BC\, Canada
CATEGORIES:Camp
END:VEVENT
BEGIN:VEVENT
DTSTART;TZID=America/Vancouver:20141203T173000
DTEND;TZID=America/Vancouver:20141203T183000
DTSTAMP:20260421T035058
CREATED:20141127T191202Z
LAST-MODIFIED:20141127T191202Z
UID:164-1417627800-1417631400@9thvancouverpathfinders.ca
SUMMARY:Snow Camp Planning
DESCRIPTION:This meeting is for the 5 Pathfinders attending Snow Camp in January (IA\, AT\, RP\, MBC\, and CB). \nDuring this hour\, we will be planning our camp menu and shopping list\, reviewing the Snow Camp Kit List (available for download on the forms page) and assembling a list of items we will borrow from the Southridge District and West Coast Area.
URL:https://9thvancouverpathfinders.ca/event/snow-camp-planning/
LOCATION:St. Thomas Anglican\, 2444 East 41st Ave.\, Vancouver\, BC\, Canada
CATEGORIES:Camp
END:VEVENT
BEGIN:VEVENT
DTSTART;TZID=America/Vancouver:20141003T180000
DTEND;TZID=America/Vancouver:20141004T120000
DTSTAMP:20260421T035058
CREATED:20140825T203056Z
LAST-MODIFIED:20140928T031347Z
UID:38-1412359200-1412424000@9thvancouverpathfinders.ca
SUMMARY:Fall Sleepover
DESCRIPTION:Let’s start the year off with a get-to-know-you sleepover.  The theme is “Red Carpet”\, so bring a glamorous outfit to put on and we will have a fashion show after dinner!
URL:https://9thvancouverpathfinders.ca/event/fall-sleepover/
LOCATION:Richmond Guide House\, 4780 Blundell Road\, Richmond\, BC\, V7C 1G9\, Canada
CATEGORIES:Camp
END:VEVENT
END:VCALENDAR